{"text_format":"1","workbook":"xlsx","n_sheets":5,"sheets":["ввод","расчет","мощность","цены","округл"],"not_rendered":{"charts":0,"images":0,"macros":1,"external_links":2,"defined_names":2,"comments":0,"pivot_tables":0},"unopened":[],"bounds":{"document_bytes":16777216,"sheet_cells":100000,"rows_first":2000,"rows_last":500,"rows_between":2000,"halvings":0,"cell_chars":16384,"cell_head_chars":4096},"cells_cut":0,"cells_raw":0,"read":"whole","date_system":"1900"}

{"sheet":"ввод","index":0,"n_rows":36,"n_cols":26,"rows_kept":36,"cut":false,"hidden":false,"merged":[[2,0,3,0],[2,1,2,24],[2,25,3,25]]}
["PTVERENE","1. Вставить почасовой профиль электроэнергии в закрашенные ячейки "]
[{"$f":"мощность!B1","v":"июль"},"2. Перейти в лист \"Расчёт\""]
["Дата\\Часы","Фактический почасовой объем  электрической энергии, кВтч",null,null,null,null,null,null,null,null,null,null,null,null,null,null,null,null,null,null,null,null,null,null,null,"Итого"]
[null,1,2,3,4,5,6,7,8,9,10,11,12,13,14,15,16,17,18,19,20,21,22,23,24]
[{"$f":"мощность!AA4","v":"01.07.2025"},null,null,null,null,null,null,null,null,null,null,null,null,null,null,null,null,null,null,null,null,null,null,null,null,{"$f":"SUM(B5:Y5)","v":0}]
[{"$f":"мощность!AA5","v":"02.07.2025"},null,null,null,null,null,null,null,null,null,null,null,null,null,null,null,null,null,null,null,null,null,null,null,null,{"$f":"SUM(B6:Y6)","v":0}]
[{"$f":"мощность!AA6","v":"03.07.2025"},null,null,null,null,null,null,null,null,null,null,null,null,null,null,null,null,null,null,null,null,null,null,null,null,0]
[{"$f":"мощность!AA7","v":"04.07.2025"},null,null,null,null,null,null,null,null,null,null,null,null,null,null,null,null,null,null,null,null,null,null,null,null,0]
[{"$f":"мощность!AA8","v":"05.07.2025"},null,null,null,null,null,null,null,null,null,null,null,null,null,null,null,null,null,null,null,null,null,null,null,null,0]
[{"$f":"мощность!AA9","v":"06.07.2025"},null,null,null,null,null,null,null,null,null,null,null,null,null,null,null,null,null,null,null,null,null,null,null,null,0]
[{"$f":"мощность!AA10","v":"07.07.2025"},null,null,null,null,null,null,null,null,null,null,null,null,null,null,null,null,null,null,null,null,null,null,null,null,0]
[{"$f":"мощность!AA11","v":"08.07.2025"},null,null,null,null,null,null,null,null,null,null,null,null,null,null,null,null,null,null,null,null,null,null,null,null,0]
[{"$f":"мощность!AA12","v":"09.07.2025"},null,null,null,null,null,null,null,null,null,null,null,null,null,null,null,null,null,null,null,null,null,null,null,null,0]
[{"$f":"мощность!AA13","v":"10.07.2025"},null,null,null,null,null,null,null,null,null,null,null,null,null,null,null,null,null,null,null,null,null,null,null,null,0]
[{"$f":"мощность!AA14","v":"11.07.2025"},null,null,null,null,null,null,null,null,null,null,null,null,null,null,null,null,null,null,null,null,null,null,null,null,0]
[{"$f":"мощность!AA15","v":"12.07.2025"},null,null,null,null,null,null,null,null,null,null,null,null,null,null,null,null,null,null,null,null,null,null,null,null,0]
[{"$f":"мощность!AA16","v":"13.07.2025"},null,null,null,null,null,null,null,null,null,null,null,null,null,null,null,null,null,null,null,null,null,null,null,null,0]
[{"$f":"мощность!AA17","v":"14.07.2025"},null,null,null,null,null,null,null,null,null,null,null,null,null,null,null,null,null,null,null,null,null,null,null,null,0]
[{"$f":"мощность!AA18","v":"15.07.2025"},null,null,null,null,null,null,null,null,null,null,null,null,null,null,null,null,null,null,null,null,null,null,null,null,0]
[{"$f":"мощность!AA19","v":"16.07.2025"},null,null,null,null,null,null,null,null,null,null,null,null,null,null,null,null,null,null,null,null,null,null,null,null,0]
[{"$f":"мощность!AA20","v":"17.07.2025"},null,null,null,null,null,null,null,null,null,null,null,null,null,null,null,null,null,null,null,null,null,null,null,null,0]
[{"$f":"мощность!AA21","v":"18.07.2025"},null,null,null,null,null,null,null,null,null,null,null,null,null,null,null,null,null,null,null,null,null,null,null,null,0]
[{"$f":"мощность!AA22","v":"19.07.2025"},null,null,null,null,null,null,null,null,null,null,null,null,null,null,null,null,null,null,null,null,null,null,null,null,0]
[{"$f":"мощность!AA23","v":"20.07.2025"},null,null,null,null,null,null,null,null,null,null,null,null,null,null,null,null,null,null,null,null,null,null,null,null,0]
[{"$f":"мощность!AA24","v":"21.07.2025"},null,null,null,null,null,null,null,null,null,null,null,null,null,null,null,null,null,null,null,null,null,null,null,null,0]
[{"$f":"мощность!AA25","v":"22.07.2025"},null,null,null,null,null,null,null,null,null,null,null,null,null,null,null,null,null,null,null,null,null,null,null,null,0]
[{"$f":"мощность!AA26","v":"23.07.2025"},null,null,null,null,null,null,null,null,null,null,null,null,null,null,null,null,null,null,null,null,null,null,null,null,0]
[{"$f":"мощность!AA27","v":"24.07.2025"},null,null,null,null,null,null,null,null,null,null,null,null,null,null,null,null,null,null,null,null,null,null,null,null,0]
[{"$f":"мощность!AA28","v":"25.07.2025"},null,null,null,null,null,null,null,null,null,null,null,null,null,null,null,null,null,null,null,null,null,null,null,null,0]
[{"$f":"мощность!AA29","v":"26.07.2025"},null,null,null,null,null,null,null,null,null,null,null,null,null,null,null,null,null,null,null,null,null,null,null,null,0]
[{"$f":"мощность!AA30","v":"27.07.2025"},null,null,null,null,null,null,null,null,null,null,null,null,null,null,null,null,null,null,null,null,null,null,null,null,0]
[{"$f":"мощность!AA31","v":"28.07.2025"},null,null,null,null,null,null,null,null,null,null,null,null,null,null,null,null,null,null,null,null,null,null,null,null,0]
[{"$f":"мощность!AA32","v":"29.07.2025"},null,null,null,null,null,null,null,null,null,null,null,null,null,null,null,null,null,null,null,null,null,null,null,null,0]
[{"$f":"мощность!AA33","v":"30.07.2025"},null,null,null,null,null,null,null,null,null,null,null,null,null,null,null,null,null,null,null,null,null,null,null,null,0]
[{"$f":"мощность!AA34","v":"31.07.2025"},null,null,null,null,null,null,null,null,null,null,null,null,null,null,null,null,null,null,null,null,null,null,null,null,0]
["ИТОГО",{"$f":"SUM(B5:B35)","v":0},{"$f":"SUM(C5:C35)","v":0},0,0,0,0,0,0,0,0,0,0,0,0,0,0,0,0,0,0,0,{"$f":"SUM(W5:W35)","v":0},0,0,{"$f":"SUM(Z5:Z35)","v":0}]

{"sheet":"расчет","index":1,"n_rows":42,"n_cols":26,"rows_kept":42,"cut":false,"hidden":false,"merged":[[2,0,2,25],[37,0,37,5]]}
["Расчёт объемов и стоимости электроэнергии (мощности) выполнен за",null,null,null,null,null,{"$f":"ввод!A2","v":"июль"}]
[]
["1. Сформирован округленный фактический почасовой объем  электрической энергии, кВтч"]
["Дата\\Часы",1,2,3,4,5,6,7,8,9,10,11,12,13,14,15,16,17,18,19,20,21,22,23,24,"Итого"]
[{"$f":"мощность!AA4","v":"01.07.2025"},{"$f":"мощность!B4","v":0},{"$f":"мощность!C4","v":0},{"$f":"мощность!D4","v":0},{"$f":"мощность!E4","v":0},{"$f":"мощность!F4","v":0},{"$f":"мощность!G4","v":0},{"$f":"мощность!H4","v":0},{"$f":"мощность!I4","v":0},{"$f":"мощность!J4","v":0},{"$f":"мощность!K4","v":0},{"$f":"мощность!L4","v":0},{"$f":"мощность!M4","v":0},{"$f":"мощность!N4","v":0},{"$f":"мощность!O4","v":0},{"$f":"мощность!P4","v":0},{"$f":"мощность!Q4","v":0},{"$f":"мощность!R4","v":0},{"$f":"мощность!S4","v":0},{"$f":"мощность!T4","v":0},{"$f":"мощность!U4","v":0},{"$f":"мощность!V4","v":0},{"$f":"мощность!W4","v":0},{"$f":"мощность!X4","v":0},{"$f":"мощность!Y4","v":0},{"$f":"SUM(B5:Y5)","v":0}]
[{"$f":"мощность!AA5","v":"02.07.2025"},{"$f":"мощность!B5","v":0},{"$f":"мощность!C5","v":0},{"$f":"мощность!D5","v":0},{"$f":"мощность!E5","v":0},{"$f":"мощность!F5","v":0},{"$f":"мощность!G5","v":0},{"$f":"мощность!H5","v":0},{"$f":"мощность!I5","v":0},{"$f":"мощность!J5","v":0},{"$f":"мощность!K5","v":0},{"$f":"мощность!L5","v":0},{"$f":"мощность!M5","v":0},{"$f":"мощность!N5","v":0},{"$f":"мощность!O5","v":0},{"$f":"мощность!P5","v":0},{"$f":"мощность!Q5","v":0},{"$f":"мощность!R5","v":0},{"$f":"мощность!S5","v":0},{"$f":"мощность!T5","v":0},{"$f":"мощность!U5","v":0},{"$f":"мощность!V5","v":0},{"$f":"мощность!W5","v":0},{"$f":"мощность!X5","v":0},{"$f":"мощность!Y5","v":0},{"$f":"SUM(B6:Y6)","v":0}]
[{"$f":"мощность!AA6","v":"03.07.2025"},{"$f":"мощность!B6","v":0},{"$f":"мощность!C6","v":0},{"$f":"мощность!D6","v":0},{"$f":"мощность!E6","v":0},{"$f":"мощность!F6","v":0},{"$f":"мощность!G6","v":0},{"$f":"мощность!H6","v":0},{"$f":"мощность!I6","v":0},{"$f":"мощность!J6","v":0},{"$f":"мощность!K6","v":0},{"$f":"мощность!L6","v":0},{"$f":"мощность!M6","v":0},{"$f":"мощность!N6","v":0},{"$f":"мощность!O6","v":0},{"$f":"мощность!P6","v":0},{"$f":"мощность!Q6","v":0},{"$f":"мощность!R6","v":0},{"$f":"мощность!S6","v":0},{"$f":"мощность!T6","v":0},{"$f":"мощность!U6","v":0},{"$f":"мощность!V6","v":0},{"$f":"мощность!W6","v":0},{"$f":"мощность!X6","v":0},{"$f":"мощность!Y6","v":0},0]
[{"$f":"мощность!AA7","v":"04.07.2025"},{"$f":"мощность!B7","v":0},{"$f":"мощность!C7","v":0},{"$f":"мощность!D7","v":0},{"$f":"мощность!E7","v":0},{"$f":"мощность!F7","v":0},{"$f":"мощность!G7","v":0},{"$f":"мощность!H7","v":0},{"$f":"мощность!I7","v":0},{"$f":"мощность!J7","v":0},{"$f":"мощность!K7","v":0},{"$f":"мощность!L7","v":0},{"$f":"мощность!M7","v":0},{"$f":"мощность!N7","v":0},{"$f":"мощность!O7","v":0},{"$f":"мощность!P7","v":0},{"$f":"мощность!Q7","v":0},{"$f":"мощность!R7","v":0},{"$f":"мощность!S7","v":0},{"$f":"мощность!T7","v":0},{"$f":"мощность!U7","v":0},{"$f":"мощность!V7","v":0},{"$f":"мощность!W7","v":0},{"$f":"мощность!X7","v":0},{"$f":"мощность!Y7","v":0},0]
[{"$f":"мощность!AA8","v":"05.07.2025"},{"$f":"мощность!B8","v":0},{"$f":"мощность!C8","v":0},{"$f":"мощность!D8","v":0},{"$f":"мощность!E8","v":0},{"$f":"мощность!F8","v":0},{"$f":"мощность!G8","v":0},{"$f":"мощность!H8","v":0},{"$f":"мощность!I8","v":0},{"$f":"мощность!J8","v":0},{"$f":"мощность!K8","v":0},{"$f":"мощность!L8","v":0},{"$f":"мощность!M8","v":0},{"$f":"мощность!N8","v":0},{"$f":"мощность!O8","v":0},{"$f":"мощность!P8","v":0},{"$f":"мощность!Q8","v":0},{"$f":"мощность!R8","v":0},{"$f":"мощность!S8","v":0},{"$f":"мощность!T8","v":0},{"$f":"мощность!U8","v":0},{"$f":"мощность!V8","v":0},{"$f":"мощность!W8","v":0},{"$f":"мощность!X8","v":0},{"$f":"мощность!Y8","v":0},0]
[{"$f":"мощность!AA9","v":"06.07.2025"},{"$f":"мощность!B9","v":0},{"$f":"мощность!C9","v":0},{"$f":"мощность!D9","v":0},{"$f":"мощность!E9","v":0},{"$f":"мощность!F9","v":0},{"$f":"мощность!G9","v":0},{"$f":"мощность!H9","v":0},{"$f":"мощность!I9","v":0},{"$f":"мощность!J9","v":0},{"$f":"мощность!K9","v":0},{"$f":"мощность!L9","v":0},{"$f":"мощность!M9","v":0},{"$f":"мощность!N9","v":0},{"$f":"мощность!O9","v":0},{"$f":"мощность!P9","v":0},{"$f":"мощность!Q9","v":0},{"$f":"мощность!R9","v":0},{"$f":"мощность!S9","v":0},{"$f":"мощность!T9","v":0},{"$f":"мощность!U9","v":0},{"$f":"мощность!V9","v":0},{"$f":"мощность!W9","v":0},{"$f":"мощность!X9","v":0},{"$f":"мощность!Y9","v":0},0]
[{"$f":"мощность!AA10","v":"07.07.2025"},{"$f":"мощность!B10","v":0},{"$f":"мощность!C10","v":0},{"$f":"мощность!D10","v":0},{"$f":"мощность!E10","v":0},{"$f":"мощность!F10","v":0},{"$f":"мощность!G10","v":0},{"$f":"мощность!H10","v":0},{"$f":"мощность!I10","v":0},{"$f":"мощность!J10","v":0},{"$f":"мощность!K10","v":0},{"$f":"мощность!L10","v":0},{"$f":"мощность!M10","v":0},{"$f":"мощность!N10","v":0},{"$f":"мощность!O10","v":0},{"$f":"мощность!P10","v":0},{"$f":"мощность!Q10","v":0},{"$f":"мощность!R10","v":0},{"$f":"мощность!S10","v":0},{"$f":"мощность!T10","v":0},{"$f":"мощность!U10","v":0},{"$f":"мощность!V10","v":0},{"$f":"мощность!W10","v":0},{"$f":"мощность!X10","v":0},{"$f":"мощность!Y10","v":0},0]
[{"$f":"мощность!AA11","v":"08.07.2025"},{"$f":"мощность!B11","v":0},{"$f":"мощность!C11","v":0},{"$f":"мощность!D11","v":0},{"$f":"мощность!E11","v":0},{"$f":"мощность!F11","v":0},{"$f":"мощность!G11","v":0},{"$f":"мощность!H11","v":0},{"$f":"мощность!I11","v":0},{"$f":"мощность!J11","v":0},{"$f":"мощность!K11","v":0},{"$f":"мощность!L11","v":0},{"$f":"мощность!M11","v":0},{"$f":"мощность!N11","v":0},{"$f":"мощность!O11","v":0},{"$f":"мощность!P11","v":0},{"$f":"мощность!Q11","v":0},{"$f":"мощность!R11","v":0},{"$f":"мощность!S11","v":0},{"$f":"мощность!T11","v":0},{"$f":"мощность!U11","v":0},{"$f":"мощность!V11","v":0},{"$f":"мощность!W11","v":0},{"$f":"мощность!X11","v":0},{"$f":"мощность!Y11","v":0},0]
[{"$f":"мощность!AA12","v":"09.07.2025"},{"$f":"мощность!B12","v":0},{"$f":"мощность!C12","v":0},{"$f":"мощность!D12","v":0},{"$f":"мощность!E12","v":0},{"$f":"мощность!F12","v":0},{"$f":"мощность!G12","v":0},{"$f":"мощность!H12","v":0},{"$f":"мощность!I12","v":0},{"$f":"мощность!J12","v":0},{"$f":"мощность!K12","v":0},{"$f":"мощность!L12","v":0},{"$f":"мощность!M12","v":0},{"$f":"мощность!N12","v":0},{"$f":"мощность!O12","v":0},{"$f":"мощность!P12","v":0},{"$f":"мощность!Q12","v":0},{"$f":"мощность!R12","v":0},{"$f":"мощность!S12","v":0},{"$f":"мощность!T12","v":0},{"$f":"мощность!U12","v":0},{"$f":"мощность!V12","v":0},{"$f":"мощность!W12","v":0},{"$f":"мощность!X12","v":0},{"$f":"мощность!Y12","v":0},0]
[{"$f":"мощность!AA13","v":"10.07.2025"},{"$f":"мощность!B13","v":0},{"$f":"мощность!C13","v":0},{"$f":"мощность!D13","v":0},{"$f":"мощность!E13","v":0},{"$f":"мощность!F13","v":0},{"$f":"мощность!G13","v":0},{"$f":"мощность!H13","v":0},{"$f":"мощность!I13","v":0},{"$f":"мощность!J13","v":0},{"$f":"мощность!K13","v":0},{"$f":"мощность!L13","v":0},{"$f":"мощность!M13","v":0},{"$f":"мощность!N13","v":0},{"$f":"мощность!O13","v":0},{"$f":"мощность!P13","v":0},{"$f":"мощность!Q13","v":0},{"$f":"мощность!R13","v":0},{"$f":"мощность!S13","v":0},{"$f":"мощность!T13","v":0},{"$f":"мощность!U13","v":0},{"$f":"мощность!V13","v":0},{"$f":"мощность!W13","v":0},{"$f":"мощность!X13","v":0},{"$f":"мощность!Y13","v":0},0]
[{"$f":"мощность!AA14","v":"11.07.2025"},{"$f":"мощность!B14","v":0},{"$f":"мощность!C14","v":0},{"$f":"мощность!D14","v":0},{"$f":"мощность!E14","v":0},{"$f":"мощность!F14","v":0},{"$f":"мощность!G14","v":0},{"$f":"мощность!H14","v":0},{"$f":"мощность!I14","v":0},{"$f":"мощность!J14","v":0},{"$f":"мощность!K14","v":0},{"$f":"мощность!L14","v":0},{"$f":"мощность!M14","v":0},{"$f":"мощность!N14","v":0},{"$f":"мощность!O14","v":0},{"$f":"мощность!P14","v":0},{"$f":"мощность!Q14","v":0},{"$f":"мощность!R14","v":0},{"$f":"мощность!S14","v":0},{"$f":"мощность!T14","v":0},{"$f":"мощность!U14","v":0},{"$f":"мощность!V14","v":0},{"$f":"мощность!W14","v":0},{"$f":"мощность!X14","v":0},{"$f":"мощность!Y14","v":0},0]
[{"$f":"мощность!AA15","v":"12.07.2025"},{"$f":"мощность!B15","v":0},{"$f":"мощность!C15","v":0},{"$f":"мощность!D15","v":0},{"$f":"мощность!E15","v":0},{"$f":"мощность!F15","v":0},{"$f":"мощность!G15","v":0},{"$f":"мощность!H15","v":0},{"$f":"мощность!I15","v":0},{"$f":"мощность!J15","v":0},{"$f":"мощность!K15","v":0},{"$f":"мощность!L15","v":0},{"$f":"мощность!M15","v":0},{"$f":"мощность!N15","v":0},{"$f":"мощность!O15","v":0},{"$f":"мощность!P15","v":0},{"$f":"мощность!Q15","v":0},{"$f":"мощность!R15","v":0},{"$f":"мощность!S15","v":0},{"$f":"мощность!T15","v":0},{"$f":"мощность!U15","v":0},{"$f":"мощность!V15","v":0},{"$f":"мощность!W15","v":0},{"$f":"мощность!X15","v":0},{"$f":"мощность!Y15","v":0},0]
[{"$f":"мощность!AA16","v":"13.07.2025"},{"$f":"мощность!B16","v":0},{"$f":"мощность!C16","v":0},{"$f":"мощность!D16","v":0},{"$f":"мощность!E16","v":0},{"$f":"мощность!F16","v":0},{"$f":"мощность!G16","v":0},{"$f":"мощность!H16","v":0},{"$f":"мощность!I16","v":0},{"$f":"мощность!J16","v":0},{"$f":"мощность!K16","v":0},{"$f":"мощность!L16","v":0},{"$f":"мощность!M16","v":0},{"$f":"мощность!N16","v":0},{"$f":"мощность!O16","v":0},{"$f":"мощность!P16","v":0},{"$f":"мощность!Q16","v":0},{"$f":"мощность!R16","v":0},{"$f":"мощность!S16","v":0},{"$f":"мощность!T16","v":0},{"$f":"мощность!U16","v":0},{"$f":"мощность!V16","v":0},{"$f":"мощность!W16","v":0},{"$f":"мощность!X16","v":0},{"$f":"мощность!Y16","v":0},0]
[{"$f":"мощность!AA17","v":"14.07.2025"},{"$f":"мощность!B17","v":0},{"$f":"мощность!C17","v":0},{"$f":"мощность!D17","v":0},{"$f":"мощность!E17","v":0},{"$f":"мощность!F17","v":0},{"$f":"мощность!G17","v":0},{"$f":"мощность!H17","v":0},{"$f":"мощность!I17","v":0},{"$f":"мощность!J17","v":0},{"$f":"мощность!K17","v":0},{"$f":"мощность!L17","v":0},{"$f":"мощность!M17","v":0},{"$f":"мощность!N17","v":0},{"$f":"мощность!O17","v":0},{"$f":"мощность!P17","v":0},{"$f":"мощность!Q17","v":0},{"$f":"мощность!R17","v":0},{"$f":"мощность!S17","v":0},{"$f":"мощность!T17","v":0},{"$f":"мощность!U17","v":0},{"$f":"мощность!V17","v":0},{"$f":"мощность!W17","v":0},{"$f":"мощность!X17","v":0},{"$f":"мощность!Y17","v":0},0]
[{"$f":"мощность!AA18","v":"15.07.2025"},{"$f":"мощность!B18","v":0},{"$f":"мощность!C18","v":0},{"$f":"мощность!D18","v":0},{"$f":"мощность!E18","v":0},{"$f":"мощность!F18","v":0},{"$f":"мощность!G18","v":0},{"$f":"мощность!H18","v":0},{"$f":"мощность!I18","v":0},{"$f":"мощность!J18","v":0},{"$f":"мощность!K18","v":0},{"$f":"мощность!L18","v":0},{"$f":"мощность!M18","v":0},{"$f":"мощность!N18","v":0},{"$f":"мощность!O18","v":0},{"$f":"мощность!P18","v":0},{"$f":"мощность!Q18","v":0},{"$f":"мощность!R18","v":0},{"$f":"мощность!S18","v":0},{"$f":"мощность!T18","v":0},{"$f":"мощность!U18","v":0},{"$f":"мощность!V18","v":0},{"$f":"мощность!W18","v":0},{"$f":"мощность!X18","v":0},{"$f":"мощность!Y18","v":0},0]
[{"$f":"мощность!AA19","v":"16.07.2025"},{"$f":"мощность!B19","v":0},{"$f":"мощность!C19","v":0},{"$f":"мощность!D19","v":0},{"$f":"мощность!E19","v":0},{"$f":"мощность!F19","v":0},{"$f":"мощность!G19","v":0},{"$f":"мощность!H19","v":0},{"$f":"мощность!I19","v":0},{"$f":"мощность!J19","v":0},{"$f":"мощность!K19","v":0},{"$f":"мощность!L19","v":0},{"$f":"мощность!M19","v":0},{"$f":"мощность!N19","v":0},{"$f":"мощность!O19","v":0},{"$f":"мощность!P19","v":0},{"$f":"мощность!Q19","v":0},{"$f":"мощность!R19","v":0},{"$f":"мощность!S19","v":0},{"$f":"мощность!T19","v":0},{"$f":"мощность!U19","v":0},{"$f":"мощность!V19","v":0},{"$f":"мощность!W19","v":0},{"$f":"мощность!X19","v":0},{"$f":"мощность!Y19","v":0},0]
[{"$f":"мощность!AA20","v":"17.07.2025"},{"$f":"мощность!B20","v":0},{"$f":"мощность!C20","v":0},{"$f":"мощность!D20","v":0},{"$f":"мощность!E20","v":0},{"$f":"мощность!F20","v":0},{"$f":"мощность!G20","v":0},{"$f":"мощность!H20","v":0},{"$f":"мощность!I20","v":0},{"$f":"мощность!J20","v":0},{"$f":"мощность!K20","v":0},{"$f":"мощность!L20","v":0},{"$f":"мощность!M20","v":0},{"$f":"мощность!N20","v":0},{"$f":"мощность!O20","v":0},{"$f":"мощность!P20","v":0},{"$f":"мощность!Q20","v":0},{"$f":"мощность!R20","v":0},{"$f":"мощность!S20","v":0},{"$f":"мощность!T20","v":0},{"$f":"мощность!U20","v":0},{"$f":"мощность!V20","v":0},{"$f":"мощность!W20","v":0},{"$f":"мощность!X20","v":0},{"$f":"мощность!Y20","v":0},0]
[{"$f":"мощность!AA21","v":"18.07.2025"},{"$f":"мощность!B21","v":0},{"$f":"мощность!C21","v":0},{"$f":"мощность!D21","v":0},{"$f":"мощность!E21","v":0},{"$f":"мощность!F21","v":0},{"$f":"мощность!G21","v":0},{"$f":"мощность!H21","v":0},{"$f":"мощность!I21","v":0},{"$f":"мощность!J21","v":0},{"$f":"мощность!K21","v":0},{"$f":"мощность!L21","v":0},{"$f":"мощность!M21","v":0},{"$f":"мощность!N21","v":0},{"$f":"мощность!O21","v":0},{"$f":"мощность!P21","v":0},{"$f":"мощность!Q21","v":0},{"$f":"мощность!R21","v":0},{"$f":"мощность!S21","v":0},{"$f":"мощность!T21","v":0},{"$f":"мощность!U21","v":0},{"$f":"мощность!V21","v":0},{"$f":"мощность!W21","v":0},{"$f":"мощность!X21","v":0},{"$f":"мощность!Y21","v":0},0]
[{"$f":"мощность!AA22","v":"19.07.2025"},{"$f":"мощность!B22","v":0},{"$f":"мощность!C22","v":0},{"$f":"мощность!D22","v":0},{"$f":"мощность!E22","v":0},{"$f":"мощность!F22","v":0},{"$f":"мощность!G22","v":0},{"$f":"мощность!H22","v":0},{"$f":"мощность!I22","v":0},{"$f":"мощность!J22","v":0},{"$f":"мощность!K22","v":0},{"$f":"мощность!L22","v":0},{"$f":"мощность!M22","v":0},{"$f":"мощность!N22","v":0},{"$f":"мощность!O22","v":0},{"$f":"мощность!P22","v":0},{"$f":"мощность!Q22","v":0},{"$f":"мощность!R22","v":0},{"$f":"мощность!S22","v":0},{"$f":"мощность!T22","v":0},{"$f":"мощность!U22","v":0},{"$f":"мощность!V22","v":0},{"$f":"мощность!W22","v":0},{"$f":"мощность!X22","v":0},{"$f":"мощность!Y22","v":0},0]
[{"$f":"мощность!AA23","v":"20.07.2025"},{"$f":"мощность!B23","v":0},{"$f":"мощность!C23","v":0},{"$f":"мощность!D23","v":0},{"$f":"мощность!E23","v":0},{"$f":"мощность!F23","v":0},{"$f":"мощность!G23","v":0},{"$f":"мощность!H23","v":0},{"$f":"мощность!I23","v":0},{"$f":"мощность!J23","v":0},{"$f":"мощность!K23","v":0},{"$f":"мощность!L23","v":0},{"$f":"мощность!M23","v":0},{"$f":"мощность!N23","v":0},{"$f":"мощность!O23","v":0},{"$f":"мощность!P23","v":0},{"$f":"мощность!Q23","v":0},{"$f":"мощность!R23","v":0},{"$f":"мощность!S23","v":0},{"$f":"мощность!T23","v":0},{"$f":"мощность!U23","v":0},{"$f":"мощность!V23","v":0},{"$f":"мощность!W23","v":0},{"$f":"мощность!X23","v":0},{"$f":"мощность!Y23","v":0},0]
[{"$f":"мощность!AA24","v":"21.07.2025"},{"$f":"мощность!B24","v":0},{"$f":"мощность!C24","v":0},{"$f":"мощность!D24","v":0},{"$f":"мощность!E24","v":0},{"$f":"мощность!F24","v":0},{"$f":"мощность!G24","v":0},{"$f":"мощность!H24","v":0},{"$f":"мощность!I24","v":0},{"$f":"мощность!J24","v":0},{"$f":"мощность!K24","v":0},{"$f":"мощность!L24","v":0},{"$f":"мощность!M24","v":0},{"$f":"мощность!N24","v":0},{"$f":"мощность!O24","v":0},{"$f":"мощность!P24","v":0},{"$f":"мощность!Q24","v":0},{"$f":"мощность!R24","v":0},{"$f":"мощность!S24","v":0},{"$f":"мощность!T24","v":0},{"$f":"мощность!U24","v":0},{"$f":"мощность!V24","v":0},{"$f":"мощность!W24","v":0},{"$f":"мощность!X24","v":0},{"$f":"мощность!Y24","v":0},0]
[{"$f":"мощность!AA25","v":"22.07.2025"},{"$f":"мощность!B25","v":0},{"$f":"мощность!C25","v":0},{"$f":"мощность!D25","v":0},{"$f":"мощность!E25","v":0},{"$f":"мощность!F25","v":0},{"$f":"мощность!G25","v":0},{"$f":"мощность!H25","v":0},{"$f":"мощность!I25","v":0},{"$f":"мощность!J25","v":0},{"$f":"мощность!K25","v":0},{"$f":"мощность!L25","v":0},{"$f":"мощность!M25","v":0},{"$f":"мощность!N25","v":0},{"$f":"мощность!O25","v":0},{"$f":"мощность!P25","v":0},{"$f":"мощность!Q25","v":0},{"$f":"мощность!R25","v":0},{"$f":"мощность!S25","v":0},{"$f":"мощность!T25","v":0},{"$f":"мощность!U25","v":0},{"$f":"мощность!V25","v":0},{"$f":"мощность!W25","v":0},{"$f":"мощность!X25","v":0},{"$f":"мощность!Y25","v":0},0]
[{"$f":"мощность!AA26","v":"23.07.2025"},{"$f":"мощность!B26","v":0},{"$f":"мощность!C26","v":0},{"$f":"мощность!D26","v":0},{"$f":"мощность!E26","v":0},{"$f":"мощность!F26","v":0},{"$f":"мощность!G26","v":0},{"$f":"мощность!H26","v":0},{"$f":"мощность!I26","v":0},{"$f":"мощность!J26","v":0},{"$f":"мощность!K26","v":0},{"$f":"мощность!L26","v":0},{"$f":"мощность!M26","v":0},{"$f":"мощность!N26","v":0},{"$f":"мощность!O26","v":0},{"$f":"мощность!P26","v":0},{"$f":"мощность!Q26","v":0},{"$f":"мощность!R26","v":0},{"$f":"мощность!S26","v":0},{"$f":"мощность!T26","v":0},{"$f":"мощность!U26","v":0},{"$f":"мощность!V26","v":0},{"$f":"мощность!W26","v":0},{"$f":"мощность!X26","v":0},{"$f":"мощность!Y26","v":0},0]
[{"$f":"мощность!AA27","v":"24.07.2025"},{"$f":"мощность!B27","v":0},{"$f":"мощность!C27","v":0},{"$f":"мощность!D27","v":0},{"$f":"мощность!E27","v":0},{"$f":"мощность!F27","v":0},{"$f":"мощность!G27","v":0},{"$f":"мощность!H27","v":0},{"$f":"мощность!I27","v":0},{"$f":"мощность!J27","v":0},{"$f":"мощность!K27","v":0},{"$f":"мощность!L27","v":0},{"$f":"мощность!M27","v":0},{"$f":"мощность!N27","v":0},{"$f":"мощность!O27","v":0},{"$f":"мощность!P27","v":0},{"$f":"мощность!Q27","v":0},{"$f":"мощность!R27","v":0},{"$f":"мощность!S27","v":0},{"$f":"мощность!T27","v":0},{"$f":"мощность!U27","v":0},{"$f":"мощность!V27","v":0},{"$f":"мощность!W27","v":0},{"$f":"мощность!X27","v":0},{"$f":"мощность!Y27","v":0},0]
[{"$f":"мощность!AA28","v":"25.07.2025"},{"$f":"мощность!B28","v":0},{"$f":"мощность!C28","v":0},{"$f":"мощность!D28","v":0},{"$f":"мощность!E28","v":0},{"$f":"мощность!F28","v":0},{"$f":"мощность!G28","v":0},{"$f":"мощность!H28","v":0},{"$f":"мощность!I28","v":0},{"$f":"мощность!J28","v":0},{"$f":"мощность!K28","v":0},{"$f":"мощность!L28","v":0},{"$f":"мощность!M28","v":0},{"$f":"мощность!N28","v":0},{"$f":"мощность!O28","v":0},{"$f":"мощность!P28","v":0},{"$f":"мощность!Q28","v":0},{"$f":"мощность!R28","v":0},{"$f":"мощность!S28","v":0},{"$f":"мощность!T28","v":0},{"$f":"мощность!U28","v":0},{"$f":"мощность!V28","v":0},{"$f":"мощность!W28","v":0},{"$f":"мощность!X28","v":0},{"$f":"мощность!Y28","v":0},0]
[{"$f":"мощность!AA29","v":"26.07.2025"},{"$f":"мощность!B29","v":0},{"$f":"мощность!C29","v":0},{"$f":"мощность!D29","v":0},{"$f":"мощность!E29","v":0},{"$f":"мощность!F29","v":0},{"$f":"мощность!G29","v":0},{"$f":"мощность!H29","v":0},{"$f":"мощность!I29","v":0},{"$f":"мощность!J29","v":0},{"$f":"мощность!K29","v":0},{"$f":"мощность!L29","v":0},{"$f":"мощность!M29","v":0},{"$f":"мощность!N29","v":0},{"$f":"мощность!O29","v":0},{"$f":"мощность!P29","v":0},{"$f":"мощность!Q29","v":0},{"$f":"мощность!R29","v":0},{"$f":"мощность!S29","v":0},{"$f":"мощность!T29","v":0},{"$f":"мощность!U29","v":0},{"$f":"мощность!V29","v":0},{"$f":"мощность!W29","v":0},{"$f":"мощность!X29","v":0},{"$f":"мощность!Y29","v":0},0]
[{"$f":"мощность!AA30","v":"27.07.2025"},{"$f":"мощность!B30","v":0},{"$f":"мощность!C30","v":0},{"$f":"мощность!D30","v":0},{"$f":"мощность!E30","v":0},{"$f":"мощность!F30","v":0},{"$f":"мощность!G30","v":0},{"$f":"мощность!H30","v":0},{"$f":"мощность!I30","v":0},{"$f":"мощность!J30","v":0},{"$f":"мощность!K30","v":0},{"$f":"мощность!L30","v":0},{"$f":"мощность!M30","v":0},{"$f":"мощность!N30","v":0},{"$f":"мощность!O30","v":0},{"$f":"мощность!P30","v":0},{"$f":"мощность!Q30","v":0},{"$f":"мощность!R30","v":0},{"$f":"мощность!S30","v":0},{"$f":"мощность!T30","v":0},{"$f":"мощность!U30","v":0},{"$f":"мощность!V30","v":0},{"$f":"мощность!W30","v":0},{"$f":"мощность!X30","v":0},{"$f":"мощность!Y30","v":0},0]
[{"$f":"мощность!AA31","v":"28.07.2025"},{"$f":"мощность!B31","v":0},{"$f":"мощность!C31","v":0},{"$f":"мощность!D31","v":0},{"$f":"мощность!E31","v":0},{"$f":"мощность!F31","v":0},{"$f":"мощность!G31","v":0},{"$f":"мощность!H31","v":0},{"$f":"мощность!I31","v":0},{"$f":"мощность!J31","v":0},{"$f":"мощность!K31","v":0},{"$f":"мощность!L31","v":0},{"$f":"мощность!M31","v":0},{"$f":"мощность!N31","v":0},{"$f":"мощность!O31","v":0},{"$f":"мощность!P31","v":0},{"$f":"мощность!Q31","v":0},{"$f":"мощность!R31","v":0},{"$f":"мощность!S31","v":0},{"$f":"мощность!T31","v":0},{"$f":"мощность!U31","v":0},{"$f":"мощность!V31","v":0},{"$f":"мощность!W31","v":0},{"$f":"мощность!X31","v":0},{"$f":"мощность!Y31","v":0},0]
[{"$f":"мощность!AA32","v":"29.07.2025"},{"$f":"мощность!B32","v":0},{"$f":"мощность!C32","v":0},{"$f":"мощность!D32","v":0},{"$f":"мощность!E32","v":0},{"$f":"мощность!F32","v":0},{"$f":"мощность!G32","v":0},{"$f":"мощность!H32","v":0},{"$f":"мощность!I32","v":0},{"$f":"мощность!J32","v":0},{"$f":"мощность!K32","v":0},{"$f":"мощность!L32","v":0},{"$f":"мощность!M32","v":0},{"$f":"мощность!N32","v":0},{"$f":"мощность!O32","v":0},{"$f":"мощность!P32","v":0},{"$f":"мощность!Q32","v":0},{"$f":"мощность!R32","v":0},{"$f":"мощность!S32","v":0},{"$f":"мощность!T32","v":0},{"$f":"мощность!U32","v":0},{"$f":"мощность!V32","v":0},{"$f":"мощность!W32","v":0},{"$f":"мощность!X32","v":0},{"$f":"мощность!Y32","v":0},0]
[{"$f":"мощность!AA33","v":"30.07.2025"},{"$f":"мощность!B33","v":0},{"$f":"мощность!C33","v":0},{"$f":"мощность!D33","v":0},{"$f":"мощность!E33","v":0},{"$f":"мощность!F33","v":0},{"$f":"мощность!G33","v":0},{"$f":"мощность!H33","v":0},{"$f":"мощность!I33","v":0},{"$f":"мощность!J33","v":0},{"$f":"мощность!K33","v":0},{"$f":"мощность!L33","v":0},{"$f":"мощность!M33","v":0},{"$f":"мощность!N33","v":0},{"$f":"мощность!O33","v":0},{"$f":"мощность!P33","v":0},{"$f":"мощность!Q33","v":0},{"$f":"мощность!R33","v":0},{"$f":"мощность!S33","v":0},{"$f":"мощность!T33","v":0},{"$f":"мощность!U33","v":0},{"$f":"мощность!V33","v":0},{"$f":"мощность!W33","v":0},{"$f":"мощность!X33","v":0},{"$f":"мощность!Y33","v":0},0]
[{"$f":"мощность!AA34","v":"31.07.2025"},{"$f":"мощность!B34","v":0},{"$f":"мощность!C34","v":0},{"$f":"мощность!D34","v":0},{"$f":"мощность!E34","v":0},{"$f":"мощность!F34","v":0},{"$f":"мощность!G34","v":0},{"$f":"мощность!H34","v":0},{"$f":"мощность!I34","v":0},{"$f":"мощность!J34","v":0},{"$f":"мощность!K34","v":0},{"$f":"мощность!L34","v":0},{"$f":"мощность!M34","v":0},{"$f":"мощность!N34","v":0},{"$f":"мощность!O34","v":0},{"$f":"мощность!P34","v":0},{"$f":"мощность!Q34","v":0},{"$f":"мощность!R34","v":0},{"$f":"мощность!S34","v":0},{"$f":"мощность!T34","v":0},{"$f":"мощность!U34","v":0},{"$f":"мощность!V34","v":0},{"$f":"мощность!W34","v":0},{"$f":"мощность!X34","v":0},{"$f":"мощность!Y34","v":0},0]
["ИТОГО",{"$f":"SUM(B5:B35)","v":0},{"$f":"SUM(C5:C35)","v":0},0,0,0,0,0,0,0,0,0,0,0,0,0,0,0,0,0,0,0,{"$f":"SUM(W5:W35)","v":0},0,0,{"$f":"SUM(Z5:Z35)","v":0}]
[]
["2. Объем и стоиомсть электрической энергии и мощности по договорам купли-продажи электрической энергии (мощности) для розничной генерации (за исключением микрогенерации)"]
["Показатель","Объём, МВтч (МВт)","Цена руб/МВтч (МВт)","Стоимость без НДС, руб.","Стоимость с НДС, руб.","в т.ч. НДС (20%)"]
["Электроэнергия",{"$f":"цены!J749/1000","v":0},{"$f":"IF(B40=0,\"\",цены!K749)","v":""},{"$f":"IF(B40=0,\"\",цены!L749)","v":""},{"$f":"IF(B40=0,\"\",цены!M749)","v":""},{"$f":"IF(B40=0,\"\",цены!N749)","v":""}]
["Мощность",{"$f":"цены!J750/1000","v":0},{"$f":"IF(B41=0,\"\",цены!K750)","v":""},{"$f":"IF(B41=0,\"\",цены!L750)","v":""},{"$f":"IF(B41=0,\"\",цены!M750)","v":""},{"$f":"IF(B41=0,\"\",цены!N750)","v":""}]
["ИТОГО","Х",null,{"$f":"SUM(D40:D41)","v":0},{"$f":"SUM(E40:E41)","v":0},{"$f":"SUM(F40:F41)","v":0}]

{"sheet":"мощность","index":2,"n_rows":48,"n_cols":32,"rows_kept":48,"cut":false,"hidden":true,"merged":[[1,0,2,0],[1,1,1,24],[1,25,2,25],[37,16,37,21],[38,16,38,21]]}
["Месяц",{"$f":"IF(E1=1,\"январь\",IF(E1=2,\"февраль\",IF(E1=3,\"март\",IF(E1=4,\"апрель\",IF(E1=5,\"май\",IF(E1=6,\"июнь\",IF(E1=7,\"июль\",IF(E1=8,\"август\",IF(E1=9,\"сентябрь\",IF(E1=10,\"октябрь\",IF(E1=11,\"ноябрь\",IF(E1=12,\"декабрь\",0))))))))))))","v":"июль"},null,null,{"$f":"MONTH(H1)","v":7},null,null,"2025-07-01","заполнять зеленые ячейки",null,null,null,null,null,null,null,null,null,null,null,null,null,null,null,null,null,{"$f":"TODAY()","v":"2025-09-02"}]
["Дата\\Часы","Фактический почасовой объем производства  электрической энергии (мощности), кВтч",null,null,null,null,null,null,null,null,null,null,null,null,null,null,null,null,null,null,null,null,null,null,null,"Итого",null,null,"max","в"]
[null,1,2,3,4,5,6,7,8,9,10,11,12,13,14,15,16,17,18,19,20,21,22,23,24,null,null,null,"час","дата"]
[1,{"$f":"округл!$B$66","v":0},{"$f":"округл!$B$67","v":0},{"$f":"округл!$B$68","v":0},{"$f":"округл!$B$69","v":0},{"$f":"округл!$B$70","v":0},{"$f":"округл!$B$71","v":0},{"$f":"округл!$B$72","v":0},{"$f":"округл!$B$73","v":0},{"$f":"округл!$B$74","v":0},{"$f":"округл!$B$75","v":0},{"$f":"округл!$B$76","v":0},{"$f":"округл!$B$77","v":0},{"$f":"округл!$B$78","v":0},{"$f":"округл!$B$79","v":0},{"$f":"округл!$B$80","v":0},{"$f":"округл!$B$81","v":0},{"$f":"округл!$B$82","v":0},{"$f":"округл!$B$83","v":0},{"$f":"округл!$B$84","v":0},{"$f":"округл!$B$85","v":0},{"$f":"округл!$B$86","v":0},{"$f":"округл!$B$87","v":0},{"$f":"округл!$B$88","v":0},{"$f":"округл!$B$89","v":0},{"$f":"SUM(B4:Y4)","v":0},{"$f":"B43","v":"01.07.2025"},{"$f":"IF(AD4=\"выходной\",\"\",INDEX($B$4:$Y$34,A4,LOOKUP(AC4,$B$3:$Y$3)))","v":0},{"$f":"VLOOKUP(AA4,'[1]Лист 1'!$A$7:$B$60,2,0)","v":11},{"$f":"IF($B$45=\"\",$B$44,$B$45)","v":"рабочий"}]
[2,{"$f":"округл!$C$66","v":0},{"$f":"округл!$C$67","v":0},{"$f":"округл!$C$68","v":0},{"$f":"округл!$C$69","v":0},{"$f":"округл!$C$70","v":0},{"$f":"округл!$C$71","v":0},{"$f":"округл!$C$72","v":0},{"$f":"округл!$C$73","v":0},{"$f":"округл!$C$74","v":0},{"$f":"округл!$C$75","v":0},{"$f":"округл!$C$76","v":0},{"$f":"округл!$C$77","v":0},{"$f":"округл!$C$78","v":0},{"$f":"округл!$C$79","v":0},{"$f":"округл!$C$80","v":0},{"$f":"округл!$C$81","v":0},{"$f":"округл!$C$82","v":0},{"$f":"округл!$C$83","v":0},{"$f":"округл!$C$84","v":0},{"$f":"округл!$C$85","v":0},{"$f":"округл!$C$86","v":0},{"$f":"округл!$C$87","v":0},{"$f":"округл!$C$88","v":0},{"$f":"округл!$C$89","v":0},{"$f":"SUM(B5:Y5)","v":0},{"$f":"$C$43","v":"02.07.2025"},{"$f":"IF(AD5=\"выходной\",\"\",INDEX($B$4:$Y$34,A5,LOOKUP(AC5,$B$3:$Y$3)))","v":0},{"$f":"VLOOKUP(AA5,'[1]Лист 1'!$A$7:$B$60,2,0)","v":10},{"$f":"IF($C$45=\"\",$C$44,$C$45)","v":"рабочий"}]
[3,{"$f":"округл!$D$66","v":0},{"$f":"округл!$D$67","v":0},{"$f":"округл!$D$68","v":0},{"$f":"округл!$D$69","v":0},{"$f":"округл!$D$70","v":0},{"$f":"округл!$D$71","v":0},{"$f":"округл!$D$72","v":0},{"$f":"округл!$D$73","v":0},{"$f":"округл!$D$74","v":0},{"$f":"округл!$D$75","v":0},{"$f":"округл!$D$76","v":0},{"$f":"округл!$D$77","v":0},{"$f":"округл!$D$78","v":0},{"$f":"округл!$D$79","v":0},{"$f":"округл!$D$80","v":0},{"$f":"округл!$D$81","v":0},{"$f":"округл!$D$82","v":0},{"$f":"округл!$D$83","v":0},{"$f":"округл!$D$84","v":0},{"$f":"округл!$D$85","v":0},{"$f":"округл!$D$86","v":0},{"$f":"округл!$D$87","v":0},{"$f":"округл!$D$88","v":0},{"$f":"округл!$D$89","v":0},0,{"$f":"$D$43","v":"03.07.2025"},{"$f":"IF(AD6=\"выходной\",\"\",INDEX($B$4:$Y$34,A6,LOOKUP(AC6,$B$3:$Y$3)))","v":0},{"$f":"VLOOKUP(AA6,'[1]Лист 1'!$A$7:$B$60,2,0)","v":12},{"$f":"IF($D$45=\"\",$D$44,$D$45)","v":"рабочий"}]
[4,{"$f":"округл!$E$66","v":0},{"$f":"округл!$E$67","v":0},{"$f":"округл!$E$68","v":0},{"$f":"округл!$E$69","v":0},{"$f":"округл!$E$70","v":0},{"$f":"округл!$E$71","v":0},{"$f":"округл!$E$72","v":0},{"$f":"округл!$E$73","v":0},{"$f":"округл!$E$74","v":0},{"$f":"округл!$E$75","v":0},{"$f":"округл!$E$76","v":0},{"$f":"округл!$E$77","v":0},{"$f":"округл!$E$78","v":0},{"$f":"округл!$E$79","v":0},{"$f":"округл!$E$80","v":0},{"$f":"округл!$E$81","v":0},{"$f":"округл!$E$82","v":0},{"$f":"округл!$E$83","v":0},{"$f":"округл!$E$84","v":0},{"$f":"округл!$E$85","v":0},{"$f":"округл!$E$86","v":0},{"$f":"округл!$E$87","v":0},{"$f":"округл!$E$88","v":0},{"$f":"округл!$E$89","v":0},0,{"$f":"$E$43","v":"04.07.2025"},0,{"$f":"VLOOKUP(AA7,'[1]Лист 1'!$A$7:$B$60,2,0)","v":11},{"$f":"IF($E$45=\"\",$E$44,$E$45)","v":"рабочий"}]
[5,{"$f":"округл!$F$66","v":0},{"$f":"округл!$F$67","v":0},{"$f":"округл!$F$68","v":0},{"$f":"округл!$F$69","v":0},{"$f":"округл!$F$70","v":0},{"$f":"округл!$F$71","v":0},{"$f":"округл!$F$72","v":0},{"$f":"округл!$F$73","v":0},{"$f":"округл!$F$74","v":0},{"$f":"округл!$F$75","v":0},{"$f":"округл!$F$76","v":0},{"$f":"округл!$F$77","v":0},{"$f":"округл!$F$78","v":0},{"$f":"округл!$F$79","v":0},{"$f":"округл!$F$80","v":0},{"$f":"округл!$F$81","v":0},{"$f":"округл!$F$82","v":0},{"$f":"округл!$F$83","v":0},{"$f":"округл!$F$84","v":0},{"$f":"округл!$F$85","v":0},{"$f":"округл!$F$86","v":0},{"$f":"округл!$F$87","v":0},{"$f":"округл!$F$88","v":0},{"$f":"округл!$F$89","v":0},0,{"$f":"$F$43","v":"05.07.2025"},"",{"$f":"VLOOKUP(AA8,'[1]Лист 1'!$A$7:$B$60,2,0)","v":{"$error":"#N/A"}},{"$f":"IF($F$45=\"\",$F$44,$F$45)","v":"выходной"}]
[6,{"$f":"округл!$G$66","v":0},{"$f":"округл!$G$67","v":0},{"$f":"округл!$G$68","v":0},{"$f":"округл!$G$69","v":0},{"$f":"округл!$G$70","v":0},{"$f":"округл!$G$71","v":0},{"$f":"округл!$G$72","v":0},{"$f":"округл!$G$73","v":0},{"$f":"округл!$G$74","v":0},{"$f":"округл!$G$75","v":0},{"$f":"округл!$G$76","v":0},{"$f":"округл!$G$77","v":0},{"$f":"округл!$G$78","v":0},{"$f":"округл!$G$79","v":0},{"$f":"округл!$G$80","v":0},{"$f":"округл!$G$81","v":0},{"$f":"округл!$G$82","v":0},{"$f":"округл!$G$83","v":0},{"$f":"округл!$G$84","v":0},{"$f":"округл!$G$85","v":0},{"$f":"округл!$G$86","v":0},{"$f":"округл!$G$87","v":0},{"$f":"округл!$G$88","v":0},{"$f":"округл!$G$89","v":0},0,{"$f":"$G$43","v":"06.07.2025"},{"$f":"IF(AD9=\"выходной\",\"\",INDEX($B$4:$Y$34,A9,LOOKUP(AC9,$B$3:$Y$3)))","v":""},{"$f":"VLOOKUP(AA9,'[1]Лист 1'!$A$7:$B$60,2,0)","v":{"$error":"#N/A"}},{"$f":"IF($G$45=\"\",$G$44,$G$45)","v":"выходной"}]
[7,{"$f":"округл!$H$66","v":0},{"$f":"округл!$H$67","v":0},{"$f":"округл!$H$68","v":0},{"$f":"округл!$H$69","v":0},{"$f":"округл!$H$70","v":0},{"$f":"округл!$H$71","v":0},{"$f":"округл!$H$72","v":0},{"$f":"округл!$H$73","v":0},{"$f":"округл!$H$74","v":0},{"$f":"округл!$H$75","v":0},{"$f":"округл!$H$76","v":0},{"$f":"округл!$H$77","v":0},{"$f":"округл!$H$78","v":0},{"$f":"округл!$H$79","v":0},{"$f":"округл!$H$80","v":0},{"$f":"округл!$H$81","v":0},{"$f":"округл!$H$82","v":0},{"$f":"округл!$H$83","v":0},{"$f":"округл!$H$84","v":0},{"$f":"округл!$H$85","v":0},{"$f":"округл!$H$86","v":0},{"$f":"округл!$H$87","v":0},{"$f":"округл!$H$88","v":0},{"$f":"округл!$H$89","v":0},0,{"$f":"$H$43","v":"07.07.2025"},0,{"$f":"VLOOKUP(AA10,'[1]Лист 1'!$A$7:$B$60,2,0)","v":11},{"$f":"IF($H$45=\"\",$H$44,$H$45)","v":"рабочий"}]
[8,{"$f":"округл!$I$66","v":0},{"$f":"округл!$I$67","v":0},{"$f":"округл!$I$68","v":0},{"$f":"округл!$I$69","v":0},{"$f":"округл!$I$70","v":0},{"$f":"округл!$I$71","v":0},{"$f":"округл!$I$72","v":0},{"$f":"округл!$I$73","v":0},{"$f":"округл!$I$74","v":0},{"$f":"округл!$I$75","v":0},{"$f":"округл!$I$76","v":0},{"$f":"округл!$I$77","v":0},{"$f":"округл!$I$78","v":0},{"$f":"округл!$I$79","v":0},{"$f":"округл!$I$80","v":0},{"$f":"округл!$I$81","v":0},{"$f":"округл!$I$82","v":0},{"$f":"округл!$I$83","v":0},{"$f":"округл!$I$84","v":0},{"$f":"округл!$I$85","v":0},{"$f":"округл!$I$86","v":0},{"$f":"округл!$I$87","v":0},{"$f":"округл!$I$88","v":0},{"$f":"округл!$I$89","v":0},0,{"$f":"$I$43","v":"08.07.2025"},{"$f":"IF(AD11=\"выходной\",\"\",INDEX($B$4:$Y$34,A11,LOOKUP(AC11,$B$3:$Y$3)))","v":0},{"$f":"VLOOKUP(AA11,'[1]Лист 1'!$A$7:$B$60,2,0)","v":12},{"$f":"IF($I$45=\"\",$I$44,$I$45)","v":"рабочий"}]
[9,{"$f":"округл!$J$66","v":0},{"$f":"округл!$J$67","v":0},{"$f":"округл!$J$68","v":0},{"$f":"округл!$J$69","v":0},{"$f":"округл!$J$70","v":0},{"$f":"округл!$J$71","v":0},{"$f":"округл!$J$72","v":0},{"$f":"округл!$J$73","v":0},{"$f":"округл!$J$74","v":0},{"$f":"округл!$J$75","v":0},{"$f":"округл!$J$76","v":0},{"$f":"округл!$J$77","v":0},{"$f":"округл!$J$78","v":0},{"$f":"округл!$J$79","v":0},{"$f":"округл!$J$80","v":0},{"$f":"округл!$J$81","v":0},{"$f":"округл!$J$82","v":0},{"$f":"округл!$J$83","v":0},{"$f":"округл!$J$84","v":0},{"$f":"округл!$J$85","v":0},{"$f":"округл!$J$86","v":0},{"$f":"округл!$J$87","v":0},{"$f":"округл!$J$88","v":0},{"$f":"округл!$J$89","v":0},0,{"$f":"$J$43","v":"09.07.2025"},{"$f":"IF(AD12=\"выходной\",\"\",INDEX($B$4:$Y$34,A12,LOOKUP(AC12,$B$3:$Y$3)))","v":0},{"$f":"VLOOKUP(AA12,'[1]Лист 1'!$A$7:$B$60,2,0)","v":12},{"$f":"IF($J$45=\"\",$J$44,$J$45)","v":"рабочий"}]
[10,{"$f":"округл!$K$66","v":0},{"$f":"округл!$K$67","v":0},{"$f":"округл!$K$68","v":0},{"$f":"округл!$K$69","v":0},{"$f":"округл!$K$70","v":0},{"$f":"округл!$K$71","v":0},{"$f":"округл!$K$72","v":0},{"$f":"округл!$K$73","v":0},{"$f":"округл!$K$74","v":0},{"$f":"округл!$K$75","v":0},{"$f":"округл!$K$76","v":0},{"$f":"округл!$K$77","v":0},{"$f":"округл!$K$78","v":0},{"$f":"округл!$K$79","v":0},{"$f":"округл!$K$80","v":0},{"$f":"округл!$K$81","v":0},{"$f":"округл!$K$82","v":0},{"$f":"округл!$K$83","v":0},{"$f":"округл!$K$84","v":0},{"$f":"округл!$K$85","v":0},{"$f":"округл!$K$86","v":0},{"$f":"округл!$K$87","v":0},{"$f":"округл!$K$88","v":0},{"$f":"округл!$K$89","v":0},0,{"$f":"$K$43","v":"10.07.2025"},0,{"$f":"VLOOKUP(AA13,'[1]Лист 1'!$A$7:$B$60,2,0)","v":12},{"$f":"IF($K$45=\"\",$K$44,$K$45)","v":"рабочий"}]
[11,{"$f":"округл!$L$66","v":0},{"$f":"округл!$L$67","v":0},{"$f":"округл!$L$68","v":0},{"$f":"округл!$L$69","v":0},{"$f":"округл!$L$70","v":0},{"$f":"округл!$L$71","v":0},{"$f":"округл!$L$72","v":0},{"$f":"округл!$L$73","v":0},{"$f":"округл!$L$74","v":0},{"$f":"округл!$L$75","v":0},{"$f":"округл!$L$76","v":0},{"$f":"округл!$L$77","v":0},{"$f":"округл!$L$78","v":0},{"$f":"округл!$L$79","v":0},{"$f":"округл!$L$80","v":0},{"$f":"округл!$L$81","v":0},{"$f":"округл!$L$82","v":0},{"$f":"округл!$L$83","v":0},{"$f":"округл!$L$84","v":0},{"$f":"округл!$L$85","v":0},{"$f":"округл!$L$86","v":0},{"$f":"округл!$L$87","v":0},{"$f":"округл!$L$88","v":0},{"$f":"округл!$L$89","v":0},0,{"$f":"$L$43","v":"11.07.2025"},{"$f":"IF(AD14=\"выходной\",\"\",INDEX($B$4:$Y$34,A14,LOOKUP(AC14,$B$3:$Y$3)))","v":0},{"$f":"VLOOKUP(AA14,'[1]Лист 1'!$A$7:$B$60,2,0)","v":12},{"$f":"IF($L$45=\"\",$L$44,$L$45)","v":"рабочий"}]
[12,{"$f":"округл!$M$66","v":0},{"$f":"округл!$M$67","v":0},{"$f":"округл!$M$68","v":0},{"$f":"округл!$M$69","v":0},{"$f":"округл!$M$70","v":0},{"$f":"округл!$M$71","v":0},{"$f":"округл!$M$72","v":0},{"$f":"округл!$M$73","v":0},{"$f":"округл!$M$74","v":0},{"$f":"округл!$M$75","v":0},{"$f":"округл!$M$76","v":0},{"$f":"округл!$M$77","v":0},{"$f":"округл!$M$78","v":0},{"$f":"округл!$M$79","v":0},{"$f":"округл!$M$80","v":0},{"$f":"округл!$M$81","v":0},{"$f":"округл!$M$82","v":0},{"$f":"округл!$M$83","v":0},{"$f":"округл!$M$84","v":0},{"$f":"округл!$M$85","v":0},{"$f":"округл!$M$86","v":0},{"$f":"округл!$M$87","v":0},{"$f":"округл!$M$88","v":0},{"$f":"округл!$M$89","v":0},0,{"$f":"$M$43","v":"12.07.2025"},"",{"$f":"VLOOKUP(AA15,'[1]Лист 1'!$A$7:$B$60,2,0)","v":{"$error":"#N/A"}},{"$f":"IF($M$45=\"\",$M$44,$M$45)","v":"выходной"}]
[13,{"$f":"округл!$N$66","v":0},{"$f":"округл!$N$67","v":0},{"$f":"округл!$N$68","v":0},{"$f":"округл!$N$69","v":0},{"$f":"округл!$N$70","v":0},{"$f":"округл!$N$71","v":0},{"$f":"округл!$N$72","v":0},{"$f":"округл!$N$73","v":0},{"$f":"округл!$N$74","v":0},{"$f":"округл!$N$75","v":0},{"$f":"округл!$N$76","v":0},{"$f":"округл!$N$77","v":0},{"$f":"округл!$N$78","v":0},{"$f":"округл!$N$79","v":0},{"$f":"округл!$N$80","v":0},{"$f":"округл!$N$81","v":0},{"$f":"округл!$N$82","v":0},{"$f":"округл!$N$83","v":0},{"$f":"округл!$N$84","v":0},{"$f":"округл!$N$85","v":0},{"$f":"округл!$N$86","v":0},{"$f":"округл!$N$87","v":0},{"$f":"округл!$N$88","v":0},{"$f":"округл!$N$89","v":0},0,{"$f":"$N$43","v":"13.07.2025"},"",{"$f":"VLOOKUP(AA16,'[1]Лист 1'!$A$7:$B$60,2,0)","v":{"$error":"#N/A"}},{"$f":"IF($N$45=\"\",$N$44,$N$45)","v":"выходной"}]
[14,{"$f":"округл!$O$66","v":0},{"$f":"округл!$O$67","v":0},{"$f":"округл!$O$68","v":0},{"$f":"округл!$O$69","v":0},{"$f":"округл!$O$70","v":0},{"$f":"округл!$O$71","v":0},{"$f":"округл!$O$72","v":0},{"$f":"округл!$O$73","v":0},{"$f":"округл!$O$74","v":0},{"$f":"округл!$O$75","v":0},{"$f":"округл!$O$76","v":0},{"$f":"округл!$O$77","v":0},{"$f":"округл!$O$78","v":0},{"$f":"округл!$O$79","v":0},{"$f":"округл!$O$80","v":0},{"$f":"округл!$O$81","v":0},{"$f":"округл!$O$82","v":0},{"$f":"округл!$O$83","v":0},{"$f":"округл!$O$84","v":0},{"$f":"округл!$O$85","v":0},{"$f":"округл!$O$86","v":0},{"$f":"округл!$O$87","v":0},{"$f":"округл!$O$88","v":0},{"$f":"округл!$O$89","v":0},0,{"$f":"O$43","v":"14.07.2025"},0,{"$f":"VLOOKUP(AA17,'[1]Лист 1'!$A$7:$B$60,2,0)","v":12},{"$f":"IF($O$45=\"\",$O$44,$O$45)","v":"рабочий"}]
[15,{"$f":"округл!$P$66","v":0},{"$f":"округл!$P$67","v":0},{"$f":"округл!$P$68","v":0},{"$f":"округл!$P$69","v":0},{"$f":"округл!$P$70","v":0},{"$f":"округл!$P$71","v":0},{"$f":"округл!$P$72","v":0},{"$f":"округл!$P$73","v":0},{"$f":"округл!$P$74","v":0},{"$f":"округл!$P$75","v":0},{"$f":"округл!$P$76","v":0},{"$f":"округл!$P$77","v":0},{"$f":"округл!$P$78","v":0},{"$f":"округл!$P$79","v":0},{"$f":"округл!$P$80","v":0},{"$f":"округл!$P$81","v":0},{"$f":"округл!$P$82","v":0},{"$f":"округл!$P$83","v":0},{"$f":"округл!$P$84","v":0},{"$f":"округл!$P$85","v":0},{"$f":"округл!$P$86","v":0},{"$f":"округл!$P$87","v":0},{"$f":"округл!$P$88","v":0},{"$f":"округл!$P$89","v":0},0,{"$f":"$P$43","v":"15.07.2025"},0,{"$f":"VLOOKUP(AA18,'[1]Лист 1'!$A$7:$B$60,2,0)","v":11},{"$f":"IF($P$45=\"\",$P$44,$P$45)","v":"рабочий"}]
[16,{"$f":"округл!$Q$66","v":0},{"$f":"округл!$Q$67","v":0},{"$f":"округл!$Q$68","v":0},{"$f":"округл!$Q$69","v":0},{"$f":"округл!$Q$70","v":0},{"$f":"округл!$Q$71","v":0},{"$f":"округл!$Q$72","v":0},{"$f":"округл!$Q$73","v":0},{"$f":"округл!$Q$74","v":0},{"$f":"округл!$Q$75","v":0},{"$f":"округл!$Q$76","v":0},{"$f":"округл!$Q$77","v":0},{"$f":"округл!$Q$78","v":0},{"$f":"округл!$Q$79","v":0},{"$f":"округл!$Q$80","v":0},{"$f":"округл!$Q$81","v":0},{"$f":"округл!$Q$82","v":0},{"$f":"округл!$Q$83","v":0},{"$f":"округл!$Q$84","v":0},{"$f":"округл!$Q$85","v":0},{"$f":"округл!$Q$86","v":0},{"$f":"округл!$Q$87","v":0},{"$f":"округл!$Q$88","v":0},{"$f":"округл!$Q$89","v":0},0,{"$f":"$Q$43","v":"16.07.2025"},0,{"$f":"VLOOKUP(AA19,'[1]Лист 1'!$A$7:$B$60,2,0)","v":11},{"$f":"IF($Q$45=\"\",$Q$44,$Q$45)","v":"рабочий"}]
[17,{"$f":"округл!$R$66","v":0},{"$f":"округл!$R$67","v":0},{"$f":"округл!$R$68","v":0},{"$f":"округл!$R$69","v":0},{"$f":"округл!$R$70","v":0},{"$f":"округл!$R$71","v":0},{"$f":"округл!$R$72","v":0},{"$f":"округл!$R$73","v":0},{"$f":"округл!$R$74","v":0},{"$f":"округл!$R$75","v":0},{"$f":"округл!$R$76","v":0},{"$f":"округл!$R$77","v":0},{"$f":"округл!$R$78","v":0},{"$f":"округл!$R$79","v":0},{"$f":"округл!$R$80","v":0},{"$f":"округл!$R$81","v":0},{"$f":"округл!$R$82","v":0},{"$f":"округл!$R$83","v":0},{"$f":"округл!$R$84","v":0},{"$f":"округл!$R$85","v":0},{"$f":"округл!$R$86","v":0},{"$f":"округл!$R$87","v":0},{"$f":"округл!$R$88","v":0},{"$f":"округл!$R$89","v":0},0,{"$f":"$R$43","v":"17.07.2025"},0,{"$f":"VLOOKUP(AA20,'[1]Лист 1'!$A$7:$B$60,2,0)","v":12},{"$f":"IF($R$45=\"\",$R$44,$R$45)","v":"рабочий"}]
[18,{"$f":"округл!$S$66","v":0},{"$f":"округл!$S$67","v":0},{"$f":"округл!$S$68","v":0},{"$f":"округл!$S$69","v":0},{"$f":"округл!$S$70","v":0},{"$f":"округл!$S$71","v":0},{"$f":"округл!$S$72","v":0},{"$f":"округл!$S$73","v":0},{"$f":"округл!$S$74","v":0},{"$f":"округл!$S$75","v":0},{"$f":"округл!$S$76","v":0},{"$f":"округл!$S$77","v":0},{"$f":"округл!$S$78","v":0},{"$f":"округл!$S$79","v":0},{"$f":"округл!$S$80","v":0},{"$f":"округл!$S$81","v":0},{"$f":"округл!$S$82","v":0},{"$f":"округл!$S$83","v":0},{"$f":"округл!$S$84","v":0},{"$f":"округл!$S$85","v":0},{"$f":"округл!$S$86","v":0},{"$f":"округл!$S$87","v":0},{"$f":"округл!$S$88","v":0},{"$f":"округл!$S$89","v":0},0,{"$f":"$S$43","v":"18.07.2025"},0,{"$f":"VLOOKUP(AA21,'[1]Лист 1'!$A$7:$B$60,2,0)","v":12},{"$f":"IF($S$45=\"\",$S$44,$S$45)","v":"рабочий"}]
[19,{"$f":"округл!$T$66","v":0},{"$f":"округл!$T$67","v":0},{"$f":"округл!$T$68","v":0},{"$f":"округл!$T$69","v":0},{"$f":"округл!$T$70","v":0},{"$f":"округл!$T$71","v":0},{"$f":"округл!$T$72","v":0},{"$f":"округл!$T$73","v":0},{"$f":"округл!$T$74","v":0},{"$f":"округл!$T$75","v":0},{"$f":"округл!$T$76","v":0},{"$f":"округл!$T$77","v":0},{"$f":"округл!$T$78","v":0},{"$f":"округл!$T$79","v":0},{"$f":"округл!$T$80","v":0},{"$f":"округл!$T$81","v":0},{"$f":"округл!$T$82","v":0},{"$f":"округл!$T$83","v":0},{"$f":"округл!$T$84","v":0},{"$f":"округл!$T$85","v":0},{"$f":"округл!$T$86","v":0},{"$f":"округл!$T$87","v":0},{"$f":"округл!$T$88","v":0},{"$f":"округл!$T$89","v":0},0,{"$f":"$T$43","v":"19.07.2025"},"",{"$f":"VLOOKUP(AA22,'[1]Лист 1'!$A$7:$B$60,2,0)","v":{"$error":"#N/A"}},{"$f":"IF($T$45=\"\",$T$44,$T$45)","v":"выходной"}]
[20,{"$f":"округл!$U$66","v":0},{"$f":"округл!$U$67","v":0},{"$f":"округл!$U$68","v":0},{"$f":"округл!$U$69","v":0},{"$f":"округл!$U$70","v":0},{"$f":"округл!$U$71","v":0},{"$f":"округл!$U$72","v":0},{"$f":"округл!$U$73","v":0},{"$f":"округл!$U$74","v":0},{"$f":"округл!$U$75","v":0},{"$f":"округл!$U$76","v":0},{"$f":"округл!$U$77","v":0},{"$f":"округл!$U$78","v":0},{"$f":"округл!$U$79","v":0},{"$f":"округл!$U$80","v":0},{"$f":"округл!$U$81","v":0},{"$f":"округл!$U$82","v":0},{"$f":"округл!$U$83","v":0},{"$f":"округл!$U$84","v":0},{"$f":"округл!$U$85","v":0},{"$f":"округл!$U$86","v":0},{"$f":"округл!$U$87","v":0},{"$f":"округл!$U$88","v":0},{"$f":"округл!$U$89","v":0},0,{"$f":"$U$43","v":"20.07.2025"},"",{"$f":"VLOOKUP(AA23,'[1]Лист 1'!$A$7:$B$60,2,0)","v":{"$error":"#N/A"}},{"$f":"IF($U$45=\"\",$U$44,$U$45)","v":"выходной"}]
[21,{"$f":"округл!$V$66","v":0},{"$f":"округл!$V$67","v":0},{"$f":"округл!$V$68","v":0},{"$f":"округл!$V$69","v":0},{"$f":"округл!$V$70","v":0},{"$f":"округл!$V$71","v":0},{"$f":"округл!$V$72","v":0},{"$f":"округл!$V$73","v":0},{"$f":"округл!$V$74","v":0},{"$f":"округл!$V$75","v":0},{"$f":"округл!$V$76","v":0},{"$f":"округл!$V$77","v":0},{"$f":"округл!$V$78","v":0},{"$f":"округл!$V$79","v":0},{"$f":"округл!$V$80","v":0},{"$f":"округл!$V$81","v":0},{"$f":"округл!$V$82","v":0},{"$f":"округл!$V$83","v":0},{"$f":"округл!$V$84","v":0},{"$f":"округл!$V$85","v":0},{"$f":"округл!$V$86","v":0},{"$f":"округл!$V$87","v":0},{"$f":"округл!$V$88","v":0},{"$f":"округл!$V$89","v":0},0,{"$f":"$V$43","v":"21.07.2025"},0,{"$f":"VLOOKUP(AA24,'[1]Лист 1'!$A$7:$B$60,2,0)","v":11},{"$f":"IF($V$45=\"\",$V$44,$V$45)","v":"рабочий"}]
[22,{"$f":"округл!$W$66","v":0},{"$f":"округл!$W$67","v":0},{"$f":"округл!$W$68","v":0},{"$f":"округл!$W$69","v":0},{"$f":"округл!$W$70","v":0},{"$f":"округл!$W$71","v":0},{"$f":"округл!$W$72","v":0},{"$f":"округл!$W$73","v":0},{"$f":"округл!$W$74","v":0},{"$f":"округл!$W$75","v":0},{"$f":"округл!$W$76","v":0},{"$f":"округл!$W$77","v":0},{"$f":"округл!$W$78","v":0},{"$f":"округл!$W$79","v":0},{"$f":"округл!$W$80","v":0},{"$f":"округл!$W$81","v":0},{"$f":"округл!$W$82","v":0},{"$f":"округл!$W$83","v":0},{"$f":"округл!$W$84","v":0},{"$f":"округл!$W$85","v":0},{"$f":"округл!$W$86","v":0},{"$f":"округл!$W$87","v":0},{"$f":"округл!$W$88","v":0},{"$f":"округл!$W$89","v":0},0,{"$f":"$W$43","v":"22.07.2025"},0,{"$f":"VLOOKUP(AA25,'[1]Лист 1'!$A$7:$B$60,2,0)","v":12},{"$f":"IF($W$45=\"\",$W$44,$W$45)","v":"рабочий"}]
[23,{"$f":"округл!$X$66","v":0},{"$f":"округл!$X$67","v":0},{"$f":"округл!$X$68","v":0},{"$f":"округл!$X$69","v":0},{"$f":"округл!$X$70","v":0},{"$f":"округл!$X$71","v":0},{"$f":"округл!$X$72","v":0},{"$f":"округл!$X$73","v":0},{"$f":"округл!$X$74","v":0},{"$f":"округл!$X$75","v":0},{"$f":"округл!$X$76","v":0},{"$f":"округл!$X$77","v":0},{"$f":"округл!$X$78","v":0},{"$f":"округл!$X$79","v":0},{"$f":"округл!$X$80","v":0},{"$f":"округл!$X$81","v":0},{"$f":"округл!$X$82","v":0},{"$f":"округл!$X$83","v":0},{"$f":"округл!$X$84","v":0},{"$f":"округл!$X$85","v":0},{"$f":"округл!$X$86","v":0},{"$f":"округл!$X$87","v":0},{"$f":"округл!$X$88","v":0},{"$f":"округл!$X$89","v":0},0,{"$f":"$X$43","v":"23.07.2025"},0,{"$f":"VLOOKUP(AA26,'[1]Лист 1'!$A$7:$B$60,2,0)","v":16},{"$f":"IF($X$45=\"\",$X$44,$X$45)","v":"рабочий"}]
[24,{"$f":"округл!$Y$66","v":0},{"$f":"округл!$Y$67","v":0},{"$f":"округл!$Y$68","v":0},{"$f":"округл!$Y$69","v":0},{"$f":"округл!$Y$70","v":0},{"$f":"округл!$Y$71","v":0},{"$f":"округл!$Y$72","v":0},{"$f":"округл!$Y$73","v":0},{"$f":"округл!$Y$74","v":0},{"$f":"округл!$Y$75","v":0},{"$f":"округл!$Y$76","v":0},{"$f":"округл!$Y$77","v":0},{"$f":"округл!$Y$78","v":0},{"$f":"округл!$Y$79","v":0},{"$f":"округл!$Y$80","v":0},{"$f":"округл!$Y$81","v":0},{"$f":"округл!$Y$82","v":0},{"$f":"округл!$Y$83","v":0},{"$f":"округл!$Y$84","v":0},{"$f":"округл!$Y$85","v":0},{"$f":"округл!$Y$86","v":0},{"$f":"округл!$Y$87","v":0},{"$f":"округл!$Y$88","v":0},{"$f":"округл!$Y$89","v":0},0,{"$f":"$Y$43","v":"24.07.2025"},0,{"$f":"VLOOKUP(AA27,'[1]Лист 1'!$A$7:$B$60,2,0)","v":12},{"$f":"IF($Y$45=\"\",$Y$44,$Y$45)","v":"рабочий"}]
[25,{"$f":"округл!$Z$66","v":0},{"$f":"округл!$Z$67","v":0},{"$f":"округл!$Z$68","v":0},{"$f":"округл!$Z$69","v":0},{"$f":"округл!$Z$70","v":0},{"$f":"округл!$Z$71","v":0},{"$f":"округл!$Z$72","v":0},{"$f":"округл!$Z$73","v":0},{"$f":"округл!$Z$74","v":0},{"$f":"округл!$Z$75","v":0},{"$f":"округл!$Z$76","v":0},{"$f":"округл!$Z$77","v":0},{"$f":"округл!$Z$78","v":0},{"$f":"округл!$Z$79","v":0},{"$f":"округл!$Z$80","v":0},{"$f":"округл!$Z$81","v":0},{"$f":"округл!$Z$82","v":0},{"$f":"округл!$Z$83","v":0},{"$f":"округл!$Z$84","v":0},{"$f":"округл!$Z$85","v":0},{"$f":"округл!$Z$86","v":0},{"$f":"округл!$Z$87","v":0},{"$f":"округл!$Z$88","v":0},{"$f":"округл!$Z$89","v":0},0,{"$f":"$Z$43","v":"25.07.2025"},0,{"$f":"VLOOKUP(AA28,'[1]Лист 1'!$A$7:$B$60,2,0)","v":12},{"$f":"IF($Z$45=\"\",$Z$44,$Z$45)","v":"рабочий"}]
[26,{"$f":"округл!$AA$66","v":0},{"$f":"округл!$AA$67","v":0},{"$f":"округл!$AA$68","v":0},{"$f":"округл!$AA$69","v":0},{"$f":"округл!$AA$70","v":0},{"$f":"округл!$AA$71","v":0},{"$f":"округл!$AA$72","v":0},{"$f":"округл!$AA$73","v":0},{"$f":"округл!$AA$74","v":0},{"$f":"округл!$AA$75","v":0},{"$f":"округл!$AA$76","v":0},{"$f":"округл!$AA$77","v":0},{"$f":"округл!$AA$78","v":0},{"$f":"округл!$AA$79","v":0},{"$f":"округл!$AA$80","v":0},{"$f":"округл!$AA$81","v":0},{"$f":"округл!$AA$82","v":0},{"$f":"округл!$AA$83","v":0},{"$f":"округл!$AA$84","v":0},{"$f":"округл!$AA$85","v":0},{"$f":"округл!$AA$86","v":0},{"$f":"округл!$AA$87","v":0},{"$f":"округл!$AA$88","v":0},{"$f":"округл!$AA$89","v":0},0,{"$f":"$AA$43","v":"26.07.2025"},"",{"$f":"VLOOKUP(AA29,'[1]Лист 1'!$A$7:$B$60,2,0)","v":{"$error":"#N/A"}},{"$f":"IF($AA$45=\"\",$AA$44,$AA$45)","v":"выходной"}]
[27,{"$f":"округл!$AB$66","v":0},{"$f":"округл!$AB$67","v":0},{"$f":"округл!$AB$68","v":0},{"$f":"округл!$AB$69","v":0},{"$f":"округл!$AB$70","v":0},{"$f":"округл!$AB$71","v":0},{"$f":"округл!$AB$72","v":0},{"$f":"округл!$AB$73","v":0},{"$f":"округл!$AB$74","v":0},{"$f":"округл!$AB$75","v":0},{"$f":"округл!$AB$76","v":0},{"$f":"округл!$AB$77","v":0},{"$f":"округл!$AB$78","v":0},{"$f":"округл!$AB$79","v":0},{"$f":"округл!$AB$80","v":0},{"$f":"округл!$AB$81","v":0},{"$f":"округл!$AB$82","v":0},{"$f":"округл!$AB$83","v":0},{"$f":"округл!$AB$84","v":0},{"$f":"округл!$AB$85","v":0},{"$f":"округл!$AB$86","v":0},{"$f":"округл!$AB$87","v":0},{"$f":"округл!$AB$88","v":0},{"$f":"округл!$AB$89","v":0},0,{"$f":"$AB$43","v":"27.07.2025"},"",{"$f":"VLOOKUP(AA30,'[1]Лист 1'!$A$7:$B$60,2,0)","v":{"$error":"#N/A"}},{"$f":"IF($AB$45=\"\",$AB$44,$AB$45)","v":"выходной"}]
[28,{"$f":"округл!$AC$66","v":0},{"$f":"округл!$AC$67","v":0},{"$f":"округл!$AC$68","v":0},{"$f":"округл!$AC$69","v":0},{"$f":"округл!$AC$70","v":0},{"$f":"округл!$AC$71","v":0},{"$f":"округл!$AC$72","v":0},{"$f":"округл!$AC$73","v":0},{"$f":"округл!$AC$74","v":0},{"$f":"округл!$AC$75","v":0},{"$f":"округл!$AC$76","v":0},{"$f":"округл!$AC$77","v":0},{"$f":"округл!$AC$78","v":0},{"$f":"округл!$AC$79","v":0},{"$f":"округл!$AC$80","v":0},{"$f":"округл!$AC$81","v":0},{"$f":"округл!$AC$82","v":0},{"$f":"округл!$AC$83","v":0},{"$f":"округл!$AC$84","v":0},{"$f":"округл!$AC$85","v":0},{"$f":"округл!$AC$86","v":0},{"$f":"округл!$AC$87","v":0},{"$f":"округл!$AC$88","v":0},{"$f":"округл!$AC$89","v":0},0,{"$f":"$AC$43","v":"28.07.2025"},0,{"$f":"VLOOKUP(AA31,'[1]Лист 1'!$A$7:$B$60,2,0)","v":12},{"$f":"IF($AC$45=\"\",$AC$44,$AC$45)","v":"рабочий"}]
[29,{"$f":"округл!$AD$66","v":0},{"$f":"округл!$AD$67","v":0},{"$f":"округл!$AD$68","v":0},{"$f":"округл!$AD$69","v":0},{"$f":"округл!$AD$70","v":0},{"$f":"округл!$AD$71","v":0},{"$f":"округл!$AD$72","v":0},{"$f":"округл!$AD$73","v":0},{"$f":"округл!$AD$74","v":0},{"$f":"округл!$AD$75","v":0},{"$f":"округл!$AD$76","v":0},{"$f":"округл!$AD$77","v":0},{"$f":"округл!$AD$78","v":0},{"$f":"округл!$AD$79","v":0},{"$f":"округл!$AD$80","v":0},{"$f":"округл!$AD$81","v":0},{"$f":"округл!$AD$82","v":0},{"$f":"округл!$AD$83","v":0},{"$f":"округл!$AD$84","v":0},{"$f":"округл!$AD$85","v":0},{"$f":"округл!$AD$86","v":0},{"$f":"округл!$AD$87","v":0},{"$f":"округл!$AD$88","v":0},{"$f":"округл!$AD$89","v":0},0,{"$f":"$AD$43","v":"29.07.2025"},0,{"$f":"VLOOKUP(AA32,'[1]Лист 1'!$A$7:$B$60,2,0)","v":16},{"$f":"IF($AD$45=\"\",$AD$44,$AD$45)","v":"рабочий"}]
[30,{"$f":"округл!$AE$66","v":0},{"$f":"округл!$AE$67","v":0},{"$f":"округл!$AE$68","v":0},{"$f":"округл!$AE$69","v":0},{"$f":"округл!$AE$70","v":0},{"$f":"округл!$AE$71","v":0},{"$f":"округл!$AE$72","v":0},{"$f":"округл!$AE$73","v":0},{"$f":"округл!$AE$74","v":0},{"$f":"округл!$AE$75","v":0},{"$f":"округл!$AE$76","v":0},{"$f":"округл!$AE$77","v":0},{"$f":"округл!$AE$78","v":0},{"$f":"округл!$AE$79","v":0},{"$f":"округл!$AE$80","v":0},{"$f":"округл!$AE$81","v":0},{"$f":"округл!$AE$82","v":0},{"$f":"округл!$AE$83","v":0},{"$f":"округл!$AE$84","v":0},{"$f":"округл!$AE$85","v":0},{"$f":"округл!$AE$86","v":0},{"$f":"округл!$AE$87","v":0},{"$f":"округл!$AE$88","v":0},{"$f":"округл!$AE$89","v":0},0,{"$f":"$AE$43","v":"30.07.2025"},0,{"$f":"VLOOKUP(AA33,'[1]Лист 1'!$A$7:$B$60,2,0)","v":11},{"$f":"IF($AE$45=\"\",$AE$44,$AE$45)","v":"рабочий"}]
[31,{"$f":"округл!$AF$66","v":0},{"$f":"округл!$AF$67","v":0},{"$f":"округл!$AF$68","v":0},{"$f":"округл!$AF$69","v":0},{"$f":"округл!$AF$70","v":0},{"$f":"округл!$AF$71","v":0},{"$f":"округл!$AF$72","v":0},{"$f":"округл!$AF$73","v":0},{"$f":"округл!$AF$74","v":0},{"$f":"округл!$AF$75","v":0},{"$f":"округл!$AF$76","v":0},{"$f":"округл!$AF$77","v":0},{"$f":"округл!$AF$78","v":0},{"$f":"округл!$AF$79","v":0},{"$f":"округл!$AF$80","v":0},{"$f":"округл!$AF$81","v":0},{"$f":"округл!$AF$82","v":0},{"$f":"округл!$AF$83","v":0},{"$f":"округл!$AF$84","v":0},{"$f":"округл!$AF$85","v":0},{"$f":"округл!$AF$86","v":0},{"$f":"округл!$AF$87","v":0},{"$f":"округл!$AF$88","v":0},{"$f":"округл!$AF$89","v":0},0,{"$f":"$AF$43","v":"31.07.2025"},0,{"$f":"VLOOKUP(AA34,'[1]Лист 1'!$A$7:$B$60,2,0)","v":11},{"$f":"IF($AF$45=\"\",$AF$44,$AF$45)","v":"рабочий"}]
["ИТОГО",{"$f":"SUM(B4:B34)","v":0},{"$f":"SUM(C4:C34)","v":0},0,0,0,0,0,0,0,0,0,0,0,0,0,0,0,0,0,0,0,{"$f":"SUM(W4:W34)","v":0},0,0,{"$f":"SUM(Z4:Z34)","v":0},null,{"$f":"AVERAGE(AB4:AB34)","v":0}]
[]
[]
[null,null,null,null,null,null,null,null,null,null,null,null,null,null,null,null,"Итого электроэнергия за расчетный период, кВтч:",null,null,null,null,null,{"$f":"Z35","v":0}]
[null,null,null,null,null,null,null,null,null,null,null,null,null,null,null,null,"Итого мошность за расчетный период, кВт: ",null,null,null,null,null,{"$f":"ROUND(AB35,0)","v":0}]
[]
[]
["День",{"$f":"CONCATENATE(PROPER(TEXT((DATE(YEAR($H$1),MONTH($H$1),DAY($H$1)+0)),\"ДДДД\")))","v":"Вторник"},{"$f":"CONCATENATE(PROPER(TEXT((DATE(YEAR($H$1),MONTH($H$1),DAY($H$1)+1)),\"ДДДД\")))","v":"Среда"},{"$f":"CONCATENATE(PROPER(TEXT((DATE(YEAR($H$1),MONTH($H$1),DAY($H$1)+2)),\"ДДДД\")))","v":"Четверг"},{"$f":"CONCATENATE(PROPER(TEXT((DATE(YEAR($H$1),MONTH($H$1),DAY($H$1)+3)),\"ДДДД\")))","v":"Пятница"},{"$f":"CONCATENATE(PROPER(TEXT((DATE(YEAR($H$1),MONTH($H$1),DAY($H$1)+4)),\"ДДДД\")))","v":"Суббота"},{"$f":"CONCATENATE(PROPER(TEXT((DATE(YEAR($H$1),MONTH($H$1),DAY($H$1)+5)),\"ДДДД\")))","v":"Воскресенье"},{"$f":"CONCATENATE(PROPER(TEXT((DATE(YEAR($H$1),MONTH($H$1),DAY($H$1)+6)),\"ДДДД\")))","v":"Понедельник"},{"$f":"CONCATENATE(PROPER(TEXT((DATE(YEAR($H$1),MONTH($H$1),DAY($H$1)+7)),\"ДДДД\")))","v":"Вторник"},{"$f":"CONCATENATE(PROPER(TEXT((DATE(YEAR($H$1),MONTH($H$1),DAY($H$1)+8)),\"ДДДД\")))","v":"Среда"},{"$f":"CONCATENATE(PROPER(TEXT((DATE(YEAR($H$1),MONTH($H$1),DAY($H$1)+9)),\"ДДДД\")))","v":"Четверг"},{"$f":"CONCATENATE(PROPER(TEXT((DATE(YEAR($H$1),MONTH($H$1),DAY($H$1)+10)),\"ДДДД\")))","v":"Пятница"},{"$f":"CONCATENATE(PROPER(TEXT((DATE(YEAR($H$1),MONTH($H$1),DAY($H$1)+11)),\"ДДДД\")))","v":"Суббота"},{"$f":"CONCATENATE(PROPER(TEXT((DATE(YEAR($H$1),MONTH($H$1),DAY($H$1)+12)),\"ДДДД\")))","v":"Воскресенье"},{"$f":"CONCATENATE(PROPER(TEXT((DATE(YEAR($H$1),MONTH($H$1),DAY($H$1)+13)),\"ДДДД\")))","v":"Понедельник"},{"$f":"CONCATENATE(PROPER(TEXT((DATE(YEAR($H$1),MONTH($H$1),DAY($H$1)+14)),\"ДДДД\")))","v":"Вторник"},{"$f":"CONCATENATE(PROPER(TEXT((DATE(YEAR($H$1),MONTH($H$1),DAY($H$1)+15)),\"ДДДД\")))","v":"Среда"},{"$f":"CONCATENATE(PROPER(TEXT((DATE(YEAR($H$1),MONTH($H$1),DAY($H$1)+16)),\"ДДДД\")))","v":"Четверг"},{"$f":"CONCATENATE(PROPER(TEXT((DATE(YEAR($H$1),MONTH($H$1),DAY($H$1)+17)),\"ДДДД\")))","v":"Пятница"},{"$f":"CONCATENATE(PROPER(TEXT((DATE(YEAR($H$1),MONTH($H$1),DAY($H$1)+18)),\"ДДДД\")))","v":"Суббота"},{"$f":"CONCATENATE(PROPER(TEXT((DATE(YEAR($H$1),MONTH($H$1),DAY($H$1)+19)),\"ДДДД\")))","v":"Воскресенье"},{"$f":"CONCATENATE(PROPER(TEXT((DATE(YEAR($H$1),MONTH($H$1),DAY($H$1)+20)),\"ДДДД\")))","v":"Понедельник"},{"$f":"CONCATENATE(PROPER(TEXT((DATE(YEAR($H$1),MONTH($H$1),DAY($H$1)+21)),\"ДДДД\")))","v":"Вторник"},{"$f":"CONCATENATE(PROPER(TEXT((DATE(YEAR($H$1),MONTH($H$1),DAY($H$1)+22)),\"ДДДД\")))","v":"Среда"},{"$f":"CONCATENATE(PROPER(TEXT((DATE(YEAR($H$1),MONTH($H$1),DAY($H$1)+23)),\"ДДДД\")))","v":"Четверг"},{"$f":"CONCATENATE(PROPER(TEXT((DATE(YEAR($H$1),MONTH($H$1),DAY($H$1)+24)),\"ДДДД\")))","v":"Пятница"},{"$f":"CONCATENATE(PROPER(TEXT((DATE(YEAR($H$1),MONTH($H$1),DAY($H$1)+25)),\"ДДДД\")))","v":"Суббота"},{"$f":"CONCATENATE(PROPER(TEXT((DATE(YEAR($H$1),MONTH($H$1),DAY($H$1)+26)),\"ДДДД\")))","v":"Воскресенье"},{"$f":"CONCATENATE(PROPER(TEXT((DATE(YEAR($H$1),MONTH($H$1),DAY($H$1)+27)),\"ДДДД\")))","v":"Понедельник"},{"$f":"CONCATENATE(PROPER(TEXT((DATE(YEAR($H$1),MONTH($H$1),DAY($H$1)+28)),\"ДДДД\")))","v":"Вторник"},{"$f":"CONCATENATE(PROPER(TEXT((DATE(YEAR($H$1),MONTH($H$1),DAY($H$1)+29)),\"ДДДД\")))","v":"Среда"},{"$f":"CONCATENATE(PROPER(TEXT((DATE(YEAR($H$1),MONTH($H$1),DAY($H$1)+30)),\"ДДДД\")))","v":"Четверг"}]
["Дата",{"$f":"CONCATENATE(TEXT((DATE(YEAR($H$1),MONTH($H$1),DAY($H$1)+0)),\"ДД.ММ.ГГГГ\"))","v":"01.07.2025"},{"$f":"CONCATENATE(TEXT((DATE(YEAR($H$1),MONTH($H$1),DAY($H$1)+1)),\"ДД.ММ.ГГГГ\"))","v":"02.07.2025"},{"$f":"CONCATENATE(TEXT((DATE(YEAR($H$1),MONTH($H$1),DAY($H$1)+2)),\"ДД.ММ.ГГГГ\"))","v":"03.07.2025"},{"$f":"CONCATENATE(TEXT((DATE(YEAR($H$1),MONTH($H$1),DAY($H$1)+3)),\"ДД.ММ.ГГГГ\"))","v":"04.07.2025"},{"$f":"CONCATENATE(TEXT((DATE(YEAR($H$1),MONTH($H$1),DAY($H$1)+4)),\"ДД.ММ.ГГГГ\"))","v":"05.07.2025"},{"$f":"CONCATENATE(TEXT((DATE(YEAR($H$1),MONTH($H$1),DAY($H$1)+5)),\"ДД.ММ.ГГГГ\"))","v":"06.07.2025"},{"$f":"CONCATENATE(TEXT((DATE(YEAR($H$1),MONTH($H$1),DAY($H$1)+6)),\"ДД.ММ.ГГГГ\"))","v":"07.07.2025"},{"$f":"CONCATENATE(TEXT((DATE(YEAR($H$1),MONTH($H$1),DAY($H$1)+7)),\"ДД.ММ.ГГГГ\"))","v":"08.07.2025"},{"$f":"CONCATENATE(TEXT((DATE(YEAR($H$1),MONTH($H$1),DAY($H$1)+8)),\"ДД.ММ.ГГГГ\"))","v":"09.07.2025"},{"$f":"CONCATENATE(TEXT((DATE(YEAR($H$1),MONTH($H$1),DAY($H$1)+9)),\"ДД.ММ.ГГГГ\"))","v":"10.07.2025"},{"$f":"CONCATENATE(TEXT((DATE(YEAR($H$1),MONTH($H$1),DAY($H$1)+10)),\"ДД.ММ.ГГГГ\"))","v":"11.07.2025"},{"$f":"CONCATENATE(TEXT((DATE(YEAR($H$1),MONTH($H$1),DAY($H$1)+11)),\"ДД.ММ.ГГГГ\"))","v":"12.07.2025"},{"$f":"CONCATENATE(TEXT((DATE(YEAR($H$1),MONTH($H$1),DAY($H$1)+12)),\"ДД.ММ.ГГГГ\"))","v":"13.07.2025"},{"$f":"CONCATENATE(TEXT((DATE(YEAR($H$1),MONTH($H$1),DAY($H$1)+13)),\"ДД.ММ.ГГГГ\"))","v":"14.07.2025"},{"$f":"CONCATENATE(TEXT((DATE(YEAR($H$1),MONTH($H$1),DAY($H$1)+14)),\"ДД.ММ.ГГГГ\"))","v":"15.07.2025"},{"$f":"CONCATENATE(TEXT((DATE(YEAR($H$1),MONTH($H$1),DAY($H$1)+15)),\"ДД.ММ.ГГГГ\"))","v":"16.07.2025"},{"$f":"CONCATENATE(TEXT((DATE(YEAR($H$1),MONTH($H$1),DAY($H$1)+16)),\"ДД.ММ.ГГГГ\"))","v":"17.07.2025"},{"$f":"CONCATENATE(TEXT((DATE(YEAR($H$1),MONTH($H$1),DAY($H$1)+17)),\"ДД.ММ.ГГГГ\"))","v":"18.07.2025"},{"$f":"CONCATENATE(TEXT((DATE(YEAR($H$1),MONTH($H$1),DAY($H$1)+18)),\"ДД.ММ.ГГГГ\"))","v":"19.07.2025"},{"$f":"CONCATENATE(TEXT((DATE(YEAR($H$1),MONTH($H$1),DAY($H$1)+19)),\"ДД.ММ.ГГГГ\"))","v":"20.07.2025"},{"$f":"CONCATENATE(TEXT((DATE(YEAR($H$1),MONTH($H$1),DAY($H$1)+20)),\"ДД.ММ.ГГГГ\"))","v":"21.07.2025"},{"$f":"CONCATENATE(TEXT((DATE(YEAR($H$1),MONTH($H$1),DAY($H$1)+21)),\"ДД.ММ.ГГГГ\"))","v":"22.07.2025"},{"$f":"CONCATENATE(TEXT((DATE(YEAR($H$1),MONTH($H$1),DAY($H$1)+22)),\"ДД.ММ.ГГГГ\"))","v":"23.07.2025"},{"$f":"CONCATENATE(TEXT((DATE(YEAR($H$1),MONTH($H$1),DAY($H$1)+23)),\"ДД.ММ.ГГГГ\"))","v":"24.07.2025"},{"$f":"CONCATENATE(TEXT((DATE(YEAR($H$1),MONTH($H$1),DAY($H$1)+24)),\"ДД.ММ.ГГГГ\"))","v":"25.07.2025"},{"$f":"CONCATENATE(TEXT((DATE(YEAR($H$1),MONTH($H$1),DAY($H$1)+25)),\"ДД.ММ.ГГГГ\"))","v":"26.07.2025"},{"$f":"CONCATENATE(TEXT((DATE(YEAR($H$1),MONTH($H$1),DAY($H$1)+26)),\"ДД.ММ.ГГГГ\"))","v":"27.07.2025"},{"$f":"CONCATENATE(TEXT((DATE(YEAR($H$1),MONTH($H$1),DAY($H$1)+27)),\"ДД.ММ.ГГГГ\"))","v":"28.07.2025"},{"$f":"CONCATENATE(TEXT((DATE(YEAR($H$1),MONTH($H$1),DAY($H$1)+28)),\"ДД.ММ.ГГГГ\"))","v":"29.07.2025"},{"$f":"CONCATENATE(TEXT((DATE(YEAR($H$1),MONTH($H$1),DAY($H$1)+29)),\"ДД.ММ.ГГГГ\"))","v":"30.07.2025"},{"$f":"CONCATENATE(TEXT((DATE(YEAR($H$1),MONTH($H$1),DAY($H$1)+30)),\"ДД.ММ.ГГГГ\"))","v":"31.07.2025"}]
["В/Р",{"$f":"IF(B42=\"Понедельник\",\"рабочий\",IF(B42=\"Вторник\",\"рабочий\",IF(B42=\"Среда\",\"рабочий\",IF(B42=\"Четверг\",\"рабочий\",IF(B42=\"Пятница\",\"рабочий\",IF(B42=\"Суббота\",\"выходной\",IF(B42=\"Воскресенье\",\"выходной\",0)))))))","v":"рабочий"},{"$f":"IF(C42=\"Понедельник\",\"рабочий\",IF(C42=\"Вторник\",\"рабочий\",IF(C42=\"Среда\",\"рабочий\",IF(C42=\"Четверг\",\"рабочий\",IF(C42=\"Пятница\",\"рабочий\",IF(C42=\"Суббота\",\"выходной\",IF(C42=\"Воскресенье\",\"выходной\",0)))))))","v":"рабочий"},"рабочий","рабочий","выходной","выходной","рабочий","рабочий","рабочий","рабочий","рабочий","выходной","выходной","рабочий","рабочий","рабочий","рабочий","рабочий","выходной","выходной","рабочий","рабочий","рабочий","рабочий","рабочий","выходной","выходной","рабочий","рабочий","рабочий","рабочий"]
["вых/раб"]
[]
["рабочий"]
["выходной"]

{"sheet":"цены","index":3,"n_rows":754,"n_cols":14,"rows_kept":754,"cut":false,"hidden":true,"merged":[[746,6,747,6],[745,0,745,1],[746,0,747,1],[746,2,747,2],[746,3,747,3],[746,4,747,4],[746,5,747,5],[748,6,750,6],[752,0,753,1],[752,2,753,2],[752,3,753,3],[752,4,753,4],[752,5,753,5],[752,6,753,6],[748,0,750,1],[748,2,750,2],[748,3,750,3],[748,4,750,4],[748,5,750,5]]}
["Дата","Час","Объём (КВтч)","Цена руб/МВтч","1*Цена руб/МВтч","Стоимость (руб.)","Стоимость*0,9 (руб.)"]
[{"$f":"мощность!$AA$4","v":"01.07.2025"},0,{"$f":"мощность!B4","v":0},{"$f":"[2]Лист1!C58","v":1538},{"$f":"1*D2","v":1538},{"$f":"ROUND(C2*D2/1000,2)","v":0},{"$f":"ROUND(C2*E2/1000,2)","v":0}]
[{"$f":"мощность!$AA$4","v":"01.07.2025"},1,{"$f":"мощность!C4","v":0},{"$f":"[2]Лист1!C59","v":1277.58},{"$f":"1*D3","v":1277.58},{"$f":"ROUND(C3*D3/1000,2)","v":0},{"$f":"ROUND(C3*E3/1000,2)","v":0}]
[{"$f":"мощность!$AA$4","v":"01.07.2025"},2,{"$f":"мощность!D4","v":0},{"$f":"[2]Лист1!C60","v":1168.01},1168.01,0,0]
[{"$f":"мощность!$AA$4","v":"01.07.2025"},3,{"$f":"мощность!E4","v":0},{"$f":"[2]Лист1!C61","v":1057.01},1057.01,0,0]
[{"$f":"мощность!$AA$4","v":"01.07.2025"},4,{"$f":"мощность!F4","v":0},{"$f":"[2]Лист1!C62","v":1074.22},1074.22,0,0]
[{"$f":"мощность!$AA$4","v":"01.07.2025"},5,{"$f":"мощность!G4","v":0},{"$f":"[2]Лист1!C63","v":1340.27},1340.27,{"$f":"ROUND(C7*D7/1000,2)","v":0},0]
[{"$f":"мощность!$AA$4","v":"01.07.2025"},6,{"$f":"мощность!H4","v":0},{"$f":"[2]Лист1!C64","v":1473.06},1473.06,0,{"$f":"ROUND(C8*E8/1000,2)","v":0}]
[{"$f":"мощность!$AA$4","v":"01.07.2025"},7,{"$f":"мощность!I4","v":0},{"$f":"[2]Лист1!C65","v":1919.9},1919.9,0,0]
[{"$f":"мощность!$AA$4","v":"01.07.2025"},8,{"$f":"мощность!J4","v":0},{"$f":"[2]Лист1!C66","v":2396.61},2396.61,0,{"$f":"ROUND(C10*E10/1000,2)","v":0}]
[{"$f":"мощность!$AA$4","v":"01.07.2025"},9,{"$f":"мощность!K4","v":0},{"$f":"[2]Лист1!C67","v":2525.21},2525.21,0,{"$f":"ROUND(C11*E11/1000,2)","v":0}]
[{"$f":"мощность!$AA$4","v":"01.07.2025"},10,{"$f":"мощность!L4","v":0},{"$f":"[2]Лист1!C68","v":2571.54},2571.54,0,0]
[{"$f":"мощность!$AA$4","v":"01.07.2025"},11,{"$f":"мощность!M4","v":0},{"$f":"[2]Лист1!C69","v":2568.94},2568.94,0,0]
[{"$f":"мощность!$AA$4","v":"01.07.2025"},12,{"$f":"мощность!N4","v":0},{"$f":"[2]Лист1!C70","v":2538.46},2538.46,0,0]
[{"$f":"мощность!$AA$4","v":"01.07.2025"},13,{"$f":"мощность!O4","v":0},{"$f":"[2]Лист1!C71","v":2563.13},2563.13,0,0]
[{"$f":"мощность!$AA$4","v":"01.07.2025"},14,{"$f":"мощность!P4","v":0},{"$f":"[2]Лист1!C72","v":2601.75},2601.75,0,0]
[{"$f":"мощность!$AA$4","v":"01.07.2025"},15,{"$f":"мощность!Q4","v":0},{"$f":"[2]Лист1!C73","v":2615.31},2615.31,0,0]
[{"$f":"мощность!$AA$4","v":"01.07.2025"},16,{"$f":"мощность!R4","v":0},{"$f":"[2]Лист1!C74","v":2588.8200000000002},2588.8200000000002,0,0]
[{"$f":"мощность!$AA$4","v":"01.07.2025"},17,{"$f":"мощность!S4","v":0},{"$f":"[2]Лист1!C75","v":2603.37},2603.37,0,0]
[{"$f":"мощность!$AA$4","v":"01.07.2025"},18,{"$f":"мощность!T4","v":0},{"$f":"[2]Лист1!C76","v":2580.59},2580.59,0,0]
[{"$f":"мощность!$AA$4","v":"01.07.2025"},19,{"$f":"мощность!U4","v":0},{"$f":"[2]Лист1!C77","v":2533.4299999999998},2533.4299999999998,0,0]
[{"$f":"мощность!$AA$4","v":"01.07.2025"},20,{"$f":"мощность!V4","v":0},{"$f":"[2]Лист1!C78","v":2501.04},2501.04,0,0]
[{"$f":"мощность!$AA$4","v":"01.07.2025"},21,{"$f":"мощность!W4","v":0},{"$f":"[2]Лист1!C79","v":2477.98},2477.98,0,0]
[{"$f":"мощность!$AA$4","v":"01.07.2025"},22,{"$f":"мощность!X4","v":0},{"$f":"[2]Лист1!C80","v":2191.5100000000002},2191.5100000000002,0,0]
[{"$f":"мощность!$AA$4","v":"01.07.2025"},23,{"$f":"мощность!Y4","v":0},{"$f":"[2]Лист1!C81","v":1943.52},1943.52,0,0]
[{"$f":"мощность!$AA$5","v":"02.07.2025"},0,{"$f":"мощность!B5","v":0},{"$f":"[2]Лист1!C82","v":1590.21},1590.21,0,0]
[{"$f":"мощность!$AA$5","v":"02.07.2025"},1,{"$f":"мощность!C5","v":0},{"$f":"[2]Лист1!C83","v":1434.15},1434.15,0,0]
[{"$f":"мощность!$AA$5","v":"02.07.2025"},2,{"$f":"мощность!D5","v":0},{"$f":"[2]Лист1!C84","v":1355.04},1355.04,0,0]
[{"$f":"мощность!$AA$5","v":"02.07.2025"},3,{"$f":"мощность!E5","v":0},{"$f":"[2]Лист1!C85","v":1146.58},1146.58,0,0]
[{"$f":"мощность!$AA$5","v":"02.07.2025"},4,{"$f":"мощность!F5","v":0},{"$f":"[2]Лист1!C86","v":1231.8},1231.8,0,0]
[{"$f":"мощность!$AA$5","v":"02.07.2025"},5,{"$f":"мощность!G5","v":0},{"$f":"[2]Лист1!C87","v":1419.77},1419.77,0,0]
[{"$f":"мощность!$AA$5","v":"02.07.2025"},6,{"$f":"мощность!H5","v":0},{"$f":"[2]Лист1!C88","v":1511.23},1511.23,0,0]
[{"$f":"мощность!$AA$5","v":"02.07.2025"},7,{"$f":"мощность!I5","v":0},{"$f":"[2]Лист1!C89","v":1974.9},1974.9,0,{"$f":"ROUND(C33*E33/1000,2)","v":0}]
[{"$f":"мощность!$AA$5","v":"02.07.2025"},8,{"$f":"мощность!J5","v":0},{"$f":"[2]Лист1!C90","v":2555.84},2555.84,0,0]
[{"$f":"мощность!$AA$5","v":"02.07.2025"},9,{"$f":"мощность!K5","v":0},{"$f":"[2]Лист1!C91","v":2652.61},2652.61,0,0]
[{"$f":"мощность!$AA$5","v":"02.07.2025"},10,{"$f":"мощность!L5","v":0},{"$f":"[2]Лист1!C92","v":2687.36},2687.36,0,0]
[{"$f":"мощность!$AA$5","v":"02.07.2025"},11,{"$f":"мощность!M5","v":0},{"$f":"[2]Лист1!C93","v":2677.22},2677.22,0,0]
[{"$f":"мощность!$AA$5","v":"02.07.2025"},12,{"$f":"мощность!N5","v":0},{"$f":"[2]Лист1!C94","v":2478.6},2478.6,0,0]
[{"$f":"мощность!$AA$5","v":"02.07.2025"},13,{"$f":"мощность!O5","v":0},{"$f":"[2]Лист1!C95","v":2496.21},2496.21,0,0]
[{"$f":"мощность!$AA$5","v":"02.07.2025"},14,{"$f":"мощность!P5","v":0},{"$f":"[2]Лист1!C96","v":2498.1},2498.1,0,0]
[{"$f":"мощность!$AA$5","v":"02.07.2025"},15,{"$f":"мощность!Q5","v":0},{"$f":"[2]Лист1!C97","v":2492.73},2492.73,0,0]
[{"$f":"мощность!$AA$5","v":"02.07.2025"},16,{"$f":"мощность!R5","v":0},{"$f":"[2]Лист1!C98","v":2475.08},2475.08,0,0]
[{"$f":"мощность!$AA$5","v":"02.07.2025"},17,{"$f":"мощность!S5","v":0},{"$f":"[2]Лист1!C99","v":2495.09},2495.09,0,0]
[{"$f":"мощность!$AA$5","v":"02.07.2025"},18,{"$f":"мощность!T5","v":0},{"$f":"[2]Лист1!C100","v":2648.06},2648.06,0,0]
[{"$f":"мощность!$AA$5","v":"02.07.2025"},19,{"$f":"мощность!U5","v":0},{"$f":"[2]Лист1!C101","v":2617.5100000000002},2617.5100000000002,0,0]
[{"$f":"мощность!$AA$5","v":"02.07.2025"},20,{"$f":"мощность!V5","v":0},{"$f":"[2]Лист1!C102","v":2586.69},2586.69,0,0]
[{"$f":"мощность!$AA$5","v":"02.07.2025"},21,{"$f":"мощность!W5","v":0},{"$f":"[2]Лист1!C103","v":2567.27},2567.27,0,0]
[{"$f":"мощность!$AA$5","v":"02.07.2025"},22,{"$f":"мощность!X5","v":0},{"$f":"[2]Лист1!C104","v":2304},2304,0,0]
[{"$f":"мощность!$AA$5","v":"02.07.2025"},23,{"$f":"мощность!Y5","v":0},{"$f":"[2]Лист1!C105","v":1885.94},1885.94,0,0]
[{"$f":"мощность!$AA$6","v":"03.07.2025"},0,{"$f":"мощность!B6","v":0},{"$f":"[2]Лист1!C106","v":1477.08},1477.08,0,0]
[{"$f":"мощность!$AA$6","v":"03.07.2025"},1,{"$f":"мощность!C6","v":0},{"$f":"[2]Лист1!C107","v":1320.2},1320.2,0,0]
[{"$f":"мощность!$AA$6","v":"03.07.2025"},2,{"$f":"мощность!D6","v":0},{"$f":"[2]Лист1!C108","v":1204.47},1204.47,0,0]
[{"$f":"мощность!$AA$6","v":"03.07.2025"},3,{"$f":"мощность!E6","v":0},{"$f":"[2]Лист1!C109","v":1090.9000000000001},1090.9000000000001,0,0]
[{"$f":"мощность!$AA$6","v":"03.07.2025"},4,{"$f":"мощность!F6","v":0},{"$f":"[2]Лист1!C110","v":1098.8399999999999},1098.8399999999999,0,0]
[{"$f":"мощность!$AA$6","v":"03.07.2025"},5,{"$f":"мощность!G6","v":0},{"$f":"[2]Лист1!C111","v":1147.49},1147.49,0,0]
[{"$f":"мощность!$AA$6","v":"03.07.2025"},6,{"$f":"мощность!H6","v":0},{"$f":"[2]Лист1!C112","v":1459.06},1459.06,0,0]
[{"$f":"мощность!$AA$6","v":"03.07.2025"},7,{"$f":"мощность!I6","v":0},{"$f":"[2]Лист1!C113","v":1889.04},1889.04,0,0]
[{"$f":"мощность!$AA$6","v":"03.07.2025"},8,{"$f":"мощность!J6","v":0},{"$f":"[2]Лист1!C114","v":2419.21},2419.21,0,0]
[{"$f":"мощность!$AA$6","v":"03.07.2025"},9,{"$f":"мощность!K6","v":0},{"$f":"[2]Лист1!C115","v":2475.9899999999998},2475.9899999999998,0,0]
[{"$f":"мощность!$AA$6","v":"03.07.2025"},10,{"$f":"мощность!L6","v":0},{"$f":"[2]Лист1!C116","v":2439.9499999999998},2439.9499999999998,0,0]
[{"$f":"мощность!$AA$6","v":"03.07.2025"},11,{"$f":"мощность!M6","v":0},{"$f":"[2]Лист1!C117","v":2436.5700000000002},2436.5700000000002,0,0]
[{"$f":"мощность!$AA$6","v":"03.07.2025"},12,{"$f":"мощность!N6","v":0},{"$f":"[2]Лист1!C118","v":2428.56},2428.56,0,0]
[{"$f":"мощность!$AA$6","v":"03.07.2025"},13,{"$f":"мощность!O6","v":0},{"$f":"[2]Лист1!C119","v":2443.87},2443.87,0,0]
[{"$f":"мощность!$AA$6","v":"03.07.2025"},14,{"$f":"мощность!P6","v":0},{"$f":"[2]Лист1!C120","v":2531.04},2531.04,0,0]
[{"$f":"мощность!$AA$6","v":"03.07.2025"},15,{"$f":"мощность!Q6","v":0},{"$f":"[2]Лист1!C121","v":2564.1},2564.1,0,0]
[{"$f":"мощность!$AA$6","v":"03.07.2025"},16,{"$f":"мощность!R6","v":0},{"$f":"[2]Лист1!C122","v":2526.77},2526.77,0,0]
[{"$f":"мощность!$AA$6","v":"03.07.2025"},17,{"$f":"мощность!S6","v":0},{"$f":"[2]Лист1!C123","v":2455.62},{"$f":"1*D67","v":2455.62},{"$f":"ROUND(C67*D67/1000,2)","v":0},{"$f":"ROUND(C67*E67/1000,2)","v":0}]
[{"$f":"мощность!$AA$6","v":"03.07.2025"},18,{"$f":"мощность!T6","v":0},{"$f":"[2]Лист1!C124","v":2455.2600000000002},2455.2600000000002,0,0]
[{"$f":"мощность!$AA$6","v":"03.07.2025"},19,{"$f":"мощность!U6","v":0},{"$f":"[2]Лист1!C125","v":2426.96},2426.96,0,0]
[{"$f":"мощность!$AA$6","v":"03.07.2025"},20,{"$f":"мощность!V6","v":0},{"$f":"[2]Лист1!C126","v":2390.12},2390.12,0,0]
[{"$f":"мощность!$AA$6","v":"03.07.2025"},21,{"$f":"мощность!W6","v":0},{"$f":"[2]Лист1!C127","v":2378.39},2378.39,0,0]
[{"$f":"мощность!$AA$6","v":"03.07.2025"},22,{"$f":"мощность!X6","v":0},{"$f":"[2]Лист1!C128","v":2131.63},2131.63,0,0]
[{"$f":"мощность!$AA$6","v":"03.07.2025"},23,{"$f":"мощность!Y6","v":0},{"$f":"[2]Лист1!C129","v":1881.35},1881.35,0,0]
[{"$f":"мощность!$AA$7","v":"04.07.2025"},0,{"$f":"мощность!B7","v":0},{"$f":"[2]Лист1!C130","v":1564.76},1564.76,0,0]
[{"$f":"мощность!$AA$7","v":"04.07.2025"},1,{"$f":"мощность!C7","v":0},{"$f":"[2]Лист1!C131","v":1349.31},1349.31,0,0]
[{"$f":"мощность!$AA$7","v":"04.07.2025"},2,{"$f":"мощность!D7","v":0},{"$f":"[2]Лист1!C132","v":1211.67},1211.67,0,0]
[{"$f":"мощность!$AA$7","v":"04.07.2025"},3,{"$f":"мощность!E7","v":0},{"$f":"[2]Лист1!C133","v":1085.51},1085.51,0,0]
[{"$f":"мощность!$AA$7","v":"04.07.2025"},4,{"$f":"мощность!F7","v":0},{"$f":"[2]Лист1!C134","v":1098.52},1098.52,0,0]
[{"$f":"мощность!$AA$7","v":"04.07.2025"},5,{"$f":"мощность!G7","v":0},{"$f":"[2]Лист1!C135","v":1317.54},1317.54,0,0]
[{"$f":"мощность!$AA$7","v":"04.07.2025"},6,{"$f":"мощность!H7","v":0},{"$f":"[2]Лист1!C136","v":1475.2},1475.2,0,0]
[{"$f":"мощность!$AA$7","v":"04.07.2025"},7,{"$f":"мощность!I7","v":0},{"$f":"[2]Лист1!C137","v":1902.97},1902.97,0,0]
[{"$f":"мощность!$AA$7","v":"04.07.2025"},8,{"$f":"мощность!J7","v":0},{"$f":"[2]Лист1!C138","v":2433.52},2433.52,0,0]
[{"$f":"мощность!$AA$7","v":"04.07.2025"},9,{"$f":"мощность!K7","v":0},{"$f":"[2]Лист1!C139","v":2549.8200000000002},2549.8200000000002,0,0]
[{"$f":"мощность!$AA$7","v":"04.07.2025"},10,{"$f":"мощность!L7","v":0},{"$f":"[2]Лист1!C140","v":2499.42},2499.42,0,0]
[{"$f":"мощность!$AA$7","v":"04.07.2025"},11,{"$f":"мощность!M7","v":0},{"$f":"[2]Лист1!C141","v":2497.19},2497.19,0,{"$f":"ROUND(C85*E85/1000,2)","v":0}]
[{"$f":"мощность!$AA$7","v":"04.07.2025"},12,{"$f":"мощность!N7","v":0},{"$f":"[2]Лист1!C142","v":2558.04},2558.04,0,0]
[{"$f":"мощность!$AA$7","v":"04.07.2025"},13,{"$f":"мощность!O7","v":0},{"$f":"[2]Лист1!C143","v":2491.56},2491.56,0,0]
[{"$f":"мощность!$AA$7","v":"04.07.2025"},14,{"$f":"мощность!P7","v":0},{"$f":"[2]Лист1!C144","v":2480.8200000000002},2480.8200000000002,0,0]
[{"$f":"мощность!$AA$7","v":"04.07.2025"},15,{"$f":"мощность!Q7","v":0},{"$f":"[2]Лист1!C145","v":2677.95},2677.95,0,0]
[{"$f":"мощность!$AA$7","v":"04.07.2025"},16,{"$f":"мощность!R7","v":0},{"$f":"[2]Лист1!C146","v":2601.6999999999998},2601.6999999999998,0,0]
[{"$f":"мощность!$AA$7","v":"04.07.2025"},17,{"$f":"мощность!S7","v":0},{"$f":"[2]Лист1!C147","v":2623.54},2623.54,0,0]
[{"$f":"мощность!$AA$7","v":"04.07.2025"},18,{"$f":"мощность!T7","v":0},{"$f":"[2]Лист1!C148","v":2608.66},2608.66,0,0]
[{"$f":"мощность!$AA$7","v":"04.07.2025"},19,{"$f":"мощность!U7","v":0},{"$f":"[2]Лист1!C149","v":2493.92},2493.92,0,0]
[{"$f":"мощность!$AA$7","v":"04.07.2025"},20,{"$f":"мощность!V7","v":0},{"$f":"[2]Лист1!C150","v":2473.16},2473.16,0,0]
[{"$f":"мощность!$AA$7","v":"04.07.2025"},21,{"$f":"мощность!W7","v":0},{"$f":"[2]Лист1!C151","v":2548.4299999999998},2548.4299999999998,0,0]
[{"$f":"мощность!$AA$7","v":"04.07.2025"},22,{"$f":"мощность!X7","v":0},{"$f":"[2]Лист1!C152","v":2363.41},2363.41,0,0]
[{"$f":"мощность!$AA$7","v":"04.07.2025"},23,{"$f":"мощность!Y7","v":0},{"$f":"[2]Лист1!C153","v":1923.35},1923.35,0,0]
[{"$f":"мощность!$AA$8","v":"05.07.2025"},0,{"$f":"мощность!B8","v":0},{"$f":"[2]Лист1!C154","v":1647.71},1647.71,0,0]
[{"$f":"мощность!$AA$8","v":"05.07.2025"},1,{"$f":"мощность!C8","v":0},{"$f":"[2]Лист1!C155","v":1421.85},1421.85,0,0]
[{"$f":"мощность!$AA$8","v":"05.07.2025"},2,{"$f":"мощность!D8","v":0},{"$f":"[2]Лист1!C156","v":1318.03},1318.03,0,0]
[{"$f":"мощность!$AA$8","v":"05.07.2025"},3,{"$f":"мощность!E8","v":0},{"$f":"[2]Лист1!C157","v":1179.31},1179.31,0,0]
[{"$f":"мощность!$AA$8","v":"05.07.2025"},4,{"$f":"мощность!F8","v":0},{"$f":"[2]Лист1!C158","v":1120.9000000000001},1120.9000000000001,0,0]
[{"$f":"мощность!$AA$8","v":"05.07.2025"},5,{"$f":"мощность!G8","v":0},{"$f":"[2]Лист1!C159","v":1109.07},1109.07,0,0]
[{"$f":"мощность!$AA$8","v":"05.07.2025"},6,{"$f":"мощность!H8","v":0},{"$f":"[2]Лист1!C160","v":1215.8699999999999},1215.8699999999999,0,0]
[{"$f":"мощность!$AA$8","v":"05.07.2025"},7,{"$f":"мощность!I8","v":0},{"$f":"[2]Лист1!C161","v":1564.7},1564.7,0,0]
[{"$f":"мощность!$AA$8","v":"05.07.2025"},8,{"$f":"мощность!J8","v":0},{"$f":"[2]Лист1!C162","v":2011.01},2011.01,0,0]
[{"$f":"мощность!$AA$8","v":"05.07.2025"},9,{"$f":"мощность!K8","v":0},{"$f":"[2]Лист1!C163","v":2232.75},2232.75,0,0]
[{"$f":"мощность!$AA$8","v":"05.07.2025"},10,{"$f":"мощность!L8","v":0},{"$f":"[2]Лист1!C164","v":2295.11},2295.11,0,0]
[{"$f":"мощность!$AA$8","v":"05.07.2025"},11,{"$f":"мощность!M8","v":0},{"$f":"[2]Лист1!C165","v":2317.44},2317.44,0,0]
[{"$f":"мощность!$AA$8","v":"05.07.2025"},12,{"$f":"мощность!N8","v":0},{"$f":"[2]Лист1!C166","v":2313.88},2313.88,0,0]
[{"$f":"мощность!$AA$8","v":"05.07.2025"},13,{"$f":"мощность!O8","v":0},{"$f":"[2]Лист1!C167","v":2317.88},2317.88,0,0]
[{"$f":"мощность!$AA$8","v":"05.07.2025"},14,{"$f":"мощность!P8","v":0},{"$f":"[2]Лист1!C168","v":2312.31},2312.31,0,0]
[{"$f":"мощность!$AA$8","v":"05.07.2025"},15,{"$f":"мощность!Q8","v":0},{"$f":"[2]Лист1!C169","v":2363.04},2363.04,0,0]
[{"$f":"мощность!$AA$8","v":"05.07.2025"},16,{"$f":"мощность!R8","v":0},{"$f":"[2]Лист1!C170","v":2369.09},2369.09,0,0]
[{"$f":"мощность!$AA$8","v":"05.07.2025"},17,{"$f":"мощность!S8","v":0},{"$f":"[2]Лист1!C171","v":2334.4899999999998},2334.4899999999998,0,0]
[{"$f":"мощность!$AA$8","v":"05.07.2025"},18,{"$f":"мощность!T8","v":0},{"$f":"[2]Лист1!C172","v":2317.83},2317.83,0,0]
[{"$f":"мощность!$AA$8","v":"05.07.2025"},19,{"$f":"мощность!U8","v":0},{"$f":"[2]Лист1!C173","v":2294.0700000000002},2294.0700000000002,0,0]
[{"$f":"мощность!$AA$8","v":"05.07.2025"},20,{"$f":"мощность!V8","v":0},{"$f":"[2]Лист1!C174","v":2290.79},2290.79,0,0]
[{"$f":"мощность!$AA$8","v":"05.07.2025"},21,{"$f":"мощность!W8","v":0},{"$f":"[2]Лист1!C175","v":2302.59},2302.59,0,0]
[{"$f":"мощность!$AA$8","v":"05.07.2025"},22,{"$f":"мощность!X8","v":0},{"$f":"[2]Лист1!C176","v":2038.27},2038.27,0,0]
[{"$f":"мощность!$AA$8","v":"05.07.2025"},23,{"$f":"мощность!Y8","v":0},{"$f":"[2]Лист1!C177","v":1854.95},1854.95,0,0]
[{"$f":"мощность!$AA$9","v":"06.07.2025"},0,{"$f":"мощность!B9","v":0},{"$f":"[2]Лист1!C178","v":1667.6},1667.6,0,0]
[{"$f":"мощность!$AA$9","v":"06.07.2025"},1,{"$f":"мощность!C9","v":0},{"$f":"[2]Лист1!C179","v":1423.19},1423.19,0,0]
[{"$f":"мощность!$AA$9","v":"06.07.2025"},2,{"$f":"мощность!D9","v":0},{"$f":"[2]Лист1!C180","v":1305.76},1305.76,0,0]
[{"$f":"мощность!$AA$9","v":"06.07.2025"},3,{"$f":"мощность!E9","v":0},{"$f":"[2]Лист1!C181","v":1124.95},1124.95,0,0]
[{"$f":"мощность!$AA$9","v":"06.07.2025"},4,{"$f":"мощность!F9","v":0},{"$f":"[2]Лист1!C182","v":1066.8599999999999},1066.8599999999999,0,0]
[{"$f":"мощность!$AA$9","v":"06.07.2025"},5,{"$f":"мощность!G9","v":0},{"$f":"[2]Лист1!C183","v":1064.6400000000001},1064.6400000000001,0,0]
[{"$f":"мощность!$AA$9","v":"06.07.2025"},6,{"$f":"мощность!H9","v":0},{"$f":"[2]Лист1!C184","v":1019.76},1019.76,0,0]
[{"$f":"мощность!$AA$9","v":"06.07.2025"},7,{"$f":"мощность!I9","v":0},{"$f":"[2]Лист1!C185","v":1433.84},1433.84,0,0]
[{"$f":"мощность!$AA$9","v":"06.07.2025"},8,{"$f":"мощность!J9","v":0},{"$f":"[2]Лист1!C186","v":1827.31},1827.31,0,0]
[{"$f":"мощность!$AA$9","v":"06.07.2025"},9,{"$f":"мощность!K9","v":0},{"$f":"[2]Лист1!C187","v":2149.17},{"$f":"1*D131","v":2149.17},{"$f":"ROUND(C131*D131/1000,2)","v":0},{"$f":"ROUND(C131*E131/1000,2)","v":0}]
[{"$f":"мощность!$AA$9","v":"06.07.2025"},10,{"$f":"мощность!L9","v":0},{"$f":"[2]Лист1!C188","v":2273.6999999999998},2273.6999999999998,0,0]
[{"$f":"мощность!$AA$9","v":"06.07.2025"},11,{"$f":"мощность!M9","v":0},{"$f":"[2]Лист1!C189","v":2272.33},2272.33,0,0]
[{"$f":"мощность!$AA$9","v":"06.07.2025"},12,{"$f":"мощность!N9","v":0},{"$f":"[2]Лист1!C190","v":2272.41},2272.41,0,0]
[{"$f":"мощность!$AA$9","v":"06.07.2025"},13,{"$f":"мощность!O9","v":0},{"$f":"[2]Лист1!C191","v":2278.85},2278.85,0,0]
[{"$f":"мощность!$AA$9","v":"06.07.2025"},14,{"$f":"мощность!P9","v":0},{"$f":"[2]Лист1!C192","v":2281.6999999999998},2281.6999999999998,0,0]
[{"$f":"мощность!$AA$9","v":"06.07.2025"},15,{"$f":"мощность!Q9","v":0},{"$f":"[2]Лист1!C193","v":2283.9},2283.9,0,0]
[{"$f":"мощность!$AA$9","v":"06.07.2025"},16,{"$f":"мощность!R9","v":0},{"$f":"[2]Лист1!C194","v":2326.02},2326.02,0,0]
[{"$f":"мощность!$AA$9","v":"06.07.2025"},17,{"$f":"мощность!S9","v":0},{"$f":"[2]Лист1!C195","v":2315.98},2315.98,0,0]
[{"$f":"мощность!$AA$9","v":"06.07.2025"},18,{"$f":"мощность!T9","v":0},{"$f":"[2]Лист1!C196","v":2313.4699999999998},2313.4699999999998,0,0]
[{"$f":"мощность!$AA$9","v":"06.07.2025"},19,{"$f":"мощность!U9","v":0},{"$f":"[2]Лист1!C197","v":2288.8200000000002},2288.8200000000002,0,0]
[{"$f":"мощность!$AA$9","v":"06.07.2025"},20,{"$f":"мощность!V9","v":0},{"$f":"[2]Лист1!C198","v":2284.9499999999998},2284.9499999999998,0,0]
[{"$f":"мощность!$AA$9","v":"06.07.2025"},21,{"$f":"мощность!W9","v":0},{"$f":"[2]Лист1!C199","v":2278.88},2278.88,0,0]
[{"$f":"мощность!$AA$9","v":"06.07.2025"},22,{"$f":"мощность!X9","v":0},{"$f":"[2]Лист1!C200","v":2056.7600000000002},2056.7600000000002,0,0]
[{"$f":"мощность!$AA$9","v":"06.07.2025"},23,{"$f":"мощность!Y9","v":0},{"$f":"[2]Лист1!C201","v":1726.88},1726.88,0,0]
[{"$f":"мощность!$AA$10","v":"07.07.2025"},0,{"$f":"мощность!B10","v":0},{"$f":"[2]Лист1!C202","v":1572.67},1572.67,0,0]
[{"$f":"мощность!$AA$10","v":"07.07.2025"},1,{"$f":"мощность!C10","v":0},{"$f":"[2]Лист1!C203","v":1409.45},1409.45,0,0]
[{"$f":"мощность!$AA$10","v":"07.07.2025"},2,{"$f":"мощность!D10","v":0},{"$f":"[2]Лист1!C204","v":1221.6500000000001},1221.6500000000001,0,0]
[{"$f":"мощность!$AA$10","v":"07.07.2025"},3,{"$f":"мощность!E10","v":0},{"$f":"[2]Лист1!C205","v":1081.81},1081.81,0,0]
[{"$f":"мощность!$AA$10","v":"07.07.2025"},4,{"$f":"мощность!F10","v":0},{"$f":"[2]Лист1!C206","v":1048.6400000000001},1048.6400000000001,0,0]
[{"$f":"мощность!$AA$10","v":"07.07.2025"},5,{"$f":"мощность!G10","v":0},{"$f":"[2]Лист1!C207","v":1131.2},1131.2,0,0]
[{"$f":"мощность!$AA$10","v":"07.07.2025"},6,{"$f":"мощность!H10","v":0},{"$f":"[2]Лист1!C208","v":1431.98},1431.98,0,0]
[{"$f":"мощность!$AA$10","v":"07.07.2025"},7,{"$f":"мощность!I10","v":0},{"$f":"[2]Лист1!C209","v":1867.01},1867.01,0,0]
[{"$f":"мощность!$AA$10","v":"07.07.2025"},8,{"$f":"мощность!J10","v":0},{"$f":"[2]Лист1!C210","v":2373.73},2373.73,0,0]
[{"$f":"мощность!$AA$10","v":"07.07.2025"},9,{"$f":"мощность!K10","v":0},{"$f":"[2]Лист1!C211","v":2459.88},2459.88,0,0]
[{"$f":"мощность!$AA$10","v":"07.07.2025"},10,{"$f":"мощность!L10","v":0},{"$f":"[2]Лист1!C212","v":2503.65},2503.65,0,0]
[{"$f":"мощность!$AA$10","v":"07.07.2025"},11,{"$f":"мощность!M10","v":0},{"$f":"[2]Лист1!C213","v":2320.48},2320.48,0,0]
[{"$f":"мощность!$AA$10","v":"07.07.2025"},12,{"$f":"мощность!N10","v":0},{"$f":"[2]Лист1!C214","v":2297.2399999999998},2297.2399999999998,0,0]
[{"$f":"мощность!$AA$10","v":"07.07.2025"},13,{"$f":"мощность!O10","v":0},{"$f":"[2]Лист1!C215","v":2310.69},2310.69,0,0]
[{"$f":"мощность!$AA$10","v":"07.07.2025"},14,{"$f":"мощность!P10","v":0},{"$f":"[2]Лист1!C216","v":2358.0700000000002},2358.0700000000002,0,0]
[{"$f":"мощность!$AA$10","v":"07.07.2025"},15,{"$f":"мощность!Q10","v":0},{"$f":"[2]Лист1!C217","v":2429.7199999999998},2429.7199999999998,0,0]
[{"$f":"мощность!$AA$10","v":"07.07.2025"},16,{"$f":"мощность!R10","v":0},{"$f":"[2]Лист1!C218","v":2391.5300000000002},2391.5300000000002,0,0]
[{"$f":"мощность!$AA$10","v":"07.07.2025"},17,{"$f":"мощность!S10","v":0},{"$f":"[2]Лист1!C219","v":2454.29},2454.29,0,0]
[{"$f":"мощность!$AA$10","v":"07.07.2025"},18,{"$f":"мощность!T10","v":0},{"$f":"[2]Лист1!C220","v":2411.4699999999998},2411.4699999999998,0,0]
[{"$f":"мощность!$AA$10","v":"07.07.2025"},19,{"$f":"мощность!U10","v":0},{"$f":"[2]Лист1!C221","v":2329.7600000000002},2329.7600000000002,0,0]
[{"$f":"мощность!$AA$10","v":"07.07.2025"},20,{"$f":"мощность!V10","v":0},{"$f":"[2]Лист1!C222","v":2312.5500000000002},2312.5500000000002,0,0]
[{"$f":"мощность!$AA$10","v":"07.07.2025"},21,{"$f":"мощность!W10","v":0},{"$f":"[2]Лист1!C223","v":2321.2399999999998},2321.2399999999998,0,0]
[{"$f":"мощность!$AA$10","v":"07.07.2025"},22,{"$f":"мощность!X10","v":0},{"$f":"[2]Лист1!C224","v":2011.47},2011.47,0,0]
[{"$f":"мощность!$AA$10","v":"07.07.2025"},23,{"$f":"мощность!Y10","v":0},{"$f":"[2]Лист1!C225","v":1758.27},1758.27,0,0]
[{"$f":"мощность!$AA$11","v":"08.07.2025"},0,{"$f":"мощность!B11","v":0},{"$f":"[2]Лист1!C226","v":1419.28},1419.28,0,0]
[{"$f":"мощность!$AA$11","v":"08.07.2025"},1,{"$f":"мощность!C11","v":0},{"$f":"[2]Лист1!C227","v":1157.74},1157.74,0,0]
[{"$f":"мощность!$AA$11","v":"08.07.2025"},2,{"$f":"мощность!D11","v":0},{"$f":"[2]Лист1!C228","v":1003.32},1003.32,0,0]
[{"$f":"мощность!$AA$11","v":"08.07.2025"},3,{"$f":"мощность!E11","v":0},{"$f":"[2]Лист1!C229","v":162.34},162.34,0,0]
[{"$f":"мощность!$AA$11","v":"08.07.2025"},4,{"$f":"мощность!F11","v":0},{"$f":"[2]Лист1!C230","v":123.74},123.74,0,0]
[{"$f":"мощность!$AA$11","v":"08.07.2025"},5,{"$f":"мощность!G11","v":0},{"$f":"[2]Лист1!C231","v":136.96},136.96,0,0]
[{"$f":"мощность!$AA$11","v":"08.07.2025"},6,{"$f":"мощность!H11","v":0},{"$f":"[2]Лист1!C232","v":1131.81},1131.81,0,0]
[{"$f":"мощность!$AA$11","v":"08.07.2025"},7,{"$f":"мощность!I11","v":0},{"$f":"[2]Лист1!C233","v":1696.85},1696.85,0,0]
[{"$f":"мощность!$AA$11","v":"08.07.2025"},8,{"$f":"мощность!J11","v":0},{"$f":"[2]Лист1!C234","v":2207.87},2207.87,0,0]
[{"$f":"мощность!$AA$11","v":"08.07.2025"},9,{"$f":"мощность!K11","v":0},{"$f":"[2]Лист1!C235","v":2268.7399999999998},2268.7399999999998,0,0]
[{"$f":"мощность!$AA$11","v":"08.07.2025"},10,{"$f":"мощность!L11","v":0},{"$f":"[2]Лист1!C236","v":2196.37},2196.37,0,0]
[{"$f":"мощность!$AA$11","v":"08.07.2025"},11,{"$f":"мощность!M11","v":0},{"$f":"[2]Лист1!C237","v":2185.9},2185.9,0,0]
[{"$f":"мощность!$AA$11","v":"08.07.2025"},12,{"$f":"мощность!N11","v":0},{"$f":"[2]Лист1!C238","v":2176.56},2176.56,0,0]
[{"$f":"мощность!$AA$11","v":"08.07.2025"},13,{"$f":"мощность!O11","v":0},{"$f":"[2]Лист1!C239","v":2172.16},2172.16,0,0]
[{"$f":"мощность!$AA$11","v":"08.07.2025"},14,{"$f":"мощность!P11","v":0},{"$f":"[2]Лист1!C240","v":1695.59},1695.59,0,0]
[{"$f":"мощность!$AA$11","v":"08.07.2025"},15,{"$f":"мощность!Q11","v":0},{"$f":"[2]Лист1!C241","v":2085.77},2085.77,0,0]
[{"$f":"мощность!$AA$11","v":"08.07.2025"},16,{"$f":"мощность!R11","v":0},{"$f":"[2]Лист1!C242","v":2238.69},2238.69,0,0]
[{"$f":"мощность!$AA$11","v":"08.07.2025"},17,{"$f":"мощность!S11","v":0},{"$f":"[2]Лист1!C243","v":2199.64},2199.64,0,0]
[{"$f":"мощность!$AA$11","v":"08.07.2025"},18,{"$f":"мощность!T11","v":0},{"$f":"[2]Лист1!C244","v":2309.66},2309.66,0,0]
[{"$f":"мощность!$AA$11","v":"08.07.2025"},19,{"$f":"мощность!U11","v":0},{"$f":"[2]Лист1!C245","v":2127.27},2127.27,0,0]
[{"$f":"мощность!$AA$11","v":"08.07.2025"},20,{"$f":"мощность!V11","v":0},{"$f":"[2]Лист1!C246","v":1934.06},1934.06,0,0]
[{"$f":"мощность!$AA$11","v":"08.07.2025"},21,{"$f":"мощность!W11","v":0},{"$f":"[2]Лист1!C247","v":2215.2399999999998},2215.2399999999998,0,0]
[{"$f":"мощность!$AA$11","v":"08.07.2025"},22,{"$f":"мощность!X11","v":0},{"$f":"[2]Лист1!C248","v":1922.78},1922.78,0,0]
[{"$f":"мощность!$AA$11","v":"08.07.2025"},23,{"$f":"мощность!Y11","v":0},{"$f":"[2]Лист1!C249","v":1719.85},1719.85,0,0]
[{"$f":"мощность!$AA$12","v":"09.07.2025"},0,{"$f":"мощность!B12","v":0},{"$f":"[2]Лист1!C250","v":1472.96},1472.96,0,0]
[{"$f":"мощность!$AA$12","v":"09.07.2025"},1,{"$f":"мощность!C12","v":0},{"$f":"[2]Лист1!C251","v":1041.49},{"$f":"1*D195","v":1041.49},{"$f":"ROUND(C195*D195/1000,2)","v":0},{"$f":"ROUND(C195*E195/1000,2)","v":0}]
[{"$f":"мощность!$AA$12","v":"09.07.2025"},2,{"$f":"мощность!D12","v":0},{"$f":"[2]Лист1!C252","v":127.56},127.56,0,0]
[{"$f":"мощность!$AA$12","v":"09.07.2025"},3,{"$f":"мощность!E12","v":0},{"$f":"[2]Лист1!C253","v":124.79},124.79,0,0]
[{"$f":"мощность!$AA$12","v":"09.07.2025"},4,{"$f":"мощность!F12","v":0},{"$f":"[2]Лист1!C254","v":122.23},122.23,0,0]
[{"$f":"мощность!$AA$12","v":"09.07.2025"},5,{"$f":"мощность!G12","v":0},{"$f":"[2]Лист1!C255","v":134.26},134.26,0,0]
[{"$f":"мощность!$AA$12","v":"09.07.2025"},6,{"$f":"мощность!H12","v":0},{"$f":"[2]Лист1!C256","v":1042.94},1042.94,0,0]
[{"$f":"мощность!$AA$12","v":"09.07.2025"},7,{"$f":"мощность!I12","v":0},{"$f":"[2]Лист1!C257","v":1660.1},1660.1,0,0]
[{"$f":"мощность!$AA$12","v":"09.07.2025"},8,{"$f":"мощность!J12","v":0},{"$f":"[2]Лист1!C258","v":1594.83},1594.83,0,0]
[{"$f":"мощность!$AA$12","v":"09.07.2025"},9,{"$f":"мощность!K12","v":0},{"$f":"[2]Лист1!C259","v":1475.08},1475.08,0,0]
[{"$f":"мощность!$AA$12","v":"09.07.2025"},10,{"$f":"мощность!L12","v":0},{"$f":"[2]Лист1!C260","v":2153.4899999999998},2153.4899999999998,0,0]
[{"$f":"мощность!$AA$12","v":"09.07.2025"},11,{"$f":"мощность!M12","v":0},{"$f":"[2]Лист1!C261","v":1974.53},1974.53,0,0]
[{"$f":"мощность!$AA$12","v":"09.07.2025"},12,{"$f":"мощность!N12","v":0},{"$f":"[2]Лист1!C262","v":1403.6},1403.6,0,0]
[{"$f":"мощность!$AA$12","v":"09.07.2025"},13,{"$f":"мощность!O12","v":0},{"$f":"[2]Лист1!C263","v":1386.34},1386.34,0,0]
[{"$f":"мощность!$AA$12","v":"09.07.2025"},14,{"$f":"мощность!P12","v":0},{"$f":"[2]Лист1!C264","v":1485.63},1485.63,0,0]
[{"$f":"мощность!$AA$12","v":"09.07.2025"},15,{"$f":"мощность!Q12","v":0},{"$f":"[2]Лист1!C265","v":1428.14},1428.14,0,0]
[{"$f":"мощность!$AA$12","v":"09.07.2025"},16,{"$f":"мощность!R12","v":0},{"$f":"[2]Лист1!C266","v":1750.5},1750.5,0,0]
[{"$f":"мощность!$AA$12","v":"09.07.2025"},17,{"$f":"мощность!S12","v":0},{"$f":"[2]Лист1!C267","v":1392.42},1392.42,0,0]
[{"$f":"мощность!$AA$12","v":"09.07.2025"},18,{"$f":"мощность!T12","v":0},{"$f":"[2]Лист1!C268","v":1342.4},1342.4,0,0]
[{"$f":"мощность!$AA$12","v":"09.07.2025"},19,{"$f":"мощность!U12","v":0},{"$f":"[2]Лист1!C269","v":1763.72},1763.72,0,0]
[{"$f":"мощность!$AA$12","v":"09.07.2025"},20,{"$f":"мощность!V12","v":0},{"$f":"[2]Лист1!C270","v":1746.77},1746.77,0,0]
[{"$f":"мощность!$AA$12","v":"09.07.2025"},21,{"$f":"мощность!W12","v":0},{"$f":"[2]Лист1!C271","v":1782.93},1782.93,0,0]
[{"$f":"мощность!$AA$12","v":"09.07.2025"},22,{"$f":"мощность!X12","v":0},{"$f":"[2]Лист1!C272","v":1885.92},1885.92,0,0]
[{"$f":"мощность!$AA$12","v":"09.07.2025"},23,{"$f":"мощность!Y12","v":0},{"$f":"[2]Лист1!C273","v":1461.63},1461.63,0,0]
[{"$f":"мощность!$AA$13","v":"10.07.2025"},0,{"$f":"мощность!B13","v":0},{"$f":"[2]Лист1!C274","v":1245.93},1245.93,0,0]
[{"$f":"мощность!$AA$13","v":"10.07.2025"},1,{"$f":"мощность!C13","v":0},{"$f":"[2]Лист1!C275","v":990.75},990.75,0,0]
[{"$f":"мощность!$AA$13","v":"10.07.2025"},2,{"$f":"мощность!D13","v":0},{"$f":"[2]Лист1!C276","v":115.7},115.7,0,0]
[{"$f":"мощность!$AA$13","v":"10.07.2025"},3,{"$f":"мощность!E13","v":0},{"$f":"[2]Лист1!C277","v":95.83},95.83,0,0]
[{"$f":"мощность!$AA$13","v":"10.07.2025"},4,{"$f":"мощность!F13","v":0},{"$f":"[2]Лист1!C278","v":102.84},102.84,0,0]
[{"$f":"мощность!$AA$13","v":"10.07.2025"},5,{"$f":"мощность!G13","v":0},{"$f":"[2]Лист1!C279","v":121.57},121.57,0,0]
[{"$f":"мощность!$AA$13","v":"10.07.2025"},6,{"$f":"мощность!H13","v":0},{"$f":"[2]Лист1!C280","v":644.41999999999996},644.41999999999996,0,0]
[{"$f":"мощность!$AA$13","v":"10.07.2025"},7,{"$f":"мощность!I13","v":0},{"$f":"[2]Лист1!C281","v":1509.47},1509.47,0,0]
[{"$f":"мощность!$AA$13","v":"10.07.2025"},8,{"$f":"мощность!J13","v":0},{"$f":"[2]Лист1!C282","v":1803.07},1803.07,0,0]
[{"$f":"мощность!$AA$13","v":"10.07.2025"},9,{"$f":"мощность!K13","v":0},{"$f":"[2]Лист1!C283","v":2154.87},2154.87,0,0]
[{"$f":"мощность!$AA$13","v":"10.07.2025"},10,{"$f":"мощность!L13","v":0},{"$f":"[2]Лист1!C284","v":1539.75},1539.75,0,0]
[{"$f":"мощность!$AA$13","v":"10.07.2025"},11,{"$f":"мощность!M13","v":0},{"$f":"[2]Лист1!C285","v":1542.43},1542.43,0,0]
[{"$f":"мощность!$AA$13","v":"10.07.2025"},12,{"$f":"мощность!N13","v":0},{"$f":"[2]Лист1!C286","v":1397.27},1397.27,0,0]
[{"$f":"мощность!$AA$13","v":"10.07.2025"},13,{"$f":"мощность!O13","v":0},{"$f":"[2]Лист1!C287","v":1427.82},1427.82,0,0]
[{"$f":"мощность!$AA$13","v":"10.07.2025"},14,{"$f":"мощность!P13","v":0},{"$f":"[2]Лист1!C288","v":1576.56},1576.56,0,0]
[{"$f":"мощность!$AA$13","v":"10.07.2025"},15,{"$f":"мощность!Q13","v":0},{"$f":"[2]Лист1!C289","v":1567.74},1567.74,0,0]
[{"$f":"мощность!$AA$13","v":"10.07.2025"},16,{"$f":"мощность!R13","v":0},{"$f":"[2]Лист1!C290","v":1852.69},1852.69,0,0]
[{"$f":"мощность!$AA$13","v":"10.07.2025"},17,{"$f":"мощность!S13","v":0},{"$f":"[2]Лист1!C291","v":2002.4},2002.4,0,0]
[{"$f":"мощность!$AA$13","v":"10.07.2025"},18,{"$f":"мощность!T13","v":0},{"$f":"[2]Лист1!C292","v":2134.15},2134.15,0,0]
[{"$f":"мощность!$AA$13","v":"10.07.2025"},19,{"$f":"мощность!U13","v":0},{"$f":"[2]Лист1!C293","v":1518.67},1518.67,0,0]
[{"$f":"мощность!$AA$13","v":"10.07.2025"},20,{"$f":"мощность!V13","v":0},{"$f":"[2]Лист1!C294","v":1941.83},1941.83,0,0]
[{"$f":"мощность!$AA$13","v":"10.07.2025"},21,{"$f":"мощность!W13","v":0},{"$f":"[2]Лист1!C295","v":2160.04},2160.04,0,0]
[{"$f":"мощность!$AA$13","v":"10.07.2025"},22,{"$f":"мощность!X13","v":0},{"$f":"[2]Лист1!C296","v":2148.56},2148.56,0,0]
[{"$f":"мощность!$AA$13","v":"10.07.2025"},23,{"$f":"мощность!Y13","v":0},{"$f":"[2]Лист1!C297","v":1682.65},1682.65,0,0]
[{"$f":"мощность!$AA$14","v":"11.07.2025"},0,{"$f":"мощность!B14","v":0},{"$f":"[2]Лист1!C298","v":1109.99},1109.99,0,0]
[{"$f":"мощность!$AA$14","v":"11.07.2025"},1,{"$f":"мощность!C14","v":0},{"$f":"[2]Лист1!C299","v":936.76},936.76,0,0]
[{"$f":"мощность!$AA$14","v":"11.07.2025"},2,{"$f":"мощность!D14","v":0},{"$f":"[2]Лист1!C300","v":125.75},125.75,0,0]
[{"$f":"мощность!$AA$14","v":"11.07.2025"},3,{"$f":"мощность!E14","v":0},{"$f":"[2]Лист1!C301","v":121.47},121.47,0,0]
[{"$f":"мощность!$AA$14","v":"11.07.2025"},4,{"$f":"мощность!F14","v":0},{"$f":"[2]Лист1!C302","v":122.68},122.68,0,0]
[{"$f":"мощность!$AA$14","v":"11.07.2025"},5,{"$f":"мощность!G14","v":0},{"$f":"[2]Лист1!C303","v":124.82},124.82,0,0]
[{"$f":"мощность!$AA$14","v":"11.07.2025"},6,{"$f":"мощность!H14","v":0},{"$f":"[2]Лист1!C304","v":1422.04},1422.04,0,0]
[{"$f":"мощность!$AA$14","v":"11.07.2025"},7,{"$f":"мощность!I14","v":0},{"$f":"[2]Лист1!C305","v":1945.3},1945.3,0,0]
[{"$f":"мощность!$AA$14","v":"11.07.2025"},8,{"$f":"мощность!J14","v":0},{"$f":"[2]Лист1!C306","v":2195.77},2195.77,0,0]
[{"$f":"мощность!$AA$14","v":"11.07.2025"},9,{"$f":"мощность!K14","v":0},{"$f":"[2]Лист1!C307","v":2246.7600000000002},2246.7600000000002,0,0]
[{"$f":"мощность!$AA$14","v":"11.07.2025"},10,{"$f":"мощность!L14","v":0},{"$f":"[2]Лист1!C308","v":2350.19},2350.19,0,0]
[{"$f":"мощность!$AA$14","v":"11.07.2025"},11,{"$f":"мощность!M14","v":0},{"$f":"[2]Лист1!C309","v":2437.9299999999998},2437.9299999999998,0,0]
[{"$f":"мощность!$AA$14","v":"11.07.2025"},12,{"$f":"мощность!N14","v":0},{"$f":"[2]Лист1!C310","v":2433.9499999999998},2433.9499999999998,0,0]
[{"$f":"мощность!$AA$14","v":"11.07.2025"},13,{"$f":"мощность!O14","v":0},{"$f":"[2]Лист1!C311","v":2413.3200000000002},2413.3200000000002,0,0]
[{"$f":"мощность!$AA$14","v":"11.07.2025"},14,{"$f":"мощность!P14","v":0},{"$f":"[2]Лист1!C312","v":2445.16},2445.16,0,0]
[{"$f":"мощность!$AA$14","v":"11.07.2025"},15,{"$f":"мощность!Q14","v":0},{"$f":"[2]Лист1!C313","v":2457.15},2457.15,0,0]
[{"$f":"мощность!$AA$14","v":"11.07.2025"},16,{"$f":"мощность!R14","v":0},{"$f":"[2]Лист1!C314","v":2428.2199999999998},2428.2199999999998,0,0]
[{"$f":"мощность!$AA$14","v":"11.07.2025"},17,{"$f":"мощность!S14","v":0},{"$f":"[2]Лист1!C315","v":2313.21},{"$f":"1*D259","v":2313.21},{"$f":"ROUND(C259*D259/1000,2)","v":0},{"$f":"ROUND(C259*E259/1000,2)","v":0}]
[{"$f":"мощность!$AA$14","v":"11.07.2025"},18,{"$f":"мощность!T14","v":0},{"$f":"[2]Лист1!C316","v":2319.58},2319.58,0,0]
[{"$f":"мощность!$AA$14","v":"11.07.2025"},19,{"$f":"мощность!U14","v":0},{"$f":"[2]Лист1!C317","v":2180.08},2180.08,0,0]
[{"$f":"мощность!$AA$14","v":"11.07.2025"},20,{"$f":"мощность!V14","v":0},{"$f":"[2]Лист1!C318","v":2344.2800000000002},2344.2800000000002,0,0]
[{"$f":"мощность!$AA$14","v":"11.07.2025"},21,{"$f":"мощность!W14","v":0},{"$f":"[2]Лист1!C319","v":2273},2273,0,0]
[{"$f":"мощность!$AA$14","v":"11.07.2025"},22,{"$f":"мощность!X14","v":0},{"$f":"[2]Лист1!C320","v":2315},2315,0,0]
[{"$f":"мощность!$AA$14","v":"11.07.2025"},23,{"$f":"мощность!Y14","v":0},{"$f":"[2]Лист1!C321","v":2047.61},2047.61,0,0]
[{"$f":"мощность!$AA$15","v":"12.07.2025"},0,{"$f":"мощность!B15","v":0},{"$f":"[2]Лист1!C322","v":1782.08},1782.08,0,0]
[{"$f":"мощность!$AA$15","v":"12.07.2025"},1,{"$f":"мощность!C15","v":0},{"$f":"[2]Лист1!C323","v":1126.33},1126.33,0,0]
[{"$f":"мощность!$AA$15","v":"12.07.2025"},2,{"$f":"мощность!D15","v":0},{"$f":"[2]Лист1!C324","v":1187.4000000000001},1187.4000000000001,0,0]
[{"$f":"мощность!$AA$15","v":"12.07.2025"},3,{"$f":"мощность!E15","v":0},{"$f":"[2]Лист1!C325","v":444.37},444.37,0,0]
[{"$f":"мощность!$AA$15","v":"12.07.2025"},4,{"$f":"мощность!F15","v":0},{"$f":"[2]Лист1!C326","v":144.99},144.99,0,0]
[{"$f":"мощность!$AA$15","v":"12.07.2025"},5,{"$f":"мощность!G15","v":0},{"$f":"[2]Лист1!C327","v":143.37},143.37,0,0]
[{"$f":"мощность!$AA$15","v":"12.07.2025"},6,{"$f":"мощность!H15","v":0},{"$f":"[2]Лист1!C328","v":853.28},853.28,0,0]
[{"$f":"мощность!$AA$15","v":"12.07.2025"},7,{"$f":"мощность!I15","v":0},{"$f":"[2]Лист1!C329","v":1402.96},1402.96,0,0]
[{"$f":"мощность!$AA$15","v":"12.07.2025"},8,{"$f":"мощность!J15","v":0},{"$f":"[2]Лист1!C330","v":2129.16},2129.16,0,0]
[{"$f":"мощность!$AA$15","v":"12.07.2025"},9,{"$f":"мощность!K15","v":0},{"$f":"[2]Лист1!C331","v":2101.81},2101.81,0,0]
[{"$f":"мощность!$AA$15","v":"12.07.2025"},10,{"$f":"мощность!L15","v":0},{"$f":"[2]Лист1!C332","v":2278.0100000000002},2278.0100000000002,0,0]
[{"$f":"мощность!$AA$15","v":"12.07.2025"},11,{"$f":"мощность!M15","v":0},{"$f":"[2]Лист1!C333","v":1616.88},1616.88,0,0]
[{"$f":"мощность!$AA$15","v":"12.07.2025"},12,{"$f":"мощность!N15","v":0},{"$f":"[2]Лист1!C334","v":1484.93},1484.93,0,0]
[{"$f":"мощность!$AA$15","v":"12.07.2025"},13,{"$f":"мощность!O15","v":0},{"$f":"[2]Лист1!C335","v":1534.4},1534.4,0,0]
[{"$f":"мощность!$AA$15","v":"12.07.2025"},14,{"$f":"мощность!P15","v":0},{"$f":"[2]Лист1!C336","v":1569.93},1569.93,0,0]
[{"$f":"мощность!$AA$15","v":"12.07.2025"},15,{"$f":"мощность!Q15","v":0},{"$f":"[2]Лист1!C337","v":1885.62},1885.62,0,0]
[{"$f":"мощность!$AA$15","v":"12.07.2025"},16,{"$f":"мощность!R15","v":0},{"$f":"[2]Лист1!C338","v":1909.98},1909.98,0,0]
[{"$f":"мощность!$AA$15","v":"12.07.2025"},17,{"$f":"мощность!S15","v":0},{"$f":"[2]Лист1!C339","v":2076.0500000000002},2076.0500000000002,0,0]
[{"$f":"мощность!$AA$15","v":"12.07.2025"},18,{"$f":"мощность!T15","v":0},{"$f":"[2]Лист1!C340","v":2333.36},2333.36,0,0]
[{"$f":"мощность!$AA$15","v":"12.07.2025"},19,{"$f":"мощность!U15","v":0},{"$f":"[2]Лист1!C341","v":2267.08},2267.08,0,0]
[{"$f":"мощность!$AA$15","v":"12.07.2025"},20,{"$f":"мощность!V15","v":0},{"$f":"[2]Лист1!C342","v":2317.6799999999998},2317.6799999999998,0,0]
[{"$f":"мощность!$AA$15","v":"12.07.2025"},21,{"$f":"мощность!W15","v":0},{"$f":"[2]Лист1!C343","v":2375.9899999999998},2375.9899999999998,0,0]
[{"$f":"мощность!$AA$15","v":"12.07.2025"},22,{"$f":"мощность!X15","v":0},{"$f":"[2]Лист1!C344","v":2231.04},2231.04,0,0]
[{"$f":"мощность!$AA$15","v":"12.07.2025"},23,{"$f":"мощность!Y15","v":0},{"$f":"[2]Лист1!C345","v":2141.27},2141.27,0,0]
[{"$f":"мощность!$AA$16","v":"13.07.2025"},0,{"$f":"мощность!B16","v":0},{"$f":"[2]Лист1!C346","v":1585.37},1585.37,0,0]
[{"$f":"мощность!$AA$16","v":"13.07.2025"},1,{"$f":"мощность!C16","v":0},{"$f":"[2]Лист1!C347","v":1381.05},1381.05,0,0]
[{"$f":"мощность!$AA$16","v":"13.07.2025"},2,{"$f":"мощность!D16","v":0},{"$f":"[2]Лист1!C348","v":1221.6400000000001},1221.6400000000001,0,0]
[{"$f":"мощность!$AA$16","v":"13.07.2025"},3,{"$f":"мощность!E16","v":0},{"$f":"[2]Лист1!C349","v":160.74},160.74,0,0]
[{"$f":"мощность!$AA$16","v":"13.07.2025"},4,{"$f":"мощность!F16","v":0},{"$f":"[2]Лист1!C350","v":128.56},128.56,0,0]
[{"$f":"мощность!$AA$16","v":"13.07.2025"},5,{"$f":"мощность!G16","v":0},{"$f":"[2]Лист1!C351","v":125.54},125.54,0,0]
[{"$f":"мощность!$AA$16","v":"13.07.2025"},6,{"$f":"мощность!H16","v":0},{"$f":"[2]Лист1!C352","v":809.41},809.41,0,0]
[{"$f":"мощность!$AA$16","v":"13.07.2025"},7,{"$f":"мощность!I16","v":0},{"$f":"[2]Лист1!C353","v":1291.48},1291.48,0,0]
[{"$f":"мощность!$AA$16","v":"13.07.2025"},8,{"$f":"мощность!J16","v":0},{"$f":"[2]Лист1!C354","v":1912.36},1912.36,0,0]
[{"$f":"мощность!$AA$16","v":"13.07.2025"},9,{"$f":"мощность!K16","v":0},{"$f":"[2]Лист1!C355","v":2157.73},2157.73,0,0]
[{"$f":"мощность!$AA$16","v":"13.07.2025"},10,{"$f":"мощность!L16","v":0},{"$f":"[2]Лист1!C356","v":2284.08},2284.08,0,0]
[{"$f":"мощность!$AA$16","v":"13.07.2025"},11,{"$f":"мощность!M16","v":0},{"$f":"[2]Лист1!C357","v":2186.14},2186.14,0,0]
[{"$f":"мощность!$AA$16","v":"13.07.2025"},12,{"$f":"мощность!N16","v":0},{"$f":"[2]Лист1!C358","v":2214.2199999999998},2214.2199999999998,0,0]
[{"$f":"мощность!$AA$16","v":"13.07.2025"},13,{"$f":"мощность!O16","v":0},{"$f":"[2]Лист1!C359","v":2242.87},2242.87,0,0]
[{"$f":"мощность!$AA$16","v":"13.07.2025"},14,{"$f":"мощность!P16","v":0},{"$f":"[2]Лист1!C360","v":2204.54},2204.54,0,0]
[{"$f":"мощность!$AA$16","v":"13.07.2025"},15,{"$f":"мощность!Q16","v":0},{"$f":"[2]Лист1!C361","v":2254.08},2254.08,0,0]
[{"$f":"мощность!$AA$16","v":"13.07.2025"},16,{"$f":"мощность!R16","v":0},{"$f":"[2]Лист1!C362","v":2184.4299999999998},2184.4299999999998,0,0]
[{"$f":"мощность!$AA$16","v":"13.07.2025"},17,{"$f":"мощность!S16","v":0},{"$f":"[2]Лист1!C363","v":2155.1799999999998},2155.1799999999998,0,0]
[{"$f":"мощность!$AA$16","v":"13.07.2025"},18,{"$f":"мощность!T16","v":0},{"$f":"[2]Лист1!C364","v":2442.7800000000002},2442.7800000000002,0,0]
[{"$f":"мощность!$AA$16","v":"13.07.2025"},19,{"$f":"мощность!U16","v":0},{"$f":"[2]Лист1!C365","v":2394.4499999999998},2394.4499999999998,0,0]
[{"$f":"мощность!$AA$16","v":"13.07.2025"},20,{"$f":"мощность!V16","v":0},{"$f":"[2]Лист1!C366","v":2378.0100000000002},2378.0100000000002,0,0]
[{"$f":"мощность!$AA$16","v":"13.07.2025"},21,{"$f":"мощность!W16","v":0},{"$f":"[2]Лист1!C367","v":2379.2399999999998},2379.2399999999998,0,0]
[{"$f":"мощность!$AA$16","v":"13.07.2025"},22,{"$f":"мощность!X16","v":0},{"$f":"[2]Лист1!C368","v":2264.7399999999998},2264.7399999999998,0,0]
[{"$f":"мощность!$AA$16","v":"13.07.2025"},23,{"$f":"мощность!Y16","v":0},{"$f":"[2]Лист1!C369","v":1871.39},1871.39,0,0]
[{"$f":"мощность!$AA$17","v":"14.07.2025"},0,{"$f":"мощность!B17","v":0},{"$f":"[2]Лист1!C370","v":1462.94},1462.94,0,0]
[{"$f":"мощность!$AA$17","v":"14.07.2025"},1,{"$f":"мощность!C17","v":0},{"$f":"[2]Лист1!C371","v":1274.4000000000001},1274.4000000000001,0,0]
[{"$f":"мощность!$AA$17","v":"14.07.2025"},2,{"$f":"мощность!D17","v":0},{"$f":"[2]Лист1!C372","v":217.7},217.7,0,0]
[{"$f":"мощность!$AA$17","v":"14.07.2025"},3,{"$f":"мощность!E17","v":0},{"$f":"[2]Лист1!C373","v":131.4},131.4,0,0]
[{"$f":"мощность!$AA$17","v":"14.07.2025"},4,{"$f":"мощность!F17","v":0},{"$f":"[2]Лист1!C374","v":128.09},128.09,0,0]
[{"$f":"мощность!$AA$17","v":"14.07.2025"},5,{"$f":"мощность!G17","v":0},{"$f":"[2]Лист1!C375","v":130.97},130.97,0,0]
[{"$f":"мощность!$AA$17","v":"14.07.2025"},6,{"$f":"мощность!H17","v":0},{"$f":"[2]Лист1!C376","v":893.8},893.8,0,0]
[{"$f":"мощность!$AA$17","v":"14.07.2025"},7,{"$f":"мощность!I17","v":0},{"$f":"[2]Лист1!C377","v":1735.38},1735.38,0,0]
[{"$f":"мощность!$AA$17","v":"14.07.2025"},8,{"$f":"мощность!J17","v":0},{"$f":"[2]Лист1!C378","v":2237.69},2237.69,0,0]
[{"$f":"мощность!$AA$17","v":"14.07.2025"},9,{"$f":"мощность!K17","v":0},{"$f":"[2]Лист1!C379","v":2399.98},{"$f":"1*D323","v":2399.98},{"$f":"ROUND(C323*D323/1000,2)","v":0},{"$f":"ROUND(C323*E323/1000,2)","v":0}]
[{"$f":"мощность!$AA$17","v":"14.07.2025"},10,{"$f":"мощность!L17","v":0},{"$f":"[2]Лист1!C380","v":2288.92},2288.92,0,0]
[{"$f":"мощность!$AA$17","v":"14.07.2025"},11,{"$f":"мощность!M17","v":0},{"$f":"[2]Лист1!C381","v":2293.4},2293.4,0,0]
[{"$f":"мощность!$AA$17","v":"14.07.2025"},12,{"$f":"мощность!N17","v":0},{"$f":"[2]Лист1!C382","v":2289.46},2289.46,0,0]
[{"$f":"мощность!$AA$17","v":"14.07.2025"},13,{"$f":"мощность!O17","v":0},{"$f":"[2]Лист1!C383","v":2291.2600000000002},2291.2600000000002,0,0]
[{"$f":"мощность!$AA$17","v":"14.07.2025"},14,{"$f":"мощность!P17","v":0},{"$f":"[2]Лист1!C384","v":2298.8000000000002},2298.8000000000002,0,0]
[{"$f":"мощность!$AA$17","v":"14.07.2025"},15,{"$f":"мощность!Q17","v":0},{"$f":"[2]Лист1!C385","v":2248.38},2248.38,0,0]
[{"$f":"мощность!$AA$17","v":"14.07.2025"},16,{"$f":"мощность!R17","v":0},{"$f":"[2]Лист1!C386","v":2437.1799999999998},2437.1799999999998,0,0]
[{"$f":"мощность!$AA$17","v":"14.07.2025"},17,{"$f":"мощность!S17","v":0},{"$f":"[2]Лист1!C387","v":2435.58},2435.58,0,0]
[{"$f":"мощность!$AA$17","v":"14.07.2025"},18,{"$f":"мощность!T17","v":0},{"$f":"[2]Лист1!C388","v":2412.98},2412.98,0,0]
[{"$f":"мощность!$AA$17","v":"14.07.2025"},19,{"$f":"мощность!U17","v":0},{"$f":"[2]Лист1!C389","v":2354.35},2354.35,0,0]
[{"$f":"мощность!$AA$17","v":"14.07.2025"},20,{"$f":"мощность!V17","v":0},{"$f":"[2]Лист1!C390","v":2377.92},2377.92,0,0]
[{"$f":"мощность!$AA$17","v":"14.07.2025"},21,{"$f":"мощность!W17","v":0},{"$f":"[2]Лист1!C391","v":2412.65},2412.65,0,0]
[{"$f":"мощность!$AA$17","v":"14.07.2025"},22,{"$f":"мощность!X17","v":0},{"$f":"[2]Лист1!C392","v":2176.46},2176.46,0,0]
[{"$f":"мощность!$AA$17","v":"14.07.2025"},23,{"$f":"мощность!Y17","v":0},{"$f":"[2]Лист1!C393","v":1718.93},1718.93,0,0]
[{"$f":"мощность!$AA$18","v":"15.07.2025"},0,{"$f":"мощность!B18","v":0},{"$f":"[2]Лист1!C394","v":1322.76},1322.76,0,0]
[{"$f":"мощность!$AA$18","v":"15.07.2025"},1,{"$f":"мощность!C18","v":0},{"$f":"[2]Лист1!C395","v":1144.01},1144.01,0,0]
[{"$f":"мощность!$AA$18","v":"15.07.2025"},2,{"$f":"мощность!D18","v":0},{"$f":"[2]Лист1!C396","v":990.21},990.21,0,0]
[{"$f":"мощность!$AA$18","v":"15.07.2025"},3,{"$f":"мощность!E18","v":0},{"$f":"[2]Лист1!C397","v":91},91,0,0]
[{"$f":"мощность!$AA$18","v":"15.07.2025"},4,{"$f":"мощность!F18","v":0},{"$f":"[2]Лист1!C398","v":9.0299999999999994},9.0299999999999994,0,0]
[{"$f":"мощность!$AA$18","v":"15.07.2025"},5,{"$f":"мощность!G18","v":0},{"$f":"[2]Лист1!C399","v":89.72},89.72,0,0]
[{"$f":"мощность!$AA$18","v":"15.07.2025"},6,{"$f":"мощность!H18","v":0},{"$f":"[2]Лист1!C400","v":950.84},950.84,0,0]
[{"$f":"мощность!$AA$18","v":"15.07.2025"},7,{"$f":"мощность!I18","v":0},{"$f":"[2]Лист1!C401","v":1712.31},1712.31,0,0]
[{"$f":"мощность!$AA$18","v":"15.07.2025"},8,{"$f":"мощность!J18","v":0},{"$f":"[2]Лист1!C402","v":2251.85},2251.85,0,0]
[{"$f":"мощность!$AA$18","v":"15.07.2025"},9,{"$f":"мощность!K18","v":0},{"$f":"[2]Лист1!C403","v":2183.2399999999998},2183.2399999999998,0,0]
[{"$f":"мощность!$AA$18","v":"15.07.2025"},10,{"$f":"мощность!L18","v":0},{"$f":"[2]Лист1!C404","v":2230.81},2230.81,0,0]
[{"$f":"мощность!$AA$18","v":"15.07.2025"},11,{"$f":"мощность!M18","v":0},{"$f":"[2]Лист1!C405","v":2252.61},2252.61,0,0]
[{"$f":"мощность!$AA$18","v":"15.07.2025"},12,{"$f":"мощность!N18","v":0},{"$f":"[2]Лист1!C406","v":2366.83},2366.83,0,0]
[{"$f":"мощность!$AA$18","v":"15.07.2025"},13,{"$f":"мощность!O18","v":0},{"$f":"[2]Лист1!C407","v":2374.52},2374.52,0,0]
[{"$f":"мощность!$AA$18","v":"15.07.2025"},14,{"$f":"мощность!P18","v":0},{"$f":"[2]Лист1!C408","v":2218.6799999999998},2218.6799999999998,0,0]
[{"$f":"мощность!$AA$18","v":"15.07.2025"},15,{"$f":"мощность!Q18","v":0},{"$f":"[2]Лист1!C409","v":2364.69},2364.69,0,0]
[{"$f":"мощность!$AA$18","v":"15.07.2025"},16,{"$f":"мощность!R18","v":0},{"$f":"[2]Лист1!C410","v":2217.6999999999998},2217.6999999999998,0,0]
[{"$f":"мощность!$AA$18","v":"15.07.2025"},17,{"$f":"мощность!S18","v":0},{"$f":"[2]Лист1!C411","v":2165.83},2165.83,0,0]
[{"$f":"мощность!$AA$18","v":"15.07.2025"},18,{"$f":"мощность!T18","v":0},{"$f":"[2]Лист1!C412","v":2174.35},2174.35,0,0]
[{"$f":"мощность!$AA$18","v":"15.07.2025"},19,{"$f":"мощность!U18","v":0},{"$f":"[2]Лист1!C413","v":2181.13},2181.13,0,0]
[{"$f":"мощность!$AA$18","v":"15.07.2025"},20,{"$f":"мощность!V18","v":0},{"$f":"[2]Лист1!C414","v":2408.71},2408.71,0,0]
[{"$f":"мощность!$AA$18","v":"15.07.2025"},21,{"$f":"мощность!W18","v":0},{"$f":"[2]Лист1!C415","v":2413.4},2413.4,0,0]
[{"$f":"мощность!$AA$18","v":"15.07.2025"},22,{"$f":"мощность!X18","v":0},{"$f":"[2]Лист1!C416","v":1752.97},1752.97,0,0]
[{"$f":"мощность!$AA$18","v":"15.07.2025"},23,{"$f":"мощность!Y18","v":0},{"$f":"[2]Лист1!C417","v":1797.46},1797.46,0,0]
[{"$f":"мощность!$AA$19","v":"16.07.2025"},0,{"$f":"мощность!B19","v":0},{"$f":"[2]Лист1!C418","v":1354.67},1354.67,0,0]
[{"$f":"мощность!$AA$19","v":"16.07.2025"},1,{"$f":"мощность!C19","v":0},{"$f":"[2]Лист1!C419","v":1191.43},1191.43,0,0]
[{"$f":"мощность!$AA$19","v":"16.07.2025"},2,{"$f":"мощность!D19","v":0},{"$f":"[2]Лист1!C420","v":1023.71},1023.71,0,0]
[{"$f":"мощность!$AA$19","v":"16.07.2025"},3,{"$f":"мощность!E19","v":0},{"$f":"[2]Лист1!C421","v":782.49},782.49,0,0]
[{"$f":"мощность!$AA$19","v":"16.07.2025"},4,{"$f":"мощность!F19","v":0},{"$f":"[2]Лист1!C422","v":119.36},119.36,0,0]
[{"$f":"мощность!$AA$19","v":"16.07.2025"},5,{"$f":"мощность!G19","v":0},{"$f":"[2]Лист1!C423","v":962.67},962.67,0,0]
[{"$f":"мощность!$AA$19","v":"16.07.2025"},6,{"$f":"мощность!H19","v":0},{"$f":"[2]Лист1!C424","v":1047.57},1047.57,0,0]
[{"$f":"мощность!$AA$19","v":"16.07.2025"},7,{"$f":"мощность!I19","v":0},{"$f":"[2]Лист1!C425","v":1482.06},1482.06,0,0]
[{"$f":"мощность!$AA$19","v":"16.07.2025"},8,{"$f":"мощность!J19","v":0},{"$f":"[2]Лист1!C426","v":2216.7399999999998},2216.7399999999998,0,0]
[{"$f":"мощность!$AA$19","v":"16.07.2025"},9,{"$f":"мощность!K19","v":0},{"$f":"[2]Лист1!C427","v":2479.15},2479.15,0,0]
[{"$f":"мощность!$AA$19","v":"16.07.2025"},10,{"$f":"мощность!L19","v":0},{"$f":"[2]Лист1!C428","v":2467.42},2467.42,0,0]
[{"$f":"мощность!$AA$19","v":"16.07.2025"},11,{"$f":"мощность!M19","v":0},{"$f":"[2]Лист1!C429","v":2469.6},2469.6,0,0]
[{"$f":"мощность!$AA$19","v":"16.07.2025"},12,{"$f":"мощность!N19","v":0},{"$f":"[2]Лист1!C430","v":2379.35},2379.35,0,0]
[{"$f":"мощность!$AA$19","v":"16.07.2025"},13,{"$f":"мощность!O19","v":0},{"$f":"[2]Лист1!C431","v":2358.6},2358.6,0,0]
[{"$f":"мощность!$AA$19","v":"16.07.2025"},14,{"$f":"мощность!P19","v":0},{"$f":"[2]Лист1!C432","v":2309.91},2309.91,0,0]
[{"$f":"мощность!$AA$19","v":"16.07.2025"},15,{"$f":"мощность!Q19","v":0},{"$f":"[2]Лист1!C433","v":2221.87},2221.87,0,0]
[{"$f":"мощность!$AA$19","v":"16.07.2025"},16,{"$f":"мощность!R19","v":0},{"$f":"[2]Лист1!C434","v":2193.6},2193.6,0,0]
[{"$f":"мощность!$AA$19","v":"16.07.2025"},17,{"$f":"мощность!S19","v":0},{"$f":"[2]Лист1!C435","v":2504.3000000000002},2504.3000000000002,0,0]
[{"$f":"мощность!$AA$19","v":"16.07.2025"},18,{"$f":"мощность!T19","v":0},{"$f":"[2]Лист1!C436","v":2470.73},2470.73,0,0]
[{"$f":"мощность!$AA$19","v":"16.07.2025"},19,{"$f":"мощность!U19","v":0},{"$f":"[2]Лист1!C437","v":2407.7399999999998},2407.7399999999998,0,0]
[{"$f":"мощность!$AA$19","v":"16.07.2025"},20,{"$f":"мощность!V19","v":0},{"$f":"[2]Лист1!C438","v":2390.09},2390.09,0,0]
[{"$f":"мощность!$AA$19","v":"16.07.2025"},21,{"$f":"мощность!W19","v":0},{"$f":"[2]Лист1!C439","v":2380.64},2380.64,0,0]
[{"$f":"мощность!$AA$19","v":"16.07.2025"},22,{"$f":"мощность!X19","v":0},{"$f":"[2]Лист1!C440","v":1853.64},1853.64,0,0]
[{"$f":"мощность!$AA$19","v":"16.07.2025"},23,{"$f":"мощность!Y19","v":0},{"$f":"[2]Лист1!C441","v":1698.04},1698.04,0,0]
[{"$f":"мощность!$AA$20","v":"17.07.2025"},0,{"$f":"мощность!B20","v":0},{"$f":"[2]Лист1!C442","v":1473.16},1473.16,0,0]
[{"$f":"мощность!$AA$20","v":"17.07.2025"},1,{"$f":"мощность!C20","v":0},{"$f":"[2]Лист1!C443","v":1221.2},{"$f":"1*D387","v":1221.2},{"$f":"ROUND(C387*D387/1000,2)","v":0},{"$f":"ROUND(C387*E387/1000,2)","v":0}]
[{"$f":"мощность!$AA$20","v":"17.07.2025"},2,{"$f":"мощность!D20","v":0},{"$f":"[2]Лист1!C444","v":1022.69},1022.69,0,0]
[{"$f":"мощность!$AA$20","v":"17.07.2025"},3,{"$f":"мощность!E20","v":0},{"$f":"[2]Лист1!C445","v":773.71},773.71,0,0]
[{"$f":"мощность!$AA$20","v":"17.07.2025"},4,{"$f":"мощность!F20","v":0},{"$f":"[2]Лист1!C446","v":745.54},745.54,0,0]
[{"$f":"мощность!$AA$20","v":"17.07.2025"},5,{"$f":"мощность!G20","v":0},{"$f":"[2]Лист1!C447","v":967.91},967.91,0,0]
[{"$f":"мощность!$AA$20","v":"17.07.2025"},6,{"$f":"мощность!H20","v":0},{"$f":"[2]Лист1!C448","v":1219.9000000000001},1219.9000000000001,0,0]
[{"$f":"мощность!$AA$20","v":"17.07.2025"},7,{"$f":"мощность!I20","v":0},{"$f":"[2]Лист1!C449","v":1774.94},1774.94,0,0]
[{"$f":"мощность!$AA$20","v":"17.07.2025"},8,{"$f":"мощность!J20","v":0},{"$f":"[2]Лист1!C450","v":2353.1},2353.1,0,0]
[{"$f":"мощность!$AA$20","v":"17.07.2025"},9,{"$f":"мощность!K20","v":0},{"$f":"[2]Лист1!C451","v":2499.16},2499.16,0,0]
[{"$f":"мощность!$AA$20","v":"17.07.2025"},10,{"$f":"мощность!L20","v":0},{"$f":"[2]Лист1!C452","v":2504.63},2504.63,0,0]
[{"$f":"мощность!$AA$20","v":"17.07.2025"},11,{"$f":"мощность!M20","v":0},{"$f":"[2]Лист1!C453","v":2235.06},2235.06,0,0]
[{"$f":"мощность!$AA$20","v":"17.07.2025"},12,{"$f":"мощность!N20","v":0},{"$f":"[2]Лист1!C454","v":2225.96},2225.96,0,0]
[{"$f":"мощность!$AA$20","v":"17.07.2025"},13,{"$f":"мощность!O20","v":0},{"$f":"[2]Лист1!C455","v":2223.7399999999998},2223.7399999999998,0,0]
[{"$f":"мощность!$AA$20","v":"17.07.2025"},14,{"$f":"мощность!P20","v":0},{"$f":"[2]Лист1!C456","v":2256.9899999999998},2256.9899999999998,0,0]
[{"$f":"мощность!$AA$20","v":"17.07.2025"},15,{"$f":"мощность!Q20","v":0},{"$f":"[2]Лист1!C457","v":2513.12},2513.12,0,0]
[{"$f":"мощность!$AA$20","v":"17.07.2025"},16,{"$f":"мощность!R20","v":0},{"$f":"[2]Лист1!C458","v":2550.94},2550.94,0,0]
[{"$f":"мощность!$AA$20","v":"17.07.2025"},17,{"$f":"мощность!S20","v":0},{"$f":"[2]Лист1!C459","v":2525.46},2525.46,0,0]
[{"$f":"мощность!$AA$20","v":"17.07.2025"},18,{"$f":"мощность!T20","v":0},{"$f":"[2]Лист1!C460","v":2490.02},2490.02,0,0]
[{"$f":"мощность!$AA$20","v":"17.07.2025"},19,{"$f":"мощность!U20","v":0},{"$f":"[2]Лист1!C461","v":2451.79},2451.79,0,0]
[{"$f":"мощность!$AA$20","v":"17.07.2025"},20,{"$f":"мощность!V20","v":0},{"$f":"[2]Лист1!C462","v":2437.84},2437.84,0,0]
[{"$f":"мощность!$AA$20","v":"17.07.2025"},21,{"$f":"мощность!W20","v":0},{"$f":"[2]Лист1!C463","v":2431.77},2431.77,0,0]
[{"$f":"мощность!$AA$20","v":"17.07.2025"},22,{"$f":"мощность!X20","v":0},{"$f":"[2]Лист1!C464","v":2130.4699999999998},2130.4699999999998,0,0]
[{"$f":"мощность!$AA$20","v":"17.07.2025"},23,{"$f":"мощность!Y20","v":0},{"$f":"[2]Лист1!C465","v":1835.35},1835.35,0,0]
[{"$f":"мощность!$AA$21","v":"18.07.2025"},0,{"$f":"мощность!B21","v":0},{"$f":"[2]Лист1!C466","v":1493.09},1493.09,0,0]
[{"$f":"мощность!$AA$21","v":"18.07.2025"},1,{"$f":"мощность!C21","v":0},{"$f":"[2]Лист1!C467","v":1303.07},1303.07,0,0]
[{"$f":"мощность!$AA$21","v":"18.07.2025"},2,{"$f":"мощность!D21","v":0},{"$f":"[2]Лист1!C468","v":1114.8800000000001},1114.8800000000001,0,0]
[{"$f":"мощность!$AA$21","v":"18.07.2025"},3,{"$f":"мощность!E21","v":0},{"$f":"[2]Лист1!C469","v":982.97},982.97,0,0]
[{"$f":"мощность!$AA$21","v":"18.07.2025"},4,{"$f":"мощность!F21","v":0},{"$f":"[2]Лист1!C470","v":762.4},762.4,0,0]
[{"$f":"мощность!$AA$21","v":"18.07.2025"},5,{"$f":"мощность!G21","v":0},{"$f":"[2]Лист1!C471","v":901.75},901.75,0,0]
[{"$f":"мощность!$AA$21","v":"18.07.2025"},6,{"$f":"мощность!H21","v":0},{"$f":"[2]Лист1!C472","v":768.16},768.16,0,0]
[{"$f":"мощность!$AA$21","v":"18.07.2025"},7,{"$f":"мощность!I21","v":0},{"$f":"[2]Лист1!C473","v":1775.64},1775.64,0,0]
[{"$f":"мощность!$AA$21","v":"18.07.2025"},8,{"$f":"мощность!J21","v":0},{"$f":"[2]Лист1!C474","v":1866.47},1866.47,0,0]
[{"$f":"мощность!$AA$21","v":"18.07.2025"},9,{"$f":"мощность!K21","v":0},{"$f":"[2]Лист1!C475","v":2096.29},2096.29,0,0]
[{"$f":"мощность!$AA$21","v":"18.07.2025"},10,{"$f":"мощность!L21","v":0},{"$f":"[2]Лист1!C476","v":1924.75},1924.75,0,0]
[{"$f":"мощность!$AA$21","v":"18.07.2025"},11,{"$f":"мощность!M21","v":0},{"$f":"[2]Лист1!C477","v":1842.58},1842.58,0,0]
[{"$f":"мощность!$AA$21","v":"18.07.2025"},12,{"$f":"мощность!N21","v":0},{"$f":"[2]Лист1!C478","v":1621.26},1621.26,0,0]
[{"$f":"мощность!$AA$21","v":"18.07.2025"},13,{"$f":"мощность!O21","v":0},{"$f":"[2]Лист1!C479","v":1651.54},1651.54,0,0]
[{"$f":"мощность!$AA$21","v":"18.07.2025"},14,{"$f":"мощность!P21","v":0},{"$f":"[2]Лист1!C480","v":1633.66},1633.66,0,0]
[{"$f":"мощность!$AA$21","v":"18.07.2025"},15,{"$f":"мощность!Q21","v":0},{"$f":"[2]Лист1!C481","v":1863.26},1863.26,0,0]
[{"$f":"мощность!$AA$21","v":"18.07.2025"},16,{"$f":"мощность!R21","v":0},{"$f":"[2]Лист1!C482","v":2103.38},2103.38,0,0]
[{"$f":"мощность!$AA$21","v":"18.07.2025"},17,{"$f":"мощность!S21","v":0},{"$f":"[2]Лист1!C483","v":1849.33},1849.33,0,0]
[{"$f":"мощность!$AA$21","v":"18.07.2025"},18,{"$f":"мощность!T21","v":0},{"$f":"[2]Лист1!C484","v":1863.43},1863.43,0,0]
[{"$f":"мощность!$AA$21","v":"18.07.2025"},19,{"$f":"мощность!U21","v":0},{"$f":"[2]Лист1!C485","v":1972.51},1972.51,0,0]
[{"$f":"мощность!$AA$21","v":"18.07.2025"},20,{"$f":"мощность!V21","v":0},{"$f":"[2]Лист1!C486","v":2306.35},2306.35,0,0]
[{"$f":"мощность!$AA$21","v":"18.07.2025"},21,{"$f":"мощность!W21","v":0},{"$f":"[2]Лист1!C487","v":2217.41},2217.41,0,0]
[{"$f":"мощность!$AA$21","v":"18.07.2025"},22,{"$f":"мощность!X21","v":0},{"$f":"[2]Лист1!C488","v":1893.66},1893.66,0,0]
[{"$f":"мощность!$AA$21","v":"18.07.2025"},23,{"$f":"мощность!Y21","v":0},{"$f":"[2]Лист1!C489","v":2147.6},2147.6,0,0]
[{"$f":"мощность!$AA$22","v":"19.07.2025"},0,{"$f":"мощность!B22","v":0},{"$f":"[2]Лист1!C490","v":1702.77},1702.77,0,0]
[{"$f":"мощность!$AA$22","v":"19.07.2025"},1,{"$f":"мощность!C22","v":0},{"$f":"[2]Лист1!C491","v":1465.55},1465.55,0,0]
[{"$f":"мощность!$AA$22","v":"19.07.2025"},2,{"$f":"мощность!D22","v":0},{"$f":"[2]Лист1!C492","v":1319.96},1319.96,0,0]
[{"$f":"мощность!$AA$22","v":"19.07.2025"},3,{"$f":"мощность!E22","v":0},{"$f":"[2]Лист1!C493","v":1120.21},1120.21,0,0]
[{"$f":"мощность!$AA$22","v":"19.07.2025"},4,{"$f":"мощность!F22","v":0},{"$f":"[2]Лист1!C494","v":1044.04},1044.04,0,0]
[{"$f":"мощность!$AA$22","v":"19.07.2025"},5,{"$f":"мощность!G22","v":0},{"$f":"[2]Лист1!C495","v":1125.45},1125.45,0,0]
[{"$f":"мощность!$AA$22","v":"19.07.2025"},6,{"$f":"мощность!H22","v":0},{"$f":"[2]Лист1!C496","v":1140.6099999999999},1140.6099999999999,0,0]
[{"$f":"мощность!$AA$22","v":"19.07.2025"},7,{"$f":"мощность!I22","v":0},{"$f":"[2]Лист1!C497","v":1371.6},1371.6,0,0]
[{"$f":"мощность!$AA$22","v":"19.07.2025"},8,{"$f":"мощность!J22","v":0},{"$f":"[2]Лист1!C498","v":2177.15},2177.15,0,0]
[{"$f":"мощность!$AA$22","v":"19.07.2025"},9,{"$f":"мощность!K22","v":0},{"$f":"[2]Лист1!C499","v":2403.36},2403.36,0,0]
[{"$f":"мощность!$AA$22","v":"19.07.2025"},10,{"$f":"мощность!L22","v":0},{"$f":"[2]Лист1!C500","v":2448.4},2448.4,0,0]
[{"$f":"мощность!$AA$22","v":"19.07.2025"},11,{"$f":"мощность!M22","v":0},{"$f":"[2]Лист1!C501","v":2408.71},2408.71,0,0]
[{"$f":"мощность!$AA$22","v":"19.07.2025"},12,{"$f":"мощность!N22","v":0},{"$f":"[2]Лист1!C502","v":2263.7199999999998},2263.7199999999998,0,0]
[{"$f":"мощность!$AA$22","v":"19.07.2025"},13,{"$f":"мощность!O22","v":0},{"$f":"[2]Лист1!C503","v":2313.17},2313.17,0,0]
[{"$f":"мощность!$AA$22","v":"19.07.2025"},14,{"$f":"мощность!P22","v":0},{"$f":"[2]Лист1!C504","v":2295.15},2295.15,0,0]
[{"$f":"мощность!$AA$22","v":"19.07.2025"},15,{"$f":"мощность!Q22","v":0},{"$f":"[2]Лист1!C505","v":2224.54},2224.54,0,0]
[{"$f":"мощность!$AA$22","v":"19.07.2025"},16,{"$f":"мощность!R22","v":0},{"$f":"[2]Лист1!C506","v":2472.13},2472.13,0,0]
[{"$f":"мощность!$AA$22","v":"19.07.2025"},17,{"$f":"мощность!S22","v":0},{"$f":"[2]Лист1!C507","v":2456.41},{"$f":"1*D451","v":2456.41},{"$f":"ROUND(C451*D451/1000,2)","v":0},{"$f":"ROUND(C451*E451/1000,2)","v":0}]
[{"$f":"мощность!$AA$22","v":"19.07.2025"},18,{"$f":"мощность!T22","v":0},{"$f":"[2]Лист1!C508","v":2441.91},2441.91,0,0]
[{"$f":"мощность!$AA$22","v":"19.07.2025"},19,{"$f":"мощность!U22","v":0},{"$f":"[2]Лист1!C509","v":2422.4899999999998},2422.4899999999998,0,0]
[{"$f":"мощность!$AA$22","v":"19.07.2025"},20,{"$f":"мощность!V22","v":0},{"$f":"[2]Лист1!C510","v":2414.5100000000002},2414.5100000000002,0,0]
[{"$f":"мощность!$AA$22","v":"19.07.2025"},21,{"$f":"мощность!W22","v":0},{"$f":"[2]Лист1!C511","v":2400.6},2400.6,0,0]
[{"$f":"мощность!$AA$22","v":"19.07.2025"},22,{"$f":"мощность!X22","v":0},{"$f":"[2]Лист1!C512","v":2012},2012,0,0]
[{"$f":"мощность!$AA$22","v":"19.07.2025"},23,{"$f":"мощность!Y22","v":0},{"$f":"[2]Лист1!C513","v":1858.97},1858.97,0,0]
[{"$f":"мощность!$AA$23","v":"20.07.2025"},0,{"$f":"мощность!B23","v":0},{"$f":"[2]Лист1!C514","v":1683.35},1683.35,0,0]
[{"$f":"мощность!$AA$23","v":"20.07.2025"},1,{"$f":"мощность!C23","v":0},{"$f":"[2]Лист1!C515","v":1491.15},1491.15,0,0]
[{"$f":"мощность!$AA$23","v":"20.07.2025"},2,{"$f":"мощность!D23","v":0},{"$f":"[2]Лист1!C516","v":1370.51},1370.51,0,0]
[{"$f":"мощность!$AA$23","v":"20.07.2025"},3,{"$f":"мощность!E23","v":0},{"$f":"[2]Лист1!C517","v":1192.4100000000001},1192.4100000000001,0,0]
[{"$f":"мощность!$AA$23","v":"20.07.2025"},4,{"$f":"мощность!F23","v":0},{"$f":"[2]Лист1!C518","v":1090.5},1090.5,0,0]
[{"$f":"мощность!$AA$23","v":"20.07.2025"},5,{"$f":"мощность!G23","v":0},{"$f":"[2]Лист1!C519","v":1132.25},1132.25,0,0]
[{"$f":"мощность!$AA$23","v":"20.07.2025"},6,{"$f":"мощность!H23","v":0},{"$f":"[2]Лист1!C520","v":1221.33},1221.33,0,0]
[{"$f":"мощность!$AA$23","v":"20.07.2025"},7,{"$f":"мощность!I23","v":0},{"$f":"[2]Лист1!C521","v":1375.86},1375.86,0,0]
[{"$f":"мощность!$AA$23","v":"20.07.2025"},8,{"$f":"мощность!J23","v":0},{"$f":"[2]Лист1!C522","v":1900.22},1900.22,0,0]
[{"$f":"мощность!$AA$23","v":"20.07.2025"},9,{"$f":"мощность!K23","v":0},{"$f":"[2]Лист1!C523","v":2282.39},2282.39,0,0]
[{"$f":"мощность!$AA$23","v":"20.07.2025"},10,{"$f":"мощность!L23","v":0},{"$f":"[2]Лист1!C524","v":2355.0500000000002},2355.0500000000002,0,0]
[{"$f":"мощность!$AA$23","v":"20.07.2025"},11,{"$f":"мощность!M23","v":0},{"$f":"[2]Лист1!C525","v":2281.38},2281.38,0,0]
[{"$f":"мощность!$AA$23","v":"20.07.2025"},12,{"$f":"мощность!N23","v":0},{"$f":"[2]Лист1!C526","v":2267.56},2267.56,0,0]
[{"$f":"мощность!$AA$23","v":"20.07.2025"},13,{"$f":"мощность!O23","v":0},{"$f":"[2]Лист1!C527","v":2330.0300000000002},2330.0300000000002,0,0]
[{"$f":"мощность!$AA$23","v":"20.07.2025"},14,{"$f":"мощность!P23","v":0},{"$f":"[2]Лист1!C528","v":2326.69},2326.69,0,0]
[{"$f":"мощность!$AA$23","v":"20.07.2025"},15,{"$f":"мощность!Q23","v":0},{"$f":"[2]Лист1!C529","v":2291.54},2291.54,0,0]
[{"$f":"мощность!$AA$23","v":"20.07.2025"},16,{"$f":"мощность!R23","v":0},{"$f":"[2]Лист1!C530","v":2413.92},2413.92,0,0]
[{"$f":"мощность!$AA$23","v":"20.07.2025"},17,{"$f":"мощность!S23","v":0},{"$f":"[2]Лист1!C531","v":2407.15},2407.15,0,0]
[{"$f":"мощность!$AA$23","v":"20.07.2025"},18,{"$f":"мощность!T23","v":0},{"$f":"[2]Лист1!C532","v":2409.44},2409.44,0,0]
[{"$f":"мощность!$AA$23","v":"20.07.2025"},19,{"$f":"мощность!U23","v":0},{"$f":"[2]Лист1!C533","v":2392.69},2392.69,0,0]
[{"$f":"мощность!$AA$23","v":"20.07.2025"},20,{"$f":"мощность!V23","v":0},{"$f":"[2]Лист1!C534","v":2385.2199999999998},2385.2199999999998,0,0]
[{"$f":"мощность!$AA$23","v":"20.07.2025"},21,{"$f":"мощность!W23","v":0},{"$f":"[2]Лист1!C535","v":2378.4499999999998},2378.4499999999998,0,0]
[{"$f":"мощность!$AA$23","v":"20.07.2025"},22,{"$f":"мощность!X23","v":0},{"$f":"[2]Лист1!C536","v":2098.15},2098.15,0,0]
[{"$f":"мощность!$AA$23","v":"20.07.2025"},23,{"$f":"мощность!Y23","v":0},{"$f":"[2]Лист1!C537","v":1979.82},1979.82,0,0]
[{"$f":"мощность!$AA$24","v":"21.07.2025"},0,{"$f":"мощность!B24","v":0},{"$f":"[2]Лист1!C538","v":1650.35},1650.35,0,0]
[{"$f":"мощность!$AA$24","v":"21.07.2025"},1,{"$f":"мощность!C24","v":0},{"$f":"[2]Лист1!C539","v":1438.37},1438.37,0,0]
[{"$f":"мощность!$AA$24","v":"21.07.2025"},2,{"$f":"мощность!D24","v":0},{"$f":"[2]Лист1!C540","v":1278.06},1278.06,0,0]
[{"$f":"мощность!$AA$24","v":"21.07.2025"},3,{"$f":"мощность!E24","v":0},{"$f":"[2]Лист1!C541","v":1086.81},1086.81,0,0]
[{"$f":"мощность!$AA$24","v":"21.07.2025"},4,{"$f":"мощность!F24","v":0},{"$f":"[2]Лист1!C542","v":1028.6500000000001},1028.6500000000001,0,0]
[{"$f":"мощность!$AA$24","v":"21.07.2025"},5,{"$f":"мощность!G24","v":0},{"$f":"[2]Лист1!C543","v":5.69},5.69,0,0]
[{"$f":"мощность!$AA$24","v":"21.07.2025"},6,{"$f":"мощность!H24","v":0},{"$f":"[2]Лист1!C544","v":834.25},834.25,0,0]
[{"$f":"мощность!$AA$24","v":"21.07.2025"},7,{"$f":"мощность!I24","v":0},{"$f":"[2]Лист1!C545","v":1775.46},1775.46,0,0]
[{"$f":"мощность!$AA$24","v":"21.07.2025"},8,{"$f":"мощность!J24","v":0},{"$f":"[2]Лист1!C546","v":2329.4899999999998},2329.4899999999998,0,0]
[{"$f":"мощность!$AA$24","v":"21.07.2025"},9,{"$f":"мощность!K24","v":0},{"$f":"[2]Лист1!C547","v":2118.9899999999998},2118.9899999999998,0,0]
[{"$f":"мощность!$AA$24","v":"21.07.2025"},10,{"$f":"мощность!L24","v":0},{"$f":"[2]Лист1!C548","v":2444.94},2444.94,0,0]
[{"$f":"мощность!$AA$24","v":"21.07.2025"},11,{"$f":"мощность!M24","v":0},{"$f":"[2]Лист1!C549","v":2448.62},2448.62,0,0]
[{"$f":"мощность!$AA$24","v":"21.07.2025"},12,{"$f":"мощность!N24","v":0},{"$f":"[2]Лист1!C550","v":2428.4499999999998},2428.4499999999998,0,0]
[{"$f":"мощность!$AA$24","v":"21.07.2025"},13,{"$f":"мощность!O24","v":0},{"$f":"[2]Лист1!C551","v":2387.02},2387.02,0,0]
[{"$f":"мощность!$AA$24","v":"21.07.2025"},14,{"$f":"мощность!P24","v":0},{"$f":"[2]Лист1!C552","v":2426.2199999999998},2426.2199999999998,0,0]
[{"$f":"мощность!$AA$24","v":"21.07.2025"},15,{"$f":"мощность!Q24","v":0},{"$f":"[2]Лист1!C553","v":2461.61},2461.61,0,0]
[{"$f":"мощность!$AA$24","v":"21.07.2025"},16,{"$f":"мощность!R24","v":0},{"$f":"[2]Лист1!C554","v":2108.6},2108.6,0,0]
[{"$f":"мощность!$AA$24","v":"21.07.2025"},17,{"$f":"мощность!S24","v":0},{"$f":"[2]Лист1!C555","v":2335.58},2335.58,0,0]
[{"$f":"мощность!$AA$24","v":"21.07.2025"},18,{"$f":"мощность!T24","v":0},{"$f":"[2]Лист1!C556","v":2391.12},2391.12,0,0]
[{"$f":"мощность!$AA$24","v":"21.07.2025"},19,{"$f":"мощность!U24","v":0},{"$f":"[2]Лист1!C557","v":2366.98},2366.98,0,0]
[{"$f":"мощность!$AA$24","v":"21.07.2025"},20,{"$f":"мощность!V24","v":0},{"$f":"[2]Лист1!C558","v":2331.21},2331.21,0,0]
[{"$f":"мощность!$AA$24","v":"21.07.2025"},21,{"$f":"мощность!W24","v":0},{"$f":"[2]Лист1!C559","v":2310.34},2310.34,0,0]
[{"$f":"мощность!$AA$24","v":"21.07.2025"},22,{"$f":"мощность!X24","v":0},{"$f":"[2]Лист1!C560","v":2033.58},2033.58,0,0]
[{"$f":"мощность!$AA$24","v":"21.07.2025"},23,{"$f":"мощность!Y24","v":0},{"$f":"[2]Лист1!C561","v":1728.91},1728.91,0,0]
[{"$f":"мощность!$AA$25","v":"22.07.2025"},0,{"$f":"мощность!B25","v":0},{"$f":"[2]Лист1!C562","v":1572.4},1572.4,0,0]
[{"$f":"мощность!$AA$25","v":"22.07.2025"},1,{"$f":"мощность!C25","v":0},{"$f":"[2]Лист1!C563","v":1362.96},1362.96,0,0]
[{"$f":"мощность!$AA$25","v":"22.07.2025"},2,{"$f":"мощность!D25","v":0},{"$f":"[2]Лист1!C564","v":1190.5},1190.5,0,0]
[{"$f":"мощность!$AA$25","v":"22.07.2025"},3,{"$f":"мощность!E25","v":0},{"$f":"[2]Лист1!C565","v":1007.23},1007.23,0,0]
[{"$f":"мощность!$AA$25","v":"22.07.2025"},4,{"$f":"мощность!F25","v":0},{"$f":"[2]Лист1!C566","v":605.35},605.35,0,0]
[{"$f":"мощность!$AA$25","v":"22.07.2025"},5,{"$f":"мощность!G25","v":0},{"$f":"[2]Лист1!C567","v":757.65},757.65,0,0]
[{"$f":"мощность!$AA$25","v":"22.07.2025"},6,{"$f":"мощность!H25","v":0},{"$f":"[2]Лист1!C568","v":1437.41},1437.41,0,0]
[{"$f":"мощность!$AA$25","v":"22.07.2025"},7,{"$f":"мощность!I25","v":0},{"$f":"[2]Лист1!C569","v":1742.24},1742.24,0,0]
[{"$f":"мощность!$AA$25","v":"22.07.2025"},8,{"$f":"мощность!J25","v":0},{"$f":"[2]Лист1!C570","v":2238.5500000000002},2238.5500000000002,0,0]
[{"$f":"мощность!$AA$25","v":"22.07.2025"},9,{"$f":"мощность!K25","v":0},{"$f":"[2]Лист1!C571","v":2463.0500000000002},{"$f":"1*D515","v":2463.0500000000002},{"$f":"ROUND(C515*D515/1000,2)","v":0},{"$f":"ROUND(C515*E515/1000,2)","v":0}]
[{"$f":"мощность!$AA$25","v":"22.07.2025"},10,{"$f":"мощность!L25","v":0},{"$f":"[2]Лист1!C572","v":2274.62},2274.62,0,0]
[{"$f":"мощность!$AA$25","v":"22.07.2025"},11,{"$f":"мощность!M25","v":0},{"$f":"[2]Лист1!C573","v":2279.77},2279.77,0,0]
[{"$f":"мощность!$AA$25","v":"22.07.2025"},12,{"$f":"мощность!N25","v":0},{"$f":"[2]Лист1!C574","v":2275.16},2275.16,0,0]
[{"$f":"мощность!$AA$25","v":"22.07.2025"},13,{"$f":"мощность!O25","v":0},{"$f":"[2]Лист1!C575","v":2301.33},2301.33,0,0]
[{"$f":"мощность!$AA$25","v":"22.07.2025"},14,{"$f":"мощность!P25","v":0},{"$f":"[2]Лист1!C576","v":2317.08},2317.08,0,0]
[{"$f":"мощность!$AA$25","v":"22.07.2025"},15,{"$f":"мощность!Q25","v":0},{"$f":"[2]Лист1!C577","v":2348.52},2348.52,0,0]
[{"$f":"мощность!$AA$25","v":"22.07.2025"},16,{"$f":"мощность!R25","v":0},{"$f":"[2]Лист1!C578","v":2455.83},2455.83,0,0]
[{"$f":"мощность!$AA$25","v":"22.07.2025"},17,{"$f":"мощность!S25","v":0},{"$f":"[2]Лист1!C579","v":2447.1},2447.1,0,0]
[{"$f":"мощность!$AA$25","v":"22.07.2025"},18,{"$f":"мощность!T25","v":0},{"$f":"[2]Лист1!C580","v":2427.36},2427.36,0,0]
[{"$f":"мощность!$AA$25","v":"22.07.2025"},19,{"$f":"мощность!U25","v":0},{"$f":"[2]Лист1!C581","v":2385.86},2385.86,0,0]
[{"$f":"мощность!$AA$25","v":"22.07.2025"},20,{"$f":"мощность!V25","v":0},{"$f":"[2]Лист1!C582","v":2357.89},2357.89,0,0]
[{"$f":"мощность!$AA$25","v":"22.07.2025"},21,{"$f":"мощность!W25","v":0},{"$f":"[2]Лист1!C583","v":2336.79},2336.79,0,0]
[{"$f":"мощность!$AA$25","v":"22.07.2025"},22,{"$f":"мощность!X25","v":0},{"$f":"[2]Лист1!C584","v":2203.2600000000002},2203.2600000000002,0,0]
[{"$f":"мощность!$AA$25","v":"22.07.2025"},23,{"$f":"мощность!Y25","v":0},{"$f":"[2]Лист1!C585","v":1723.73},1723.73,0,0]
[{"$f":"мощность!$AA$26","v":"23.07.2025"},0,{"$f":"мощность!B26","v":0},{"$f":"[2]Лист1!C586","v":1445.29},1445.29,0,0]
[{"$f":"мощность!$AA$26","v":"23.07.2025"},1,{"$f":"мощность!C26","v":0},{"$f":"[2]Лист1!C587","v":1287.76},1287.76,0,0]
[{"$f":"мощность!$AA$26","v":"23.07.2025"},2,{"$f":"мощность!D26","v":0},{"$f":"[2]Лист1!C588","v":1053.97},1053.97,0,0]
[{"$f":"мощность!$AA$26","v":"23.07.2025"},3,{"$f":"мощность!E26","v":0},{"$f":"[2]Лист1!C589","v":965.24},965.24,0,0]
[{"$f":"мощность!$AA$26","v":"23.07.2025"},4,{"$f":"мощность!F26","v":0},{"$f":"[2]Лист1!C590","v":139.58000000000001},139.58000000000001,0,0]
[{"$f":"мощность!$AA$26","v":"23.07.2025"},5,{"$f":"мощность!G26","v":0},{"$f":"[2]Лист1!C591","v":1068.58},1068.58,0,0]
[{"$f":"мощность!$AA$26","v":"23.07.2025"},6,{"$f":"мощность!H26","v":0},{"$f":"[2]Лист1!C592","v":1385.57},1385.57,0,0]
[{"$f":"мощность!$AA$26","v":"23.07.2025"},7,{"$f":"мощность!I26","v":0},{"$f":"[2]Лист1!C593","v":1738.9},1738.9,0,0]
[{"$f":"мощность!$AA$26","v":"23.07.2025"},8,{"$f":"мощность!J26","v":0},{"$f":"[2]Лист1!C594","v":2275.94},2275.94,0,0]
[{"$f":"мощность!$AA$26","v":"23.07.2025"},9,{"$f":"мощность!K26","v":0},{"$f":"[2]Лист1!C595","v":2467.4499999999998},2467.4499999999998,0,0]
[{"$f":"мощность!$AA$26","v":"23.07.2025"},10,{"$f":"мощность!L26","v":0},{"$f":"[2]Лист1!C596","v":2414.8200000000002},2414.8200000000002,0,0]
[{"$f":"мощность!$AA$26","v":"23.07.2025"},11,{"$f":"мощность!M26","v":0},{"$f":"[2]Лист1!C597","v":2330.46},2330.46,0,0]
[{"$f":"мощность!$AA$26","v":"23.07.2025"},12,{"$f":"мощность!N26","v":0},{"$f":"[2]Лист1!C598","v":2292.37},2292.37,0,0]
[{"$f":"мощность!$AA$26","v":"23.07.2025"},13,{"$f":"мощность!O26","v":0},{"$f":"[2]Лист1!C599","v":2315.67},2315.67,0,0]
[{"$f":"мощность!$AA$26","v":"23.07.2025"},14,{"$f":"мощность!P26","v":0},{"$f":"[2]Лист1!C600","v":2253.63},2253.63,0,0]
[{"$f":"мощность!$AA$26","v":"23.07.2025"},15,{"$f":"мощность!Q26","v":0},{"$f":"[2]Лист1!C601","v":2519.11},2519.11,0,0]
[{"$f":"мощность!$AA$26","v":"23.07.2025"},16,{"$f":"мощность!R26","v":0},{"$f":"[2]Лист1!C602","v":2516.4899999999998},2516.4899999999998,0,0]
[{"$f":"мощность!$AA$26","v":"23.07.2025"},17,{"$f":"мощность!S26","v":0},{"$f":"[2]Лист1!C603","v":2488.9},2488.9,0,0]
[{"$f":"мощность!$AA$26","v":"23.07.2025"},18,{"$f":"мощность!T26","v":0},{"$f":"[2]Лист1!C604","v":2469.1999999999998},2469.1999999999998,0,0]
[{"$f":"мощность!$AA$26","v":"23.07.2025"},19,{"$f":"мощность!U26","v":0},{"$f":"[2]Лист1!C605","v":2450.44},2450.44,0,0]
[{"$f":"мощность!$AA$26","v":"23.07.2025"},20,{"$f":"мощность!V26","v":0},{"$f":"[2]Лист1!C606","v":2438.2800000000002},2438.2800000000002,0,0]
[{"$f":"мощность!$AA$26","v":"23.07.2025"},21,{"$f":"мощность!W26","v":0},{"$f":"[2]Лист1!C607","v":2385.37},2385.37,0,0]
[{"$f":"мощность!$AA$26","v":"23.07.2025"},22,{"$f":"мощность!X26","v":0},{"$f":"[2]Лист1!C608","v":2183.58},2183.58,0,0]
[{"$f":"мощность!$AA$26","v":"23.07.2025"},23,{"$f":"мощность!Y26","v":0},{"$f":"[2]Лист1!C609","v":1862.46},1862.46,0,0]
[{"$f":"мощность!$AA$27","v":"24.07.2025"},0,{"$f":"мощность!B27","v":0},{"$f":"[2]Лист1!C610","v":1491.7},1491.7,0,0]
[{"$f":"мощность!$AA$27","v":"24.07.2025"},1,{"$f":"мощность!C27","v":0},{"$f":"[2]Лист1!C611","v":1302.44},1302.44,0,0]
[{"$f":"мощность!$AA$27","v":"24.07.2025"},2,{"$f":"мощность!D27","v":0},{"$f":"[2]Лист1!C612","v":1144.8599999999999},1144.8599999999999,0,0]
[{"$f":"мощность!$AA$27","v":"24.07.2025"},3,{"$f":"мощность!E27","v":0},{"$f":"[2]Лист1!C613","v":145.44},145.44,0,0]
[{"$f":"мощность!$AA$27","v":"24.07.2025"},4,{"$f":"мощность!F27","v":0},{"$f":"[2]Лист1!C614","v":148.38999999999999},148.38999999999999,0,0]
[{"$f":"мощность!$AA$27","v":"24.07.2025"},5,{"$f":"мощность!G27","v":0},{"$f":"[2]Лист1!C615","v":7.43},7.43,0,0]
[{"$f":"мощность!$AA$27","v":"24.07.2025"},6,{"$f":"мощность!H27","v":0},{"$f":"[2]Лист1!C616","v":1373.44},1373.44,0,0]
[{"$f":"мощность!$AA$27","v":"24.07.2025"},7,{"$f":"мощность!I27","v":0},{"$f":"[2]Лист1!C617","v":1779.43},1779.43,0,0]
[{"$f":"мощность!$AA$27","v":"24.07.2025"},8,{"$f":"мощность!J27","v":0},{"$f":"[2]Лист1!C618","v":2299.27},2299.27,0,0]
[{"$f":"мощность!$AA$27","v":"24.07.2025"},9,{"$f":"мощность!K27","v":0},{"$f":"[2]Лист1!C619","v":2067.6},2067.6,0,0]
[{"$f":"мощность!$AA$27","v":"24.07.2025"},10,{"$f":"мощность!L27","v":0},{"$f":"[2]Лист1!C620","v":2076.31},2076.31,0,0]
[{"$f":"мощность!$AA$27","v":"24.07.2025"},11,{"$f":"мощность!M27","v":0},{"$f":"[2]Лист1!C621","v":1925.95},1925.95,0,0]
[{"$f":"мощность!$AA$27","v":"24.07.2025"},12,{"$f":"мощность!N27","v":0},{"$f":"[2]Лист1!C622","v":1879},1879,0,0]
[{"$f":"мощность!$AA$27","v":"24.07.2025"},13,{"$f":"мощность!O27","v":0},{"$f":"[2]Лист1!C623","v":1970.46},1970.46,0,0]
[{"$f":"мощность!$AA$27","v":"24.07.2025"},14,{"$f":"мощность!P27","v":0},{"$f":"[2]Лист1!C624","v":2055.6999999999998},2055.6999999999998,0,0]
[{"$f":"мощность!$AA$27","v":"24.07.2025"},15,{"$f":"мощность!Q27","v":0},{"$f":"[2]Лист1!C625","v":2055.17},2055.17,0,0]
[{"$f":"мощность!$AA$27","v":"24.07.2025"},16,{"$f":"мощность!R27","v":0},{"$f":"[2]Лист1!C626","v":2002.36},2002.36,0,0]
[{"$f":"мощность!$AA$27","v":"24.07.2025"},17,{"$f":"мощность!S27","v":0},{"$f":"[2]Лист1!C627","v":2038.61},2038.61,0,0]
[{"$f":"мощность!$AA$27","v":"24.07.2025"},18,{"$f":"мощность!T27","v":0},{"$f":"[2]Лист1!C628","v":2043.82},2043.82,0,0]
[{"$f":"мощность!$AA$27","v":"24.07.2025"},19,{"$f":"мощность!U27","v":0},{"$f":"[2]Лист1!C629","v":2102.0500000000002},2102.0500000000002,0,0]
[{"$f":"мощность!$AA$27","v":"24.07.2025"},20,{"$f":"мощность!V27","v":0},{"$f":"[2]Лист1!C630","v":2378.59},2378.59,0,0]
[{"$f":"мощность!$AA$27","v":"24.07.2025"},21,{"$f":"мощность!W27","v":0},{"$f":"[2]Лист1!C631","v":2349.2600000000002},2349.2600000000002,0,0]
[{"$f":"мощность!$AA$27","v":"24.07.2025"},22,{"$f":"мощность!X27","v":0},{"$f":"[2]Лист1!C632","v":2097.15},2097.15,0,0]
[{"$f":"мощность!$AA$27","v":"24.07.2025"},23,{"$f":"мощность!Y27","v":0},{"$f":"[2]Лист1!C633","v":1849.19},1849.19,0,0]
[{"$f":"мощность!$AA$28","v":"25.07.2025"},0,{"$f":"мощность!B28","v":0},{"$f":"[2]Лист1!C634","v":1491.89},1491.89,0,0]
[{"$f":"мощность!$AA$28","v":"25.07.2025"},1,{"$f":"мощность!C28","v":0},{"$f":"[2]Лист1!C635","v":1346.5},{"$f":"1*D579","v":1346.5},{"$f":"ROUND(C579*D579/1000,2)","v":0},{"$f":"ROUND(C579*E579/1000,2)","v":0}]
[{"$f":"мощность!$AA$28","v":"25.07.2025"},2,{"$f":"мощность!D28","v":0},{"$f":"[2]Лист1!C636","v":1295.95},1295.95,0,0]
[{"$f":"мощность!$AA$28","v":"25.07.2025"},3,{"$f":"мощность!E28","v":0},{"$f":"[2]Лист1!C637","v":1161.02},1161.02,0,0]
[{"$f":"мощность!$AA$28","v":"25.07.2025"},4,{"$f":"мощность!F28","v":0},{"$f":"[2]Лист1!C638","v":791.36},791.36,0,0]
[{"$f":"мощность!$AA$28","v":"25.07.2025"},5,{"$f":"мощность!G28","v":0},{"$f":"[2]Лист1!C639","v":1114.1300000000001},1114.1300000000001,0,0]
[{"$f":"мощность!$AA$28","v":"25.07.2025"},6,{"$f":"мощность!H28","v":0},{"$f":"[2]Лист1!C640","v":1387.74},1387.74,0,0]
[{"$f":"мощность!$AA$28","v":"25.07.2025"},7,{"$f":"мощность!I28","v":0},{"$f":"[2]Лист1!C641","v":1845.81},1845.81,0,0]
[{"$f":"мощность!$AA$28","v":"25.07.2025"},8,{"$f":"мощность!J28","v":0},{"$f":"[2]Лист1!C642","v":2126.75},2126.75,0,0]
[{"$f":"мощность!$AA$28","v":"25.07.2025"},9,{"$f":"мощность!K28","v":0},{"$f":"[2]Лист1!C643","v":2113.77},2113.77,0,0]
[{"$f":"мощность!$AA$28","v":"25.07.2025"},10,{"$f":"мощность!L28","v":0},{"$f":"[2]Лист1!C644","v":2120.4},2120.4,0,0]
[{"$f":"мощность!$AA$28","v":"25.07.2025"},11,{"$f":"мощность!M28","v":0},{"$f":"[2]Лист1!C645","v":2113.89},2113.89,0,0]
[{"$f":"мощность!$AA$28","v":"25.07.2025"},12,{"$f":"мощность!N28","v":0},{"$f":"[2]Лист1!C646","v":2107.87},2107.87,0,0]
[{"$f":"мощность!$AA$28","v":"25.07.2025"},13,{"$f":"мощность!O28","v":0},{"$f":"[2]Лист1!C647","v":2110.16},2110.16,0,0]
[{"$f":"мощность!$AA$28","v":"25.07.2025"},14,{"$f":"мощность!P28","v":0},{"$f":"[2]Лист1!C648","v":2108.4699999999998},2108.4699999999998,0,0]
[{"$f":"мощность!$AA$28","v":"25.07.2025"},15,{"$f":"мощность!Q28","v":0},{"$f":"[2]Лист1!C649","v":2128.89},2128.89,0,0]
[{"$f":"мощность!$AA$28","v":"25.07.2025"},16,{"$f":"мощность!R28","v":0},{"$f":"[2]Лист1!C650","v":2123.2600000000002},2123.2600000000002,0,0]
[{"$f":"мощность!$AA$28","v":"25.07.2025"},17,{"$f":"мощность!S28","v":0},{"$f":"[2]Лист1!C651","v":2121.0300000000002},2121.0300000000002,0,0]
[{"$f":"мощность!$AA$28","v":"25.07.2025"},18,{"$f":"мощность!T28","v":0},{"$f":"[2]Лист1!C652","v":2089.23},2089.23,0,0]
[{"$f":"мощность!$AA$28","v":"25.07.2025"},19,{"$f":"мощность!U28","v":0},{"$f":"[2]Лист1!C653","v":2111.66},2111.66,0,0]
[{"$f":"мощность!$AA$28","v":"25.07.2025"},20,{"$f":"мощность!V28","v":0},{"$f":"[2]Лист1!C654","v":2108.58},2108.58,0,0]
[{"$f":"мощность!$AA$28","v":"25.07.2025"},21,{"$f":"мощность!W28","v":0},{"$f":"[2]Лист1!C655","v":2308.16},2308.16,0,0]
[{"$f":"мощность!$AA$28","v":"25.07.2025"},22,{"$f":"мощность!X28","v":0},{"$f":"[2]Лист1!C656","v":2364.5100000000002},2364.5100000000002,0,0]
[{"$f":"мощность!$AA$28","v":"25.07.2025"},23,{"$f":"мощность!Y28","v":0},{"$f":"[2]Лист1!C657","v":2021.82},2021.82,0,0]
[{"$f":"мощность!$AA$29","v":"26.07.2025"},0,{"$f":"мощность!B29","v":0},{"$f":"[2]Лист1!C658","v":1751.13},1751.13,0,0]
[{"$f":"мощность!$AA$29","v":"26.07.2025"},1,{"$f":"мощность!C29","v":0},{"$f":"[2]Лист1!C659","v":1519.79},1519.79,0,0]
[{"$f":"мощность!$AA$29","v":"26.07.2025"},2,{"$f":"мощность!D29","v":0},{"$f":"[2]Лист1!C660","v":1457.96},1457.96,0,0]
[{"$f":"мощность!$AA$29","v":"26.07.2025"},3,{"$f":"мощность!E29","v":0},{"$f":"[2]Лист1!C661","v":1366.47},1366.47,0,0]
[{"$f":"мощность!$AA$29","v":"26.07.2025"},4,{"$f":"мощность!F29","v":0},{"$f":"[2]Лист1!C662","v":1338.44},1338.44,0,0]
[{"$f":"мощность!$AA$29","v":"26.07.2025"},5,{"$f":"мощность!G29","v":0},{"$f":"[2]Лист1!C663","v":1278.95},1278.95,0,0]
[{"$f":"мощность!$AA$29","v":"26.07.2025"},6,{"$f":"мощность!H29","v":0},{"$f":"[2]Лист1!C664","v":1342.44},1342.44,0,0]
[{"$f":"мощность!$AA$29","v":"26.07.2025"},7,{"$f":"мощность!I29","v":0},{"$f":"[2]Лист1!C665","v":1613.65},1613.65,0,0]
[{"$f":"мощность!$AA$29","v":"26.07.2025"},8,{"$f":"мощность!J29","v":0},{"$f":"[2]Лист1!C666","v":2186.83},2186.83,0,0]
[{"$f":"мощность!$AA$29","v":"26.07.2025"},9,{"$f":"мощность!K29","v":0},{"$f":"[2]Лист1!C667","v":2519.4699999999998},2519.4699999999998,0,0]
[{"$f":"мощность!$AA$29","v":"26.07.2025"},10,{"$f":"мощность!L29","v":0},{"$f":"[2]Лист1!C668","v":2578.71},2578.71,0,0]
[{"$f":"мощность!$AA$29","v":"26.07.2025"},11,{"$f":"мощность!M29","v":0},{"$f":"[2]Лист1!C669","v":2570},2570,0,0]
[{"$f":"мощность!$AA$29","v":"26.07.2025"},12,{"$f":"мощность!N29","v":0},{"$f":"[2]Лист1!C670","v":2560.88},2560.88,0,0]
[{"$f":"мощность!$AA$29","v":"26.07.2025"},13,{"$f":"мощность!O29","v":0},{"$f":"[2]Лист1!C671","v":2566.7199999999998},2566.7199999999998,0,0]
[{"$f":"мощность!$AA$29","v":"26.07.2025"},14,{"$f":"мощность!P29","v":0},{"$f":"[2]Лист1!C672","v":2567.2600000000002},2567.2600000000002,0,0]
[{"$f":"мощность!$AA$29","v":"26.07.2025"},15,{"$f":"мощность!Q29","v":0},{"$f":"[2]Лист1!C673","v":2558.7399999999998},2558.7399999999998,0,0]
[{"$f":"мощность!$AA$29","v":"26.07.2025"},16,{"$f":"мощность!R29","v":0},{"$f":"[2]Лист1!C674","v":2632.48},2632.48,0,0]
[{"$f":"мощность!$AA$29","v":"26.07.2025"},17,{"$f":"мощность!S29","v":0},{"$f":"[2]Лист1!C675","v":2618.0500000000002},2618.0500000000002,0,0]
[{"$f":"мощность!$AA$29","v":"26.07.2025"},18,{"$f":"мощность!T29","v":0},{"$f":"[2]Лист1!C676","v":2585.16},2585.16,0,0]
[{"$f":"мощность!$AA$29","v":"26.07.2025"},19,{"$f":"мощность!U29","v":0},{"$f":"[2]Лист1!C677","v":2543.7399999999998},2543.7399999999998,0,0]
[{"$f":"мощность!$AA$29","v":"26.07.2025"},20,{"$f":"мощность!V29","v":0},{"$f":"[2]Лист1!C678","v":2519.48},2519.48,0,0]
[{"$f":"мощность!$AA$29","v":"26.07.2025"},21,{"$f":"мощность!W29","v":0},{"$f":"[2]Лист1!C679","v":2520.2600000000002},2520.2600000000002,0,0]
[{"$f":"мощность!$AA$29","v":"26.07.2025"},22,{"$f":"мощность!X29","v":0},{"$f":"[2]Лист1!C680","v":2378.83},2378.83,0,0]
[{"$f":"мощность!$AA$29","v":"26.07.2025"},23,{"$f":"мощность!Y29","v":0},{"$f":"[2]Лист1!C681","v":1881.79},1881.79,0,0]
[{"$f":"мощность!$AA$30","v":"27.07.2025"},0,{"$f":"мощность!B30","v":0},{"$f":"[2]Лист1!C682","v":1639.99},1639.99,0,0]
[{"$f":"мощность!$AA$30","v":"27.07.2025"},1,{"$f":"мощность!C30","v":0},{"$f":"[2]Лист1!C683","v":1507.44},1507.44,0,0]
[{"$f":"мощность!$AA$30","v":"27.07.2025"},2,{"$f":"мощность!D30","v":0},{"$f":"[2]Лист1!C684","v":1392.01},1392.01,0,0]
[{"$f":"мощность!$AA$30","v":"27.07.2025"},3,{"$f":"мощность!E30","v":0},{"$f":"[2]Лист1!C685","v":1289.54},1289.54,0,0]
[{"$f":"мощность!$AA$30","v":"27.07.2025"},4,{"$f":"мощность!F30","v":0},{"$f":"[2]Лист1!C686","v":1184.52},1184.52,0,0]
[{"$f":"мощность!$AA$30","v":"27.07.2025"},5,{"$f":"мощность!G30","v":0},{"$f":"[2]Лист1!C687","v":11.27},11.27,0,0]
[{"$f":"мощность!$AA$30","v":"27.07.2025"},6,{"$f":"мощность!H30","v":0},{"$f":"[2]Лист1!C688","v":5.3},5.3,0,0]
[{"$f":"мощность!$AA$30","v":"27.07.2025"},7,{"$f":"мощность!I30","v":0},{"$f":"[2]Лист1!C689","v":1440.31},1440.31,0,0]
[{"$f":"мощность!$AA$30","v":"27.07.2025"},8,{"$f":"мощность!J30","v":0},{"$f":"[2]Лист1!C690","v":1872.41},1872.41,0,0]
[{"$f":"мощность!$AA$30","v":"27.07.2025"},9,{"$f":"мощность!K30","v":0},{"$f":"[2]Лист1!C691","v":1935.38},1935.38,0,0]
[{"$f":"мощность!$AA$30","v":"27.07.2025"},10,{"$f":"мощность!L30","v":0},{"$f":"[2]Лист1!C692","v":2034.58},2034.58,0,0]
[{"$f":"мощность!$AA$30","v":"27.07.2025"},11,{"$f":"мощность!M30","v":0},{"$f":"[2]Лист1!C693","v":1835.21},1835.21,0,0]
[{"$f":"мощность!$AA$30","v":"27.07.2025"},12,{"$f":"мощность!N30","v":0},{"$f":"[2]Лист1!C694","v":1963.24},1963.24,0,0]
[{"$f":"мощность!$AA$30","v":"27.07.2025"},13,{"$f":"мощность!O30","v":0},{"$f":"[2]Лист1!C695","v":2300.66},2300.66,0,0]
[{"$f":"мощность!$AA$30","v":"27.07.2025"},14,{"$f":"мощность!P30","v":0},{"$f":"[2]Лист1!C696","v":2307.77},2307.77,0,0]
[{"$f":"мощность!$AA$30","v":"27.07.2025"},15,{"$f":"мощность!Q30","v":0},{"$f":"[2]Лист1!C697","v":1991.5},1991.5,0,0]
[{"$f":"мощность!$AA$30","v":"27.07.2025"},16,{"$f":"мощность!R30","v":0},{"$f":"[2]Лист1!C698","v":1666.47},1666.47,0,0]
[{"$f":"мощность!$AA$30","v":"27.07.2025"},17,{"$f":"мощность!S30","v":0},{"$f":"[2]Лист1!C699","v":1799.06},{"$f":"1*D643","v":1799.06},{"$f":"ROUND(C643*D643/1000,2)","v":0},{"$f":"ROUND(C643*E643/1000,2)","v":0}]
[{"$f":"мощность!$AA$30","v":"27.07.2025"},18,{"$f":"мощность!T30","v":0},{"$f":"[2]Лист1!C700","v":2129.7199999999998},2129.7199999999998,0,0]
[{"$f":"мощность!$AA$30","v":"27.07.2025"},19,{"$f":"мощность!U30","v":0},{"$f":"[2]Лист1!C701","v":2376.14},2376.14,0,0]
[{"$f":"мощность!$AA$30","v":"27.07.2025"},20,{"$f":"мощность!V30","v":0},{"$f":"[2]Лист1!C702","v":2478.79},2478.79,0,0]
[{"$f":"мощность!$AA$30","v":"27.07.2025"},21,{"$f":"мощность!W30","v":0},{"$f":"[2]Лист1!C703","v":2289.7199999999998},2289.7199999999998,0,0]
[{"$f":"мощность!$AA$30","v":"27.07.2025"},22,{"$f":"мощность!X30","v":0},{"$f":"[2]Лист1!C704","v":2176.0500000000002},2176.0500000000002,0,0]
[{"$f":"мощность!$AA$30","v":"27.07.2025"},23,{"$f":"мощность!Y30","v":0},{"$f":"[2]Лист1!C705","v":1843.29},1843.29,0,0]
[{"$f":"мощность!$AA$31","v":"28.07.2025"},0,{"$f":"мощность!B31","v":0},{"$f":"[2]Лист1!C706","v":1624.9},1624.9,0,0]
[{"$f":"мощность!$AA$31","v":"28.07.2025"},1,{"$f":"мощность!C31","v":0},{"$f":"[2]Лист1!C707","v":1473.83},1473.83,0,0]
[{"$f":"мощность!$AA$31","v":"28.07.2025"},2,{"$f":"мощность!D31","v":0},{"$f":"[2]Лист1!C708","v":1221.3699999999999},1221.3699999999999,0,0]
[{"$f":"мощность!$AA$31","v":"28.07.2025"},3,{"$f":"мощность!E31","v":0},{"$f":"[2]Лист1!C709","v":1023.97},1023.97,0,0]
[{"$f":"мощность!$AA$31","v":"28.07.2025"},4,{"$f":"мощность!F31","v":0},{"$f":"[2]Лист1!C710","v":5.9},5.9,0,0]
[{"$f":"мощность!$AA$31","v":"28.07.2025"},5,{"$f":"мощность!G31","v":0},{"$f":"[2]Лист1!C711","v":10.27},10.27,0,0]
[{"$f":"мощность!$AA$31","v":"28.07.2025"},6,{"$f":"мощность!H31","v":0},{"$f":"[2]Лист1!C712","v":1279.29},1279.29,0,0]
[{"$f":"мощность!$AA$31","v":"28.07.2025"},7,{"$f":"мощность!I31","v":0},{"$f":"[2]Лист1!C713","v":1719.11},1719.11,0,0]
[{"$f":"мощность!$AA$31","v":"28.07.2025"},8,{"$f":"мощность!J31","v":0},{"$f":"[2]Лист1!C714","v":2165.69},2165.69,0,0]
[{"$f":"мощность!$AA$31","v":"28.07.2025"},9,{"$f":"мощность!K31","v":0},{"$f":"[2]Лист1!C715","v":2398.6999999999998},2398.6999999999998,0,0]
[{"$f":"мощность!$AA$31","v":"28.07.2025"},10,{"$f":"мощность!L31","v":0},{"$f":"[2]Лист1!C716","v":2118.6},2118.6,0,0]
[{"$f":"мощность!$AA$31","v":"28.07.2025"},11,{"$f":"мощность!M31","v":0},{"$f":"[2]Лист1!C717","v":2109.31},2109.31,0,0]
[{"$f":"мощность!$AA$31","v":"28.07.2025"},12,{"$f":"мощность!N31","v":0},{"$f":"[2]Лист1!C718","v":2094.98},2094.98,0,0]
[{"$f":"мощность!$AA$31","v":"28.07.2025"},13,{"$f":"мощность!O31","v":0},{"$f":"[2]Лист1!C719","v":2084.2399999999998},2084.2399999999998,0,0]
[{"$f":"мощность!$AA$31","v":"28.07.2025"},14,{"$f":"мощность!P31","v":0},{"$f":"[2]Лист1!C720","v":2095.4899999999998},2095.4899999999998,0,0]
[{"$f":"мощность!$AA$31","v":"28.07.2025"},15,{"$f":"мощность!Q31","v":0},{"$f":"[2]Лист1!C721","v":2079.0500000000002},2079.0500000000002,0,0]
[{"$f":"мощность!$AA$31","v":"28.07.2025"},16,{"$f":"мощность!R31","v":0},{"$f":"[2]Лист1!C722","v":2074.48},2074.48,0,0]
[{"$f":"мощность!$AA$31","v":"28.07.2025"},17,{"$f":"мощность!S31","v":0},{"$f":"[2]Лист1!C723","v":2084.8000000000002},2084.8000000000002,0,0]
[{"$f":"мощность!$AA$31","v":"28.07.2025"},18,{"$f":"мощность!T31","v":0},{"$f":"[2]Лист1!C724","v":2383.9699999999998},2383.9699999999998,0,0]
[{"$f":"мощность!$AA$31","v":"28.07.2025"},19,{"$f":"мощность!U31","v":0},{"$f":"[2]Лист1!C725","v":2337.8200000000002},2337.8200000000002,0,0]
[{"$f":"мощность!$AA$31","v":"28.07.2025"},20,{"$f":"мощность!V31","v":0},{"$f":"[2]Лист1!C726","v":2300.21},2300.21,0,0]
[{"$f":"мощность!$AA$31","v":"28.07.2025"},21,{"$f":"мощность!W31","v":0},{"$f":"[2]Лист1!C727","v":2213.13},2213.13,0,0]
[{"$f":"мощность!$AA$31","v":"28.07.2025"},22,{"$f":"мощность!X31","v":0},{"$f":"[2]Лист1!C728","v":2006.81},2006.81,0,0]
[{"$f":"мощность!$AA$31","v":"28.07.2025"},23,{"$f":"мощность!Y31","v":0},{"$f":"[2]Лист1!C729","v":1757.9},1757.9,0,0]
[{"$f":"мощность!$AA$32","v":"29.07.2025"},0,{"$f":"мощность!B32","v":0},{"$f":"[2]Лист1!C730","v":1554.27},1554.27,0,0]
[{"$f":"мощность!$AA$32","v":"29.07.2025"},1,{"$f":"мощность!C32","v":0},{"$f":"[2]Лист1!C731","v":1344.46},1344.46,0,0]
[{"$f":"мощность!$AA$32","v":"29.07.2025"},2,{"$f":"мощность!D32","v":0},{"$f":"[2]Лист1!C732","v":1080.08},1080.08,0,0]
[{"$f":"мощность!$AA$32","v":"29.07.2025"},3,{"$f":"мощность!E32","v":0},{"$f":"[2]Лист1!C733","v":1008.08},1008.08,0,0]
[{"$f":"мощность!$AA$32","v":"29.07.2025"},4,{"$f":"мощность!F32","v":0},{"$f":"[2]Лист1!C734","v":865.07},865.07,0,0]
[{"$f":"мощность!$AA$32","v":"29.07.2025"},5,{"$f":"мощность!G32","v":0},{"$f":"[2]Лист1!C735","v":1055.1600000000001},1055.1600000000001,0,0]
[{"$f":"мощность!$AA$32","v":"29.07.2025"},6,{"$f":"мощность!H32","v":0},{"$f":"[2]Лист1!C736","v":689.62},689.62,0,0]
[{"$f":"мощность!$AA$32","v":"29.07.2025"},7,{"$f":"мощность!I32","v":0},{"$f":"[2]Лист1!C737","v":1701.25},1701.25,0,0]
[{"$f":"мощность!$AA$32","v":"29.07.2025"},8,{"$f":"мощность!J32","v":0},{"$f":"[2]Лист1!C738","v":2160.35},2160.35,0,0]
[{"$f":"мощность!$AA$32","v":"29.07.2025"},9,{"$f":"мощность!K32","v":0},{"$f":"[2]Лист1!C739","v":2213.38},2213.38,0,0]
[{"$f":"мощность!$AA$32","v":"29.07.2025"},10,{"$f":"мощность!L32","v":0},{"$f":"[2]Лист1!C740","v":2221.06},2221.06,0,0]
[{"$f":"мощность!$AA$32","v":"29.07.2025"},11,{"$f":"мощность!M32","v":0},{"$f":"[2]Лист1!C741","v":2214.48},2214.48,0,0]
[{"$f":"мощность!$AA$32","v":"29.07.2025"},12,{"$f":"мощность!N32","v":0},{"$f":"[2]Лист1!C742","v":2209.64},2209.64,0,0]
[{"$f":"мощность!$AA$32","v":"29.07.2025"},13,{"$f":"мощность!O32","v":0},{"$f":"[2]Лист1!C743","v":2219.16},2219.16,0,0]
[{"$f":"мощность!$AA$32","v":"29.07.2025"},14,{"$f":"мощность!P32","v":0},{"$f":"[2]Лист1!C744","v":2220.08},2220.08,0,0]
[{"$f":"мощность!$AA$32","v":"29.07.2025"},15,{"$f":"мощность!Q32","v":0},{"$f":"[2]Лист1!C745","v":2218.96},2218.96,0,0]
[{"$f":"мощность!$AA$32","v":"29.07.2025"},16,{"$f":"мощность!R32","v":0},{"$f":"[2]Лист1!C746","v":2217.81},2217.81,0,0]
[{"$f":"мощность!$AA$32","v":"29.07.2025"},17,{"$f":"мощность!S32","v":0},{"$f":"[2]Лист1!C747","v":2203.69},2203.69,0,0]
[{"$f":"мощность!$AA$32","v":"29.07.2025"},18,{"$f":"мощность!T32","v":0},{"$f":"[2]Лист1!C748","v":2209.84},2209.84,0,0]
[{"$f":"мощность!$AA$32","v":"29.07.2025"},19,{"$f":"мощность!U32","v":0},{"$f":"[2]Лист1!C749","v":2189.64},2189.64,0,0]
[{"$f":"мощность!$AA$32","v":"29.07.2025"},20,{"$f":"мощность!V32","v":0},{"$f":"[2]Лист1!C750","v":2171.12},2171.12,0,0]
[{"$f":"мощность!$AA$32","v":"29.07.2025"},21,{"$f":"мощность!W32","v":0},{"$f":"[2]Лист1!C751","v":2165.11},2165.11,0,0]
[{"$f":"мощность!$AA$32","v":"29.07.2025"},22,{"$f":"мощность!X32","v":0},{"$f":"[2]Лист1!C752","v":2043.07},2043.07,0,0]
[{"$f":"мощность!$AA$32","v":"29.07.2025"},23,{"$f":"мощность!Y32","v":0},{"$f":"[2]Лист1!C753","v":1820.17},1820.17,0,0]
[{"$f":"мощность!$AA$33","v":"30.07.2025"},0,{"$f":"мощность!B33","v":0},{"$f":"[2]Лист1!C754","v":1578.66},1578.66,0,0]
[{"$f":"мощность!$AA$33","v":"30.07.2025"},1,{"$f":"мощность!C33","v":0},{"$f":"[2]Лист1!C755","v":1428.51},1428.51,0,0]
[{"$f":"мощность!$AA$33","v":"30.07.2025"},2,{"$f":"мощность!D33","v":0},{"$f":"[2]Лист1!C756","v":1231.79},1231.79,0,0]
[{"$f":"мощность!$AA$33","v":"30.07.2025"},3,{"$f":"мощность!E33","v":0},{"$f":"[2]Лист1!C757","v":1037.73},1037.73,0,0]
[{"$f":"мощность!$AA$33","v":"30.07.2025"},4,{"$f":"мощность!F33","v":0},{"$f":"[2]Лист1!C758","v":952.35},952.35,0,0]
[{"$f":"мощность!$AA$33","v":"30.07.2025"},5,{"$f":"мощность!G33","v":0},{"$f":"[2]Лист1!C759","v":749.23},749.23,0,0]
[{"$f":"мощность!$AA$33","v":"30.07.2025"},6,{"$f":"мощность!H33","v":0},{"$f":"[2]Лист1!C760","v":1383.15},1383.15,0,0]
[{"$f":"мощность!$AA$33","v":"30.07.2025"},7,{"$f":"мощность!I33","v":0},{"$f":"[2]Лист1!C761","v":1863.32},1863.32,0,0]
[{"$f":"мощность!$AA$33","v":"30.07.2025"},8,{"$f":"мощность!J33","v":0},{"$f":"[2]Лист1!C762","v":2193.2199999999998},2193.2199999999998,0,0]
[{"$f":"мощность!$AA$33","v":"30.07.2025"},9,{"$f":"мощность!K33","v":0},{"$f":"[2]Лист1!C763","v":2180.36},{"$f":"1*D707","v":2180.36},{"$f":"ROUND(C707*D707/1000,2)","v":0},{"$f":"ROUND(C707*E707/1000,2)","v":0}]
[{"$f":"мощность!$AA$33","v":"30.07.2025"},10,{"$f":"мощность!L33","v":0},{"$f":"[2]Лист1!C764","v":2235.4699999999998},2235.4699999999998,0,0]
[{"$f":"мощность!$AA$33","v":"30.07.2025"},11,{"$f":"мощность!M33","v":0},{"$f":"[2]Лист1!C765","v":2272.6},2272.6,0,0]
[{"$f":"мощность!$AA$33","v":"30.07.2025"},12,{"$f":"мощность!N33","v":0},{"$f":"[2]Лист1!C766","v":2242.84},2242.84,0,0]
[{"$f":"мощность!$AA$33","v":"30.07.2025"},13,{"$f":"мощность!O33","v":0},{"$f":"[2]Лист1!C767","v":2261.5},2261.5,0,0]
[{"$f":"мощность!$AA$33","v":"30.07.2025"},14,{"$f":"мощность!P33","v":0},{"$f":"[2]Лист1!C768","v":2266.17},2266.17,0,0]
[{"$f":"мощность!$AA$33","v":"30.07.2025"},15,{"$f":"мощность!Q33","v":0},{"$f":"[2]Лист1!C769","v":2238.59},2238.59,0,0]
[{"$f":"мощность!$AA$33","v":"30.07.2025"},16,{"$f":"мощность!R33","v":0},{"$f":"[2]Лист1!C770","v":2227.9899999999998},2227.9899999999998,0,0]
[{"$f":"мощность!$AA$33","v":"30.07.2025"},17,{"$f":"мощность!S33","v":0},{"$f":"[2]Лист1!C771","v":2234.59},2234.59,0,0]
[{"$f":"мощность!$AA$33","v":"30.07.2025"},18,{"$f":"мощность!T33","v":0},{"$f":"[2]Лист1!C772","v":2215.9},2215.9,0,0]
[{"$f":"мощность!$AA$33","v":"30.07.2025"},19,{"$f":"мощность!U33","v":0},{"$f":"[2]Лист1!C773","v":2229.1799999999998},2229.1799999999998,0,0]
[{"$f":"мощность!$AA$33","v":"30.07.2025"},20,{"$f":"мощность!V33","v":0},{"$f":"[2]Лист1!C774","v":2198.88},2198.88,0,0]
[{"$f":"мощность!$AA$33","v":"30.07.2025"},21,{"$f":"мощность!W33","v":0},{"$f":"[2]Лист1!C775","v":2228.19},2228.19,0,0]
[{"$f":"мощность!$AA$33","v":"30.07.2025"},22,{"$f":"мощность!X33","v":0},{"$f":"[2]Лист1!C776","v":2116.87},2116.87,0,0]
[{"$f":"мощность!$AA$33","v":"30.07.2025"},23,{"$f":"мощность!Y33","v":0},{"$f":"[2]Лист1!C777","v":1868.71},1868.71,0,0]
[{"$f":"мощность!$AA$34","v":"31.07.2025"},0,{"$f":"мощность!B34","v":0},{"$f":"[2]Лист1!C778","v":1554.52},1554.52,0,0]
[{"$f":"мощность!$AA$34","v":"31.07.2025"},1,{"$f":"мощность!C34","v":0},{"$f":"[2]Лист1!C779","v":1299.01},1299.01,0,0]
[{"$f":"мощность!$AA$34","v":"31.07.2025"},2,{"$f":"мощность!D34","v":0},{"$f":"[2]Лист1!C780","v":1095.83},1095.83,0,0]
[{"$f":"мощность!$AA$34","v":"31.07.2025"},3,{"$f":"мощность!E34","v":0},{"$f":"[2]Лист1!C781","v":987.42},987.42,0,0]
[{"$f":"мощность!$AA$34","v":"31.07.2025"},4,{"$f":"мощность!F34","v":0},{"$f":"[2]Лист1!C782","v":5.75},5.75,0,0]
[{"$f":"мощность!$AA$34","v":"31.07.2025"},5,{"$f":"мощность!G34","v":0},{"$f":"[2]Лист1!C783","v":943.73},943.73,0,0]
[{"$f":"мощность!$AA$34","v":"31.07.2025"},6,{"$f":"мощность!H34","v":0},{"$f":"[2]Лист1!C784","v":1316.65},1316.65,0,0]
[{"$f":"мощность!$AA$34","v":"31.07.2025"},7,{"$f":"мощность!I34","v":0},{"$f":"[2]Лист1!C785","v":1776.9},1776.9,0,0]
[{"$f":"мощность!$AA$34","v":"31.07.2025"},8,{"$f":"мощность!J34","v":0},{"$f":"[2]Лист1!C786","v":2212.6799999999998},2212.6799999999998,0,0]
[{"$f":"мощность!$AA$34","v":"31.07.2025"},9,{"$f":"мощность!K34","v":0},{"$f":"[2]Лист1!C787","v":2206.27},2206.27,0,0]
[{"$f":"мощность!$AA$34","v":"31.07.2025"},10,{"$f":"мощность!L34","v":0},{"$f":"[2]Лист1!C788","v":2169.71},2169.71,0,0]
[{"$f":"мощность!$AA$34","v":"31.07.2025"},11,{"$f":"мощность!M34","v":0},{"$f":"[2]Лист1!C789","v":2221.29},2221.29,0,0]
[{"$f":"мощность!$AA$34","v":"31.07.2025"},12,{"$f":"мощность!N34","v":0},{"$f":"[2]Лист1!C790","v":2216.2600000000002},2216.2600000000002,0,0]
[{"$f":"мощность!$AA$34","v":"31.07.2025"},13,{"$f":"мощность!O34","v":0},{"$f":"[2]Лист1!C791","v":2285.7800000000002},2285.7800000000002,0,0]
[{"$f":"мощность!$AA$34","v":"31.07.2025"},14,{"$f":"мощность!P34","v":0},{"$f":"[2]Лист1!C792","v":2285.1},2285.1,0,0]
[{"$f":"мощность!$AA$34","v":"31.07.2025"},15,{"$f":"мощность!Q34","v":0},{"$f":"[2]Лист1!C793","v":2205.17},2205.17,0,0]
[{"$f":"мощность!$AA$34","v":"31.07.2025"},16,{"$f":"мощность!R34","v":0},{"$f":"[2]Лист1!C794","v":2207.1999999999998},2207.1999999999998,0,0]
[{"$f":"мощность!$AA$34","v":"31.07.2025"},17,{"$f":"мощность!S34","v":0},{"$f":"[2]Лист1!C795","v":2177.48},2177.48,0,0]
[{"$f":"мощность!$AA$34","v":"31.07.2025"},18,{"$f":"мощность!T34","v":0},{"$f":"[2]Лист1!C796","v":2148.65},2148.65,0,0]
[{"$f":"мощность!$AA$34","v":"31.07.2025"},19,{"$f":"мощность!U34","v":0},{"$f":"[2]Лист1!C797","v":2183.87},2183.87,0,0]
[{"$f":"мощность!$AA$34","v":"31.07.2025"},20,{"$f":"мощность!V34","v":0},{"$f":"[2]Лист1!C798","v":2143.3000000000002},2143.3000000000002,0,0]
[{"$f":"мощность!$AA$34","v":"31.07.2025"},21,{"$f":"мощность!W34","v":0},{"$f":"[2]Лист1!C799","v":1999.23},1999.23,{"$f":"ROUND(C743*D743/1000,2)","v":0},0]
[{"$f":"мощность!$AA$34","v":"31.07.2025"},22,{"$f":"мощность!X34","v":0},{"$f":"[2]Лист1!C800","v":1996},1996,0,0]
[{"$f":"мощность!$AA$34","v":"31.07.2025"},23,{"$f":"мощность!Y34","v":0},{"$f":"[2]Лист1!C801","v":1782.09},1782.09,0,0]
["ИТОГО",null,{"$f":"SUM(C2:C745)","v":0},{"$f":"ROUND(F746/C746*1000,2)","v":{"$error":"#DIV/0!"}},{"$f":"ROUND(G746/C746*1000,2)","v":{"$error":"#DIV/0!"}},{"$f":"SUM(F2:F745)","v":0},{"$f":"SUM(G2:G745)","v":0}]
["Средневзвешенная нерегулируемая цена",null,null,{"$f":"[2]Лист1!$B$33","v":"1904,76"},{"$f":"D747*0.9","v":1714.2840000000001},{"$f":"ROUND(C746*D747/1000,2)","v":0},{"$f":"ROUND(C746*E747/1000,2)","v":0}]
[null,null,null,"1118,05",null,null,null,null,"Показатель","Объём (КВтч)","Цена руб/МВтч","Стоимость, руб.","Стоимость с НДС, руб.","в т.ч. НДС (20%)"]
["Эффект от расчёта по средневзвешенной нерегулируемой цене",null,null,null,null,{"$f":"F746-F747","v":0},{"$f":"G746-G747","v":0},null,"Электроэнергия",{"$f":"C746","v":0},{"$f":"E746","v":{"$error":"#DIV/0!"}},{"$f":"ROUND(K749*J749/1000,2)","v":{"$error":"#DIV/0!"}},{"$f":"ROUND(L749*1.2,2)","v":{"$error":"#DIV/0!"}},{"$f":"ROUND(L749*1.2,2)-L749","v":{"$error":"#DIV/0!"}}]
[null,null,null,null,null,null,null,null,"Мощность",{"$f":"C753","v":0},{"$f":"E753","v":914051.46},{"$f":"ROUND(K750*J750/1000,2)","v":0},{"$f":"ROUND(L750*1.2,2)","v":0},{"$f":"ROUND(L750*1.2,2)-L750","v":0}]
[null,null,null,null,null,null,null,null,"ИТОГО","Х",null,{"$f":"SUM(L749:L750)","v":{"$error":"#DIV/0!"}},{"$f":"SUM(M749:M750)","v":{"$error":"#DIV/0!"}},{"$f":"SUM(N749:N750)","v":{"$error":"#DIV/0!"}}]
[]
["Средневзвешенная нерегулируемая цена на мощность",null,{"$f":"ROUND(мощность!AB35,0)","v":0},{"$f":"[2]Лист1!$B$32","v":"914051,46"},{"$f":"ROUND(1*D753,2)","v":914051.46},{"$f":"ROUND(C753*D753,2)/1000","v":0},{"$f":"C753*E753/1000","v":0}]
[null,null,null,"377213,16"]

{"sheet":"округл","index":4,"n_rows":116,"n_cols":65,"rows_kept":116,"cut":false,"hidden":true,"merged":[]}
[null,"Почасовые расходы,кВтч ( мощность,кВт ) "]
[]
[null,"за ",{"$f":"мощность!B1","v":"июль"}]
[]
[null,1,2,3,4,5,6,7,8,9,10,11,12,13,14,15,16,17,18,19,20,21,22,23,24,25,26,27,28,29,30,31]
[1,{"$f":"ввод!$B$5","v":0},{"$f":"ввод!$B$6","v":0},{"$f":"ввод!$B$7","v":0},{"$f":"ввод!$B$8","v":0},{"$f":"ввод!$B$9","v":0},{"$f":"ввод!$B$10","v":0},{"$f":"ввод!$B$11","v":0},{"$f":"ввод!$B$12","v":0},{"$f":"ввод!$B$13","v":0},{"$f":"ввод!$B$14","v":0},{"$f":"ввод!$B$15","v":0},{"$f":"ввод!$B$16","v":0},{"$f":"ввод!$B$17","v":0},{"$f":"ввод!$B$18","v":0},{"$f":"ввод!$B$19","v":0},{"$f":"ввод!$B$20","v":0},{"$f":"ввод!$B$21","v":0},{"$f":"ввод!$B$22","v":0},{"$f":"ввод!$B$23","v":0},{"$f":"ввод!$B$24","v":0},{"$f":"ввод!$B$25","v":0},{"$f":"ввод!$B$26","v":0},{"$f":"ввод!$B$27","v":0},{"$f":"ввод!$B$28","v":0},{"$f":"ввод!$B$29","v":0},{"$f":"ввод!$B$30","v":0},{"$f":"ввод!$B$31","v":0},{"$f":"ввод!$B$32","v":0},{"$f":"ввод!$B$33","v":0},{"$f":"ввод!$B$34","v":0},{"$f":"ввод!$B$35","v":0}]
[2,{"$f":"ввод!$C$5","v":0},{"$f":"ввод!$C$6","v":0},{"$f":"ввод!$C$7","v":0},{"$f":"ввод!$C$8","v":0},{"$f":"ввод!$C$9","v":0},{"$f":"ввод!$C$10","v":0},{"$f":"ввод!$C$11","v":0},{"$f":"ввод!$C$12","v":0},{"$f":"ввод!$C$13","v":0},{"$f":"ввод!$C$14","v":0},{"$f":"ввод!$C$15","v":0},{"$f":"ввод!$C$16","v":0},{"$f":"ввод!$C$17","v":0},{"$f":"ввод!$C$18","v":0},{"$f":"ввод!$C$19","v":0},{"$f":"ввод!$C$20","v":0},{"$f":"ввод!$C$21","v":0},{"$f":"ввод!$C$22","v":0},{"$f":"ввод!$C$23","v":0},{"$f":"ввод!$C$24","v":0},{"$f":"ввод!$C$25","v":0},{"$f":"ввод!$C$26","v":0},{"$f":"ввод!$C$27","v":0},{"$f":"ввод!$C$28","v":0},{"$f":"ввод!$C$29","v":0},{"$f":"ввод!$C$30","v":0},{"$f":"ввод!$C$31","v":0},{"$f":"ввод!$C$32","v":0},{"$f":"ввод!$C$33","v":0},{"$f":"ввод!$C$34","v":0},{"$f":"ввод!$C$35","v":0}]
[3,{"$f":"ввод!$D$5","v":0},{"$f":"ввод!$D$6","v":0},{"$f":"ввод!$D$7","v":0},{"$f":"ввод!$D$8","v":0},{"$f":"ввод!$D$9","v":0},{"$f":"ввод!$D$10","v":0},{"$f":"ввод!$D$11","v":0},{"$f":"ввод!$D$12","v":0},{"$f":"ввод!$D$13","v":0},{"$f":"ввод!$D$14","v":0},{"$f":"ввод!$D$15","v":0},{"$f":"ввод!$D$16","v":0},{"$f":"ввод!$D$17","v":0},{"$f":"ввод!$D$18","v":0},{"$f":"ввод!$D$19","v":0},{"$f":"ввод!$D$20","v":0},{"$f":"ввод!$D$21","v":0},{"$f":"ввод!$D$22","v":0},{"$f":"ввод!$D$23","v":0},{"$f":"ввод!$D$24","v":0},{"$f":"ввод!$D$25","v":0},{"$f":"ввод!$D$26","v":0},{"$f":"ввод!$D$27","v":0},{"$f":"ввод!$D$28","v":0},{"$f":"ввод!$D$29","v":0},{"$f":"ввод!$D$30","v":0},{"$f":"ввод!$D$31","v":0},{"$f":"ввод!$D$32","v":0},{"$f":"ввод!$D$33","v":0},{"$f":"ввод!$D$34","v":0},{"$f":"ввод!$D$35","v":0}]
[4,{"$f":"ввод!$E$5","v":0},{"$f":"ввод!$E$6","v":0},{"$f":"ввод!$E$7","v":0},{"$f":"ввод!$E$8","v":0},{"$f":"ввод!$E$9","v":0},{"$f":"ввод!$E$10","v":0},{"$f":"ввод!$E$11","v":0},{"$f":"ввод!$E$12","v":0},{"$f":"ввод!$E$13","v":0},{"$f":"ввод!$E$14","v":0},{"$f":"ввод!$E$15","v":0},{"$f":"ввод!$E$16","v":0},{"$f":"ввод!$E$17","v":0},{"$f":"ввод!$E$18","v":0},{"$f":"ввод!$E$19","v":0},{"$f":"ввод!$E$20","v":0},{"$f":"ввод!$E$21","v":0},{"$f":"ввод!$E$22","v":0},{"$f":"ввод!$E$23","v":0},{"$f":"ввод!$E$24","v":0},{"$f":"ввод!$E$25","v":0},{"$f":"ввод!$E$26","v":0},{"$f":"ввод!$E$27","v":0},{"$f":"ввод!$E$28","v":0},{"$f":"ввод!$E$29","v":0},{"$f":"ввод!$E$30","v":0},{"$f":"ввод!$E$31","v":0},{"$f":"ввод!$E$32","v":0},{"$f":"ввод!$E$33","v":0},{"$f":"ввод!$E$34","v":0},{"$f":"ввод!$E$35","v":0}]
[5,{"$f":"ввод!$F$5","v":0},{"$f":"ввод!$F$6","v":0},{"$f":"ввод!$F$7","v":0},{"$f":"ввод!$F$8","v":0},{"$f":"ввод!$F$9","v":0},{"$f":"ввод!$F$10","v":0},{"$f":"ввод!$F$11","v":0},{"$f":"ввод!$F$12","v":0},{"$f":"ввод!$F$13","v":0},{"$f":"ввод!$F$14","v":0},{"$f":"ввод!$F$15","v":0},{"$f":"ввод!$F$16","v":0},{"$f":"ввод!$F$17","v":0},{"$f":"ввод!$F$18","v":0},{"$f":"ввод!$F$19","v":0},{"$f":"ввод!$F$20","v":0},{"$f":"ввод!$F$21","v":0},{"$f":"ввод!$F$22","v":0},{"$f":"ввод!$F$23","v":0},{"$f":"ввод!$F$24","v":0},{"$f":"ввод!$F$25","v":0},{"$f":"ввод!$F$26","v":0},{"$f":"ввод!$F$27","v":0},{"$f":"ввод!$F$28","v":0},{"$f":"ввод!$F$29","v":0},{"$f":"ввод!$F$30","v":0},{"$f":"ввод!$F$31","v":0},{"$f":"ввод!$F$32","v":0},{"$f":"ввод!$F$33","v":0},{"$f":"ввод!$F$34","v":0},{"$f":"ввод!$F$35","v":0}]
[6,{"$f":"ввод!$G$5","v":0},{"$f":"ввод!$G$6","v":0},{"$f":"ввод!$G$7","v":0},{"$f":"ввод!$G$8","v":0},{"$f":"ввод!$G$9","v":0},{"$f":"ввод!$G$10","v":0},{"$f":"ввод!$G$11","v":0},{"$f":"ввод!$G$12","v":0},{"$f":"ввод!$G$13","v":0},{"$f":"ввод!$G$14","v":0},{"$f":"ввод!$G$15","v":0},{"$f":"ввод!$G$16","v":0},{"$f":"ввод!$G$17","v":0},{"$f":"ввод!$G$18","v":0},{"$f":"ввод!$G$19","v":0},{"$f":"ввод!$G$20","v":0},{"$f":"ввод!$G$21","v":0},{"$f":"ввод!$G$22","v":0},{"$f":"ввод!$G$23","v":0},{"$f":"ввод!$G$24","v":0},{"$f":"ввод!$G$25","v":0},{"$f":"ввод!$G$26","v":0},{"$f":"ввод!$G$27","v":0},{"$f":"ввод!$G$28","v":0},{"$f":"ввод!$G$29","v":0},{"$f":"ввод!$G$30","v":0},{"$f":"ввод!$G$31","v":0},{"$f":"ввод!$G$32","v":0},{"$f":"ввод!$G$33","v":0},{"$f":"ввод!$G$34","v":0},{"$f":"ввод!$G$35","v":0}]
[7,{"$f":"ввод!$H$5","v":0},{"$f":"ввод!$H$6","v":0},{"$f":"ввод!$H$7","v":0},{"$f":"ввод!$H$8","v":0},{"$f":"ввод!$H$9","v":0},{"$f":"ввод!$H$10","v":0},{"$f":"ввод!$H$11","v":0},{"$f":"ввод!$H$12","v":0},{"$f":"ввод!$H$13","v":0},{"$f":"ввод!$H$14","v":0},{"$f":"ввод!$H$15","v":0},{"$f":"ввод!$H$16","v":0},{"$f":"ввод!$H$17","v":0},{"$f":"ввод!$H$18","v":0},{"$f":"ввод!$H$19","v":0},{"$f":"ввод!$H$20","v":0},{"$f":"ввод!$H$21","v":0},{"$f":"ввод!$H$22","v":0},{"$f":"ввод!$H$23","v":0},{"$f":"ввод!$H$24","v":0},{"$f":"ввод!$H$25","v":0},{"$f":"ввод!$H$26","v":0},{"$f":"ввод!$H$27","v":0},{"$f":"ввод!$H$28","v":0},{"$f":"ввод!$H$29","v":0},{"$f":"ввод!$H$30","v":0},{"$f":"ввод!$H$31","v":0},{"$f":"ввод!$H$32","v":0},{"$f":"ввод!$H$33","v":0},{"$f":"ввод!$H$34","v":0},{"$f":"ввод!$H$35","v":0}]
[8,{"$f":"ввод!$I$5","v":0},{"$f":"ввод!$I$6","v":0},{"$f":"ввод!$I$7","v":0},{"$f":"ввод!$I$8","v":0},{"$f":"ввод!$I$9","v":0},{"$f":"ввод!$I$10","v":0},{"$f":"ввод!$I$11","v":0},{"$f":"ввод!$I$12","v":0},{"$f":"ввод!$I$13","v":0},{"$f":"ввод!$I$14","v":0},{"$f":"ввод!$I$15","v":0},{"$f":"ввод!$I$16","v":0},{"$f":"ввод!$I$17","v":0},{"$f":"ввод!$I$18","v":0},{"$f":"ввод!$I$19","v":0},{"$f":"ввод!$I$20","v":0},{"$f":"ввод!$I$21","v":0},{"$f":"ввод!$I$22","v":0},{"$f":"ввод!$I$23","v":0},{"$f":"ввод!$I$24","v":0},{"$f":"ввод!$I$25","v":0},{"$f":"ввод!$I$26","v":0},{"$f":"ввод!$I$27","v":0},{"$f":"ввод!$I$28","v":0},{"$f":"ввод!$I$29","v":0},{"$f":"ввод!$I$30","v":0},{"$f":"ввод!$I$31","v":0},{"$f":"ввод!$I$32","v":0},{"$f":"ввод!$I$33","v":0},{"$f":"ввод!$I$34","v":0},{"$f":"ввод!$I$35","v":0}]
[9,{"$f":"ввод!$J$5","v":0},{"$f":"ввод!$J$6","v":0},{"$f":"ввод!$J$7","v":0},{"$f":"ввод!$J$8","v":0},{"$f":"ввод!$J$9","v":0},{"$f":"ввод!$J$10","v":0},{"$f":"ввод!$J$11","v":0},{"$f":"ввод!$J$12","v":0},{"$f":"ввод!$J$13","v":0},{"$f":"ввод!$J$14","v":0},{"$f":"ввод!$J$15","v":0},{"$f":"ввод!$J$16","v":0},{"$f":"ввод!$J$17","v":0},{"$f":"ввод!$J$18","v":0},{"$f":"ввод!$J$19","v":0},{"$f":"ввод!$J$20","v":0},{"$f":"ввод!$J$21","v":0},{"$f":"ввод!$J$22","v":0},{"$f":"ввод!$J$23","v":0},{"$f":"ввод!$J$24","v":0},{"$f":"ввод!$J$25","v":0},{"$f":"ввод!$J$26","v":0},{"$f":"ввод!$J$27","v":0},{"$f":"ввод!$J$28","v":0},{"$f":"ввод!$J$29","v":0},{"$f":"ввод!$J$30","v":0},{"$f":"ввод!$J$31","v":0},{"$f":"ввод!$J$32","v":0},{"$f":"ввод!$J$33","v":0},{"$f":"ввод!$J$34","v":0},{"$f":"ввод!$J$35","v":0}]
[10,{"$f":"ввод!$K$5","v":0},{"$f":"ввод!$K$6","v":0},{"$f":"ввод!$K$7","v":0},{"$f":"ввод!$K$8","v":0},{"$f":"ввод!$K$9","v":0},{"$f":"ввод!$K$10","v":0},{"$f":"ввод!$K$11","v":0},{"$f":"ввод!$K$12","v":0},{"$f":"ввод!$K$13","v":0},{"$f":"ввод!$K$14","v":0},{"$f":"ввод!$K$15","v":0},{"$f":"ввод!$K$16","v":0},{"$f":"ввод!$K$17","v":0},{"$f":"ввод!$K$18","v":0},{"$f":"ввод!$K$19","v":0},{"$f":"ввод!$K$20","v":0},{"$f":"ввод!$K$21","v":0},{"$f":"ввод!$K$22","v":0},{"$f":"ввод!$K$23","v":0},{"$f":"ввод!$K$24","v":0},{"$f":"ввод!$K$25","v":0},{"$f":"ввод!$K$26","v":0},{"$f":"ввод!$K$27","v":0},{"$f":"ввод!$K$28","v":0},{"$f":"ввод!$K$29","v":0},{"$f":"ввод!$K$30","v":0},{"$f":"ввод!$K$31","v":0},{"$f":"ввод!$K$32","v":0},{"$f":"ввод!$K$33","v":0},{"$f":"ввод!$K$34","v":0},{"$f":"ввод!$K$35","v":0}]
[11,{"$f":"ввод!$L$5","v":0},{"$f":"ввод!$L$6","v":0},{"$f":"ввод!$L$7","v":0},{"$f":"ввод!$L$8","v":0},{"$f":"ввод!$L$9","v":0},{"$f":"ввод!$L$10","v":0},{"$f":"ввод!$L$11","v":0},{"$f":"ввод!$L$12","v":0},{"$f":"ввод!$L$13","v":0},{"$f":"ввод!$L$14","v":0},{"$f":"ввод!$L$15","v":0},{"$f":"ввод!$L$16","v":0},{"$f":"ввод!$L$17","v":0},{"$f":"ввод!$L$18","v":0},{"$f":"ввод!$L$19","v":0},{"$f":"ввод!$L$20","v":0},{"$f":"ввод!$L$21","v":0},{"$f":"ввод!$L$22","v":0},{"$f":"ввод!$L$23","v":0},{"$f":"ввод!$L$24","v":0},{"$f":"ввод!$L$25","v":0},{"$f":"ввод!$L$26","v":0},{"$f":"ввод!$L$27","v":0},{"$f":"ввод!$L$28","v":0},{"$f":"ввод!$L$29","v":0},{"$f":"ввод!$L$30","v":0},{"$f":"ввод!$L$31","v":0},{"$f":"ввод!$L$32","v":0},{"$f":"ввод!$L$33","v":0},{"$f":"ввод!$L$34","v":0},{"$f":"ввод!$L$35","v":0}]
[12,{"$f":"ввод!$M$5","v":0},{"$f":"ввод!$M$6","v":0},{"$f":"ввод!$M$7","v":0},{"$f":"ввод!$M$8","v":0},{"$f":"ввод!$M$9","v":0},{"$f":"ввод!$M$10","v":0},{"$f":"ввод!$M$11","v":0},{"$f":"ввод!$M$12","v":0},{"$f":"ввод!$M$13","v":0},{"$f":"ввод!$M$14","v":0},{"$f":"ввод!$M$15","v":0},{"$f":"ввод!$M$16","v":0},{"$f":"ввод!$M$17","v":0},{"$f":"ввод!$M$18","v":0},{"$f":"ввод!$M$19","v":0},{"$f":"ввод!$M$20","v":0},{"$f":"ввод!$M$21","v":0},{"$f":"ввод!$M$22","v":0},{"$f":"ввод!$M$23","v":0},{"$f":"ввод!$M$24","v":0},{"$f":"ввод!$M$25","v":0},{"$f":"ввод!$M$26","v":0},{"$f":"ввод!$M$27","v":0},{"$f":"ввод!$M$28","v":0},{"$f":"ввод!$M$29","v":0},{"$f":"ввод!$M$30","v":0},{"$f":"ввод!$M$31","v":0},{"$f":"ввод!$M$32","v":0},{"$f":"ввод!$M$33","v":0},{"$f":"ввод!$M$34","v":0},{"$f":"ввод!$M$35","v":0}]
[13,{"$f":"ввод!$N$5","v":0},{"$f":"ввод!$N$6","v":0},{"$f":"ввод!$N$7","v":0},{"$f":"ввод!$N$8","v":0},{"$f":"ввод!$N$9","v":0},{"$f":"ввод!$N$10","v":0},{"$f":"ввод!$N$11","v":0},{"$f":"ввод!$N$12","v":0},{"$f":"ввод!$N$13","v":0},{"$f":"ввод!$N$14","v":0},{"$f":"ввод!$N$15","v":0},{"$f":"ввод!$N$16","v":0},{"$f":"ввод!$N$17","v":0},{"$f":"ввод!$N$18","v":0},{"$f":"ввод!$N$19","v":0},{"$f":"ввод!$N$20","v":0},{"$f":"ввод!$N$21","v":0},{"$f":"ввод!$N$22","v":0},{"$f":"ввод!$N$23","v":0},{"$f":"ввод!$N$24","v":0},{"$f":"ввод!$N$25","v":0},{"$f":"ввод!$N$26","v":0},{"$f":"ввод!$N$27","v":0},{"$f":"ввод!$N$28","v":0},{"$f":"ввод!$N$29","v":0},{"$f":"ввод!$N$30","v":0},{"$f":"ввод!$N$31","v":0},{"$f":"ввод!$N$32","v":0},{"$f":"ввод!$N$33","v":0},{"$f":"ввод!$N$34","v":0},{"$f":"ввод!$N$35","v":0}]
[14,{"$f":"ввод!$O$5","v":0},{"$f":"ввод!$O$6","v":0},{"$f":"ввод!$O$7","v":0},{"$f":"ввод!$O$8","v":0},{"$f":"ввод!$O$9","v":0},{"$f":"ввод!$O$10","v":0},{"$f":"ввод!$O$11","v":0},{"$f":"ввод!$O$12","v":0},{"$f":"ввод!$O$13","v":0},{"$f":"ввод!$O$14","v":0},{"$f":"ввод!$O$15","v":0},{"$f":"ввод!$O$16","v":0},{"$f":"ввод!$O$17","v":0},{"$f":"ввод!$O$18","v":0},{"$f":"ввод!$O$19","v":0},{"$f":"ввод!$O$20","v":0},{"$f":"ввод!$O$21","v":0},{"$f":"ввод!$O$22","v":0},{"$f":"ввод!$O$23","v":0},{"$f":"ввод!$O$24","v":0},{"$f":"ввод!$O$25","v":0},{"$f":"ввод!$O$26","v":0},{"$f":"ввод!$O$27","v":0},{"$f":"ввод!$O$28","v":0},{"$f":"ввод!$O$29","v":0},{"$f":"ввод!$O$30","v":0},{"$f":"ввод!$O$31","v":0},{"$f":"ввод!$O$32","v":0},{"$f":"ввод!$O$33","v":0},{"$f":"ввод!$O$34","v":0},{"$f":"ввод!$O$35","v":0}]
[15,{"$f":"ввод!$P$5","v":0},{"$f":"ввод!$P$6","v":0},{"$f":"ввод!$P$7","v":0},{"$f":"ввод!$P$8","v":0},{"$f":"ввод!$P$9","v":0},{"$f":"ввод!$P$10","v":0},{"$f":"ввод!$P$11","v":0},{"$f":"ввод!$P$12","v":0},{"$f":"ввод!$P$13","v":0},{"$f":"ввод!$P$14","v":0},{"$f":"ввод!$P$15","v":0},{"$f":"ввод!$P$16","v":0},{"$f":"ввод!$P$17","v":0},{"$f":"ввод!$P$18","v":0},{"$f":"ввод!$P$19","v":0},{"$f":"ввод!$P$20","v":0},{"$f":"ввод!$P$21","v":0},{"$f":"ввод!$P$22","v":0},{"$f":"ввод!$P$23","v":0},{"$f":"ввод!$P$24","v":0},{"$f":"ввод!$P$25","v":0},{"$f":"ввод!$P$26","v":0},{"$f":"ввод!$P$27","v":0},{"$f":"ввод!$P$28","v":0},{"$f":"ввод!$P$29","v":0},{"$f":"ввод!$P$30","v":0},{"$f":"ввод!$P$31","v":0},{"$f":"ввод!$P$32","v":0},{"$f":"ввод!$P$33","v":0},{"$f":"ввод!$P$34","v":0},{"$f":"ввод!$P$35","v":0}]
[16,{"$f":"ввод!$Q$5","v":0},{"$f":"ввод!$Q$6","v":0},{"$f":"ввод!$Q$7","v":0},{"$f":"ввод!$Q$8","v":0},{"$f":"ввод!$Q$9","v":0},{"$f":"ввод!$Q$10","v":0},{"$f":"ввод!$Q$11","v":0},{"$f":"ввод!$Q$12","v":0},{"$f":"ввод!$Q$13","v":0},{"$f":"ввод!$Q$14","v":0},{"$f":"ввод!$Q$15","v":0},{"$f":"ввод!$Q$16","v":0},{"$f":"ввод!$Q$17","v":0},{"$f":"ввод!$Q$18","v":0},{"$f":"ввод!$Q$19","v":0},{"$f":"ввод!$Q$20","v":0},{"$f":"ввод!$Q$21","v":0},{"$f":"ввод!$Q$22","v":0},{"$f":"ввод!$Q$23","v":0},{"$f":"ввод!$Q$24","v":0},{"$f":"ввод!$Q$25","v":0},{"$f":"ввод!$Q$26","v":0},{"$f":"ввод!$Q$27","v":0},{"$f":"ввод!$Q$28","v":0},{"$f":"ввод!$Q$29","v":0},{"$f":"ввод!$Q$30","v":0},{"$f":"ввод!$Q$31","v":0},{"$f":"ввод!$Q$32","v":0},{"$f":"ввод!$Q$33","v":0},{"$f":"ввод!$Q$34","v":0},{"$f":"ввод!$Q$35","v":0}]
[17,{"$f":"ввод!$R$5","v":0},{"$f":"ввод!$R$6","v":0},{"$f":"ввод!$R$7","v":0},{"$f":"ввод!$R$8","v":0},{"$f":"ввод!$R$9","v":0},{"$f":"ввод!$R$10","v":0},{"$f":"ввод!$R$11","v":0},{"$f":"ввод!$R$12","v":0},{"$f":"ввод!$R$13","v":0},{"$f":"ввод!$R$14","v":0},{"$f":"ввод!$R$15","v":0},{"$f":"ввод!$R$16","v":0},{"$f":"ввод!$R$17","v":0},{"$f":"ввод!$R$18","v":0},{"$f":"ввод!$R$19","v":0},{"$f":"ввод!$R$20","v":0},{"$f":"ввод!$R$21","v":0},{"$f":"ввод!$R$22","v":0},{"$f":"ввод!$R$23","v":0},{"$f":"ввод!$R$24","v":0},{"$f":"ввод!$R$25","v":0},{"$f":"ввод!$R$26","v":0},{"$f":"ввод!$R$27","v":0},{"$f":"ввод!$R$28","v":0},{"$f":"ввод!$R$29","v":0},{"$f":"ввод!$R$30","v":0},{"$f":"ввод!$R$31","v":0},{"$f":"ввод!$R$32","v":0},{"$f":"ввод!$R$33","v":0},{"$f":"ввод!$R$34","v":0},{"$f":"ввод!$R$35","v":0}]
[18,{"$f":"ввод!$S$5","v":0},{"$f":"ввод!$S$6","v":0},{"$f":"ввод!$S$7","v":0},{"$f":"ввод!$S$8","v":0},{"$f":"ввод!$S$9","v":0},{"$f":"ввод!$S$10","v":0},{"$f":"ввод!$S$11","v":0},{"$f":"ввод!$S$12","v":0},{"$f":"ввод!$S$13","v":0},{"$f":"ввод!$S$14","v":0},{"$f":"ввод!$S$15","v":0},{"$f":"ввод!$S$16","v":0},{"$f":"ввод!$S$17","v":0},{"$f":"ввод!$S$18","v":0},{"$f":"ввод!$S$19","v":0},{"$f":"ввод!$S$20","v":0},{"$f":"ввод!$S$21","v":0},{"$f":"ввод!$S$22","v":0},{"$f":"ввод!$S$23","v":0},{"$f":"ввод!$S$24","v":0},{"$f":"ввод!$S$25","v":0},{"$f":"ввод!$S$26","v":0},{"$f":"ввод!$S$27","v":0},{"$f":"ввод!$S$28","v":0},{"$f":"ввод!$S$29","v":0},{"$f":"ввод!$S$30","v":0},{"$f":"ввод!$S$31","v":0},{"$f":"ввод!$S$32","v":0},{"$f":"ввод!$S$33","v":0},{"$f":"ввод!$S$34","v":0},{"$f":"ввод!$S$35","v":0}]
[19,{"$f":"ввод!$T$5","v":0},{"$f":"ввод!$T$6","v":0},{"$f":"ввод!$T$7","v":0},{"$f":"ввод!$T$8","v":0},{"$f":"ввод!$T$9","v":0},{"$f":"ввод!$T$10","v":0},{"$f":"ввод!$T$11","v":0},{"$f":"ввод!$T$12","v":0},{"$f":"ввод!$T$13","v":0},{"$f":"ввод!$T$14","v":0},{"$f":"ввод!$T$15","v":0},{"$f":"ввод!$T$16","v":0},{"$f":"ввод!$T$17","v":0},{"$f":"ввод!$T$18","v":0},{"$f":"ввод!$T$19","v":0},{"$f":"ввод!$T$20","v":0},{"$f":"ввод!$T$21","v":0},{"$f":"ввод!$T$22","v":0},{"$f":"ввод!$T$23","v":0},{"$f":"ввод!$T$24","v":0},{"$f":"ввод!$T$25","v":0},{"$f":"ввод!$T$26","v":0},{"$f":"ввод!$T$27","v":0},{"$f":"ввод!$T$28","v":0},{"$f":"ввод!$T$29","v":0},{"$f":"ввод!$T$30","v":0},{"$f":"ввод!$T$31","v":0},{"$f":"ввод!$T$32","v":0},{"$f":"ввод!$T$33","v":0},{"$f":"ввод!$T$34","v":0},{"$f":"ввод!$T$35","v":0}]
[20,{"$f":"ввод!$U$5","v":0},{"$f":"ввод!$U$6","v":0},{"$f":"ввод!$U$7","v":0},{"$f":"ввод!$U$8","v":0},{"$f":"ввод!$U$9","v":0},{"$f":"ввод!$U$10","v":0},{"$f":"ввод!$U$11","v":0},{"$f":"ввод!$U$12","v":0},{"$f":"ввод!$U$13","v":0},{"$f":"ввод!$U$14","v":0},{"$f":"ввод!$U$15","v":0},{"$f":"ввод!$U$16","v":0},{"$f":"ввод!$U$17","v":0},{"$f":"ввод!$U$18","v":0},{"$f":"ввод!$U$19","v":0},{"$f":"ввод!$U$20","v":0},{"$f":"ввод!$U$21","v":0},{"$f":"ввод!$U$22","v":0},{"$f":"ввод!$U$23","v":0},{"$f":"ввод!$U$24","v":0},{"$f":"ввод!$U$25","v":0},{"$f":"ввод!$U$26","v":0},{"$f":"ввод!$U$27","v":0},{"$f":"ввод!$U$28","v":0},{"$f":"ввод!$U$29","v":0},{"$f":"ввод!$U$30","v":0},{"$f":"ввод!$U$31","v":0},{"$f":"ввод!$U$32","v":0},{"$f":"ввод!$U$33","v":0},{"$f":"ввод!$U$34","v":0},{"$f":"ввод!$U$35","v":0}]
[21,{"$f":"ввод!$V$5","v":0},{"$f":"ввод!$V$6","v":0},{"$f":"ввод!$V$7","v":0},{"$f":"ввод!$V$8","v":0},{"$f":"ввод!$V$9","v":0},{"$f":"ввод!$V$10","v":0},{"$f":"ввод!$V$11","v":0},{"$f":"ввод!$V$12","v":0},{"$f":"ввод!$V$13","v":0},{"$f":"ввод!$V$14","v":0},{"$f":"ввод!$V$15","v":0},{"$f":"ввод!$V$16","v":0},{"$f":"ввод!$V$17","v":0},{"$f":"ввод!$V$18","v":0},{"$f":"ввод!$V$19","v":0},{"$f":"ввод!$V$20","v":0},{"$f":"ввод!$V$21","v":0},{"$f":"ввод!$V$22","v":0},{"$f":"ввод!$V$23","v":0},{"$f":"ввод!$V$24","v":0},{"$f":"ввод!$V$25","v":0},{"$f":"ввод!$V$26","v":0},{"$f":"ввод!$V$27","v":0},{"$f":"ввод!$V$28","v":0},{"$f":"ввод!$V$29","v":0},{"$f":"ввод!$V$30","v":0},{"$f":"ввод!$V$31","v":0},{"$f":"ввод!$V$32","v":0},{"$f":"ввод!$V$33","v":0},{"$f":"ввод!$V$34","v":0},{"$f":"ввод!$V$35","v":0}]
[22,{"$f":"ввод!$W$5","v":0},{"$f":"ввод!$W$6","v":0},{"$f":"ввод!$W$7","v":0},{"$f":"ввод!$W$8","v":0},{"$f":"ввод!$W$9","v":0},{"$f":"ввод!$W$10","v":0},{"$f":"ввод!$W$11","v":0},{"$f":"ввод!$W$12","v":0},{"$f":"ввод!$W$13","v":0},{"$f":"ввод!$W$14","v":0},{"$f":"ввод!$W$15","v":0},{"$f":"ввод!$W$16","v":0},{"$f":"ввод!$W$17","v":0},{"$f":"ввод!$W$18","v":0},{"$f":"ввод!$W$19","v":0},{"$f":"ввод!$W$20","v":0},{"$f":"ввод!$W$21","v":0},{"$f":"ввод!$W$22","v":0},{"$f":"ввод!$W$23","v":0},{"$f":"ввод!$W$24","v":0},{"$f":"ввод!$W$25","v":0},{"$f":"ввод!$W$26","v":0},{"$f":"ввод!$W$27","v":0},{"$f":"ввод!$W$28","v":0},{"$f":"ввод!$W$29","v":0},{"$f":"ввод!$W$30","v":0},{"$f":"ввод!$W$31","v":0},{"$f":"ввод!$W$32","v":0},{"$f":"ввод!$W$33","v":0},{"$f":"ввод!$W$34","v":0},{"$f":"ввод!$W$35","v":0}]
[23,{"$f":"ввод!$X$5","v":0},{"$f":"ввод!$X$6","v":0},{"$f":"ввод!$X$7","v":0},{"$f":"ввод!$X$8","v":0},{"$f":"ввод!$X$9","v":0},{"$f":"ввод!$X$10","v":0},{"$f":"ввод!$X$11","v":0},{"$f":"ввод!$X$12","v":0},{"$f":"ввод!$X$13","v":0},{"$f":"ввод!$X$14","v":0},{"$f":"ввод!$X$15","v":0},{"$f":"ввод!$X$16","v":0},{"$f":"ввод!$X$17","v":0},{"$f":"ввод!$X$18","v":0},{"$f":"ввод!$X$19","v":0},{"$f":"ввод!$X$20","v":0},{"$f":"ввод!$X$21","v":0},{"$f":"ввод!$X$22","v":0},{"$f":"ввод!$X$23","v":0},{"$f":"ввод!$X$24","v":0},{"$f":"ввод!$X$25","v":0},{"$f":"ввод!$X$26","v":0},{"$f":"ввод!$X$27","v":0},{"$f":"ввод!$X$28","v":0},{"$f":"ввод!$X$29","v":0},{"$f":"ввод!$X$30","v":0},{"$f":"ввод!$X$31","v":0},{"$f":"ввод!$X$32","v":0},{"$f":"ввод!$X$33","v":0},{"$f":"ввод!$X$34","v":0},{"$f":"ввод!$X$35","v":0}]
[24,{"$f":"ввод!$Y$5","v":0},{"$f":"ввод!$Y$6","v":0},{"$f":"ввод!$Y$7","v":0},{"$f":"ввод!$Y$8","v":0},{"$f":"ввод!$Y$9","v":0},{"$f":"ввод!$Y$10","v":0},{"$f":"ввод!$Y$11","v":0},{"$f":"ввод!$Y$12","v":0},{"$f":"ввод!$Y$13","v":0},{"$f":"ввод!$Y$14","v":0},{"$f":"ввод!$Y$15","v":0},{"$f":"ввод!$Y$16","v":0},{"$f":"ввод!$Y$17","v":0},{"$f":"ввод!$Y$18","v":0},{"$f":"ввод!$Y$19","v":0},{"$f":"ввод!$Y$20","v":0},{"$f":"ввод!$Y$21","v":0},{"$f":"ввод!$Y$22","v":0},{"$f":"ввод!$Y$23","v":0},{"$f":"ввод!$Y$24","v":0},{"$f":"ввод!$Y$25","v":0},{"$f":"ввод!$Y$26","v":0},{"$f":"ввод!$Y$27","v":0},{"$f":"ввод!$Y$28","v":0},{"$f":"ввод!$Y$29","v":0},{"$f":"ввод!$Y$30","v":0},{"$f":"ввод!$Y$31","v":0},{"$f":"ввод!$Y$32","v":0},{"$f":"ввод!$Y$33","v":0},{"$f":"ввод!$Y$34","v":0},{"$f":"ввод!$Y$35","v":0}]
[]
["итог",{"$f":"SUM(B6:B29)","v":0},{"$f":"SUM(C6:C29)","v":0},0,0,0,0,0,0,0,0,0,0,0,0,0,0,0,0,0,0,0,0,0,0,0,0,0,0,0,0,0,{"$f":"SUM(B6:AF30)","v":0}]
[]
[]
[]
[]
[null,1,2,3,4,5,6,7,8,9,10,11,12,13,14,15,16,17,18,19,20,21,22,23,24,25,26,27,28,29,30,31]
[1,{"$f":"B6","v":0},{"$f":"C6+(B60-ROUND(B60,0))","v":0},{"$f":"D6+(C60-ROUND(C60,0))","v":0},0,0,0,0,0,0,0,0,0,0,0,0,0,0,0,0,0,0,0,0,0,0,0,0,{"$f":"AC6+(AB60-ROUND(AB60,0))","v":0},{"$f":"AD6+(AC60-ROUND(AC60,0))","v":0},{"$f":"AE6+(AD60-ROUND(AD60,0))","v":0},{"$f":"AF6+(AE60-ROUND(AE60,0))","v":0}]
[2,{"$f":"B7+(B37-ROUND(B37,0))","v":0},{"$f":"C7+(C37-ROUND(C37,0))","v":0},{"$f":"D7+(D37-ROUND(D37,0))","v":0},0,0,0,0,0,0,0,0,0,0,0,0,0,0,0,0,0,0,0,0,0,0,0,0,{"$f":"AC7+(AC37-ROUND(AC37,0))","v":0},{"$f":"AD7+(AD37-ROUND(AD37,0))","v":0},{"$f":"AE7+(AE37-ROUND(AE37,0))","v":0},{"$f":"AF7+(AF37-ROUND(AF37,0))","v":0}]
[3,{"$f":"B8+(B38-ROUND(B38,0))","v":0},0,0,0,0,0,0,0,0,0,0,0,0,0,0,0,0,0,0,0,0,0,0,0,0,0,0,0,{"$f":"AD8+(AD38-ROUND(AD38,0))","v":0},0,0]
[4,0,0,0,0,0,0,0,0,0,0,0,0,0,0,0,0,0,0,0,0,0,0,0,0,0,0,0,0,0,0,0]
[5,0,0,0,0,0,0,0,0,0,0,0,0,0,0,0,0,0,0,0,0,0,0,0,0,0,0,0,0,0,0,0]
[6,0,0,0,0,0,0,0,0,0,0,0,0,0,0,0,0,0,0,0,0,0,0,0,0,0,0,0,0,0,0,0]
[7,0,0,0,0,0,0,0,0,0,0,0,0,0,0,0,0,0,0,0,0,0,0,0,0,0,0,0,0,0,0,0]
[8,0,0,0,0,0,0,0,0,0,0,0,0,0,0,0,0,0,0,0,0,0,0,0,0,0,0,0,0,0,0,0]
[9,0,0,0,0,0,0,0,0,0,0,0,0,0,0,0,0,0,0,0,0,0,0,0,0,0,0,0,0,0,0,0]
[10,0,0,0,0,0,0,0,0,0,0,0,0,0,0,0,0,0,0,0,0,0,0,0,0,0,0,0,0,0,0,0]
[11,0,0,0,0,0,0,0,0,0,0,0,0,0,0,0,0,0,0,0,0,0,0,0,0,0,0,0,0,0,0,0]
[12,0,0,0,0,0,0,0,0,0,0,0,0,0,0,0,0,0,0,0,0,0,0,0,0,0,0,{"$f":"AB17+(AB47-ROUND(AB47,0))","v":0},0,0,0,0]
[13,0,0,0,0,0,0,0,0,0,0,0,0,0,0,0,0,{"$f":"R18+(R48-ROUND(R48,0))","v":0},0,0,0,0,0,0,0,0,0,0,0,0,0,0]
[14,0,0,0,0,0,0,0,0,0,0,0,0,0,0,0,0,0,0,0,0,0,0,0,0,0,0,0,0,0,0,0]
[15,0,0,0,0,0,0,0,0,0,0,0,0,0,0,0,0,0,0,0,0,0,0,0,0,0,0,0,0,0,0,0]
[16,0,0,0,0,0,{"$f":"G21+(G51-ROUND(G51,0))","v":0},0,0,0,0,0,0,0,0,0,0,0,0,0,0,0,0,0,0,0,0,0,0,0,0,0]
[17,0,0,0,0,0,0,0,0,0,0,0,0,0,0,0,0,0,0,0,0,0,0,0,0,0,0,0,0,0,0,0]
[18,0,0,0,0,0,0,0,0,0,0,0,0,0,0,0,0,0,0,0,0,0,0,0,0,0,0,0,0,0,0,0]
[19,{"$f":"B24+(B54-ROUND(B54,0))","v":0},0,0,0,0,0,0,0,0,0,0,0,0,0,0,0,0,0,0,0,0,0,0,0,0,0,0,0,0,0,0]
[20,0,0,0,0,0,0,0,0,0,0,0,0,0,0,0,0,0,0,0,0,0,0,0,0,{"$f":"Z25+(Z55-ROUND(Z55,0))","v":0},0,0,0,0,0,0]
[21,0,0,0,0,0,0,0,0,0,0,0,0,0,0,0,0,0,0,0,0,0,0,0,0,0,0,0,0,0,0,0]
[22,0,0,0,0,0,0,0,0,0,0,0,0,0,0,0,0,0,0,0,0,0,0,0,0,0,0,0,0,0,0,0]
[23,0,0,0,0,0,0,0,0,0,0,0,0,0,0,0,0,0,0,0,0,0,0,0,0,0,0,0,0,0,0,0]
[24,{"$f":"B29+(B59-ROUND(B59,0))","v":0},0,0,0,0,0,0,0,0,0,0,0,0,0,0,0,0,0,0,0,0,0,0,0,0,0,0,0,0,0,0]
[]
["итог",{"$f":"SUM(B37:B60)","v":0},{"$f":"SUM(C37:C60)","v":0},0,0,0,0,0,0,0,0,0,0,0,0,0,0,0,0,0,0,0,0,0,0,0,0,0,0,0,{"$f":"SUM(AE37:AE60)","v":0},{"$f":"SUM(AF37:AF60)","v":0}]
[]
[]
[null,1,2,3,4,5,6,7,8,9,10,11,12,13,14,15,16,17,18,19,20,21,22,23,24,25,26,27,28,29,30,31,null,1,2,3,4,5,6,7,8,9,10,11,12,13,14,15,16,17,18,19,20,21,22,23,24,25,26,27,28,29,30,31]
[1,{"$f":"ROUND(B37,0)","v":0},{"$f":"ROUND(C37,0)","v":0},0,0,0,0,0,0,0,0,0,0,0,0,0,0,0,0,0,0,0,0,{"$f":"ROUND(X37,0)","v":0},0,0,0,0,0,0,0,0,null,{"$f":"IF(B66<0,0,B66)","v":0},{"$f":"IF(C66<0,0,C66)","v":0},0,0,0,0,0,0,0,0,0,0,0,0,0,0,0,{"$f":"IF(S66<0,0,S66)","v":0},0,0,0,0,0,0,0,0,0,0,0,{"$f":"IF(AE66<0,0,AE66)","v":0},{"$f":"IF(AF66<0,0,AF66)","v":0}]
[2,{"$f":"ROUND(B38,0)","v":0},0,0,0,0,0,0,0,0,0,0,0,0,0,0,0,0,0,0,0,0,0,0,0,0,0,0,0,0,0,0,null,{"$f":"IF(B67<0,0,B67)","v":0},0,0,0,0,0,0,0,0,0,0,0,0,0,0,0,0,0,0,0,0,0,0,0,0,0,0,0,0,0,0]
[3,0,0,0,0,0,0,0,0,0,0,0,0,0,0,0,0,0,0,0,0,0,0,0,0,0,0,0,0,0,0,0,null,0,0,0,0,0,0,0,0,0,0,0,0,0,0,0,0,0,0,0,0,0,0,0,0,0,0,0,0,0,0,0]
[4,0,0,0,0,0,0,0,0,0,0,0,0,0,0,0,0,0,0,0,0,0,0,{"$f":"ROUND(X40,0)","v":0},0,0,0,0,0,0,0,0,null,{"$f":"IF(B69<0,0,B69)","v":0},0,0,0,0,0,0,0,0,0,0,0,0,0,0,0,0,0,0,0,0,0,0,0,0,0,0,0,0,0,0]
[5,0,0,0,0,0,0,0,0,0,0,0,0,0,0,0,0,0,0,0,0,0,0,0,0,0,0,0,0,0,0,0,null,0,0,0,0,0,0,0,0,0,0,0,0,0,0,0,0,0,0,0,0,0,0,0,0,0,0,0,0,0,0,0]
[6,0,0,0,0,0,0,0,0,0,0,0,0,0,0,0,0,0,0,0,0,0,0,0,0,0,0,0,0,0,0,0,null,0,0,0,0,0,0,0,0,0,0,0,0,0,0,0,0,0,0,0,0,0,0,0,0,0,0,0,0,0,0,0]
[7,0,0,0,0,0,0,0,0,0,0,0,0,0,0,0,0,0,0,0,0,0,0,0,0,0,0,0,0,0,0,0,null,0,0,0,0,0,0,0,0,0,0,0,0,0,0,0,0,0,0,0,0,0,0,0,0,0,0,0,0,0,0,0]
[8,0,0,0,0,0,0,0,0,0,0,0,0,0,0,0,0,0,0,0,0,0,0,0,0,0,0,0,0,0,0,0,null,0,0,0,0,0,0,0,0,0,0,0,0,0,0,0,0,0,0,0,0,0,0,0,0,0,0,0,0,0,0,0]
[9,0,0,0,0,0,0,0,0,0,0,0,0,0,0,0,0,0,0,{"$f":"ROUND(T45,0)","v":0},0,0,0,0,0,0,0,0,0,0,0,0,null,0,0,0,0,0,0,0,0,0,0,0,0,0,0,0,0,0,0,0,0,0,0,0,0,0,0,0,0,0,0,0]
[10,0,0,0,0,0,0,0,0,0,0,0,0,0,0,0,0,0,0,0,0,0,0,0,0,0,0,0,0,0,0,0,null,0,0,0,0,0,0,0,0,0,0,0,0,0,0,0,0,0,0,0,0,0,0,0,0,0,{"$f":"IF(AA75<0,0,AA75)","v":0},0,0,0,0,0]
[11,0,0,0,0,0,0,0,0,0,0,0,0,0,0,0,0,0,0,0,0,0,0,0,0,0,0,0,0,0,0,0,null,0,0,0,0,0,0,0,0,0,0,0,0,0,0,0,0,0,0,0,0,0,0,0,0,0,0,0,0,0,0,0]
[12,0,0,0,0,0,0,0,0,0,0,0,0,0,0,0,0,0,0,0,0,0,0,0,0,0,0,0,0,0,0,0,null,0,0,0,0,0,0,0,0,0,0,0,0,0,0,0,0,0,0,0,0,0,0,0,0,0,0,0,0,0,0,0]
[13,0,0,0,0,0,0,0,0,0,0,0,0,0,0,0,0,0,0,0,0,0,0,0,0,0,0,0,0,0,0,0,null,0,0,0,0,0,0,0,0,0,0,0,0,0,0,0,0,0,0,0,0,0,0,0,0,0,0,0,0,0,0,0]
[14,0,0,0,0,0,0,0,0,0,0,0,0,0,0,0,0,0,0,0,0,0,0,0,0,0,0,0,0,0,0,0,null,0,0,0,0,0,0,0,0,0,0,0,0,0,0,0,0,0,0,0,0,0,0,0,0,0,0,0,0,0,0,0]
[15,0,0,0,0,0,{"$f":"ROUND(G51,0)","v":0},0,0,0,0,0,0,0,0,0,0,0,0,0,0,0,0,0,0,0,0,0,0,0,0,0,null,0,0,0,0,0,0,0,0,0,0,0,0,0,0,0,0,0,0,0,0,0,0,0,0,0,0,0,0,0,0,0]
[16,0,0,0,0,0,{"$f":"ROUND(G52,0)","v":0},0,0,0,0,0,0,0,0,0,0,0,0,0,0,0,0,0,0,0,0,0,0,0,0,0,null,0,0,0,0,0,0,0,0,0,0,0,0,0,0,0,0,{"$f":"IF(R81<0,0,R81)","v":0},0,0,0,0,0,0,0,0,0,0,0,0,0,0]
[17,0,0,0,0,0,0,0,0,0,0,0,0,0,0,0,0,0,0,0,0,0,0,0,0,0,0,0,0,0,0,0,null,0,0,0,0,0,0,0,0,0,0,0,0,0,0,0,0,0,0,0,0,0,0,0,0,0,0,0,0,0,0,0]
[18,{"$f":"ROUND(B54,0)","v":0},0,0,0,0,0,0,0,0,0,0,0,0,0,0,0,0,0,0,0,0,0,0,0,0,0,0,0,0,0,0,null,0,0,0,0,0,0,0,0,0,0,0,0,0,0,0,0,0,0,0,0,0,0,0,0,0,0,0,0,0,0,0]
[19,0,0,0,0,0,0,0,0,0,0,0,0,0,0,0,0,0,0,0,0,0,0,0,0,0,0,0,0,0,0,0,null,0,0,0,0,0,0,0,0,0,0,0,0,0,0,0,0,0,0,0,0,0,0,0,0,0,0,0,0,0,0,0]
[20,0,0,0,0,0,0,0,0,0,0,0,0,0,0,0,0,0,0,0,0,0,0,0,0,0,0,0,0,0,0,0,null,0,0,0,0,0,0,0,0,0,0,0,0,0,0,0,0,0,0,0,0,0,0,0,0,0,0,0,0,0,0,0]
[21,0,0,0,0,0,0,0,0,0,0,0,0,0,0,0,0,0,0,0,0,0,0,0,0,0,0,0,0,0,0,0,null,0,0,0,0,0,0,0,0,0,0,0,0,0,0,0,0,0,0,0,0,0,0,0,0,0,0,0,0,0,0,0]
[22,0,0,0,0,0,0,0,0,0,0,0,0,0,0,0,0,0,0,0,0,0,0,0,0,0,0,0,0,0,0,0,null,0,0,0,0,0,0,0,0,0,0,0,0,0,0,0,0,0,0,0,0,0,0,0,0,0,0,0,0,0,0,0]
[23,0,0,0,0,0,0,0,0,0,0,0,0,0,0,0,0,0,0,0,0,0,0,0,{"$f":"ROUND(Y59,0)","v":0},0,0,0,0,0,0,0,null,0,0,0,0,0,0,0,0,0,0,0,0,0,0,0,0,0,0,0,0,0,0,0,0,0,0,0,0,0,0,0]
[24,0,0,0,0,0,0,0,0,0,0,0,0,0,0,0,0,0,0,0,0,0,0,0,0,0,0,0,0,0,0,{"$f":"ROUND(AF60,0)","v":0},null,0,0,0,0,0,0,0,0,0,0,0,0,0,0,0,0,0,0,0,0,0,0,0,0,0,0,0,0,0,0,0]
[null,null,null,null,null,null,null,null,null,null,null,null,null,null,null,null,null,null,null,null,null,null,null,null,null,null,null,null,null,null,null,null,null,null,null,null,null,null,null,null,null,null,null,null,null,null,null,null,null,null,null,null,null,null,null,null,null,null,null,null,null,null,null,null,{"$f":"SUM(AH66:BL89)","v":0}]
["итог",{"$f":"SUM(B66:B89)","v":0},0,0,0,0,0,0,0,0,0,0,0,0,0,0,0,0,0,0,0,0,0,0,0,0,0,0,0,0,0,0,{"$f":"SUM(B91:AF91)","v":0}]
[]
[1,{"$f":"округл!$B$66","v":0},{"$f":"округл!$C$66","v":0},{"$f":"округл!$D$66","v":0},{"$f":"округл!$E$66","v":0},{"$f":"округл!$F$66","v":0},{"$f":"округл!$G$66","v":0},{"$f":"округл!$H$66","v":0},{"$f":"округл!$I$66","v":0},{"$f":"округл!$J$66","v":0},{"$f":"округл!$K$66","v":0},{"$f":"округл!$L$66","v":0},{"$f":"округл!$M$66","v":0},{"$f":"округл!$N$66","v":0},{"$f":"округл!$O$66","v":0},{"$f":"округл!$P$66","v":0},{"$f":"округл!$Q$66","v":0},{"$f":"округл!$R$66","v":0},{"$f":"округл!$S$66","v":0},{"$f":"округл!$T$66","v":0},{"$f":"округл!$U$66","v":0},{"$f":"округл!$V$66","v":0},{"$f":"округл!$W$66","v":0},{"$f":"округл!$X$66","v":0},{"$f":"округл!$Y$66","v":0},{"$f":"округл!$Z$66","v":0},{"$f":"округл!$AA$66","v":0},{"$f":"округл!$AB$66","v":0},{"$f":"округл!$AC$66","v":0},{"$f":"округл!$AD$66","v":0},{"$f":"округл!$AE$66","v":0},{"$f":"округл!$AF$66","v":0}]
[2,{"$f":"округл!$B$67","v":0},{"$f":"округл!$C$67","v":0},{"$f":"округл!$D$67","v":0},{"$f":"округл!$E$67","v":0},{"$f":"округл!$F$67","v":0},{"$f":"округл!$G$67","v":0},{"$f":"округл!$H$67","v":0},{"$f":"округл!$I$67","v":0},{"$f":"округл!$J$67","v":0},{"$f":"округл!$K$67","v":0},{"$f":"округл!$L$67","v":0},{"$f":"округл!$M$67","v":0},{"$f":"округл!$N$67","v":0},{"$f":"округл!$O$67","v":0},{"$f":"округл!$P$67","v":0},{"$f":"округл!$Q$67","v":0},{"$f":"округл!$R$67","v":0},{"$f":"округл!$S$67","v":0},{"$f":"округл!$T$67","v":0},{"$f":"округл!$U$67","v":0},{"$f":"округл!$V$67","v":0},{"$f":"округл!$W$67","v":0},{"$f":"округл!$X$67","v":0},{"$f":"округл!$Y$67","v":0},{"$f":"округл!$Z$67","v":0},{"$f":"округл!$AA$67","v":0},{"$f":"округл!$AB$67","v":0},{"$f":"округл!$AC$67","v":0},{"$f":"округл!$AD$67","v":0},{"$f":"округл!$AE$67","v":0},{"$f":"округл!$AF$67","v":0}]
[3,{"$f":"округл!$B$68","v":0},{"$f":"округл!$C$68","v":0},{"$f":"округл!$D$68","v":0},{"$f":"округл!$E$68","v":0},{"$f":"округл!$F$68","v":0},{"$f":"округл!$G$68","v":0},{"$f":"округл!$H$68","v":0},{"$f":"округл!$I$68","v":0},{"$f":"округл!$J$68","v":0},{"$f":"округл!$K$68","v":0},{"$f":"округл!$L$68","v":0},{"$f":"округл!$M$68","v":0},{"$f":"округл!$N$68","v":0},{"$f":"округл!$O$68","v":0},{"$f":"округл!$P$68","v":0},{"$f":"округл!$Q$68","v":0},{"$f":"округл!$R$68","v":0},{"$f":"округл!$S$68","v":0},{"$f":"округл!$T$68","v":0},{"$f":"округл!$U$68","v":0},{"$f":"округл!$V$68","v":0},{"$f":"округл!$W$68","v":0},{"$f":"округл!$X$68","v":0},{"$f":"округл!$Y$68","v":0},{"$f":"округл!$Z$68","v":0},{"$f":"округл!$AA$68","v":0},{"$f":"округл!$AB$68","v":0},{"$f":"округл!$AC$68","v":0},{"$f":"округл!$AD$68","v":0},{"$f":"округл!$AE$68","v":0},{"$f":"округл!$AF$68","v":0}]
[4,{"$f":"округл!$B$69","v":0},{"$f":"округл!$C$69","v":0},{"$f":"округл!$D$69","v":0},{"$f":"округл!$E$69","v":0},{"$f":"округл!$F$69","v":0},{"$f":"округл!$G$69","v":0},{"$f":"округл!$H$69","v":0},{"$f":"округл!$I$69","v":0},{"$f":"округл!$J$69","v":0},{"$f":"округл!$K$69","v":0},{"$f":"округл!$L$69","v":0},{"$f":"округл!$M$69","v":0},{"$f":"округл!$N$69","v":0},{"$f":"округл!$O$69","v":0},{"$f":"округл!$P$69","v":0},{"$f":"округл!$Q$69","v":0},{"$f":"округл!$R$69","v":0},{"$f":"округл!$S$69","v":0},{"$f":"округл!$T$69","v":0},{"$f":"округл!$U$69","v":0},{"$f":"округл!$V$69","v":0},{"$f":"округл!$W$69","v":0},{"$f":"округл!$X$69","v":0},{"$f":"округл!$Y$69","v":0},{"$f":"округл!$Z$69","v":0},{"$f":"округл!$AA$69","v":0},{"$f":"округл!$AB$69","v":0},{"$f":"округл!$AC$69","v":0},{"$f":"округл!$AD$69","v":0},{"$f":"округл!$AE$69","v":0},{"$f":"округл!$AF$69","v":0}]
[5,{"$f":"округл!$B$70","v":0},{"$f":"округл!$C$70","v":0},{"$f":"округл!$D$70","v":0},{"$f":"округл!$E$70","v":0},{"$f":"округл!$F$70","v":0},{"$f":"округл!$G$70","v":0},{"$f":"округл!$H$70","v":0},{"$f":"округл!$I$70","v":0},{"$f":"округл!$J$70","v":0},{"$f":"округл!$K$70","v":0},{"$f":"округл!$L$70","v":0},{"$f":"округл!$M$70","v":0},{"$f":"округл!$N$70","v":0},{"$f":"округл!$O$70","v":0},{"$f":"округл!$P$70","v":0},{"$f":"округл!$Q$70","v":0},{"$f":"округл!$R$70","v":0},{"$f":"округл!$S$70","v":0},{"$f":"округл!$T$70","v":0},{"$f":"округл!$U$70","v":0},{"$f":"округл!$V$70","v":0},{"$f":"округл!$W$70","v":0},{"$f":"округл!$X$70","v":0},{"$f":"округл!$Y$70","v":0},{"$f":"округл!$Z$70","v":0},{"$f":"округл!$AA$70","v":0},{"$f":"округл!$AB$70","v":0},{"$f":"округл!$AC$70","v":0},{"$f":"округл!$AD$70","v":0},{"$f":"округл!$AE$70","v":0},{"$f":"округл!$AF$70","v":0}]
[6,{"$f":"округл!$B$71","v":0},{"$f":"округл!$C$71","v":0},{"$f":"округл!$D$71","v":0},{"$f":"округл!$E$71","v":0},{"$f":"округл!$F$71","v":0},{"$f":"округл!$G$71","v":0},{"$f":"округл!$H$71","v":0},{"$f":"округл!$I$71","v":0},{"$f":"округл!$J$71","v":0},{"$f":"округл!$K$71","v":0},{"$f":"округл!$L$71","v":0},{"$f":"округл!$M$71","v":0},{"$f":"округл!$N$71","v":0},{"$f":"округл!$O$71","v":0},{"$f":"округл!$P$71","v":0},{"$f":"округл!$Q$71","v":0},{"$f":"округл!$R$71","v":0},{"$f":"округл!$S$71","v":0},{"$f":"округл!$T$71","v":0},{"$f":"округл!$U$71","v":0},{"$f":"округл!$V$71","v":0},{"$f":"округл!$W$71","v":0},{"$f":"округл!$X$71","v":0},{"$f":"округл!$Y$71","v":0},{"$f":"округл!$Z$71","v":0},{"$f":"округл!$AA$71","v":0},{"$f":"округл!$AB$71","v":0},{"$f":"округл!$AC$71","v":0},{"$f":"округл!$AD$71","v":0},{"$f":"округл!$AE$71","v":0},{"$f":"округл!$AF$71","v":0}]
[7,{"$f":"округл!$B$72","v":0},{"$f":"округл!$C$72","v":0},{"$f":"округл!$D$72","v":0},{"$f":"округл!$E$72","v":0},{"$f":"округл!$F$72","v":0},{"$f":"округл!$G$72","v":0},{"$f":"округл!$H$72","v":0},{"$f":"округл!$I$72","v":0},{"$f":"округл!$J$72","v":0},{"$f":"округл!$K$72","v":0},{"$f":"округл!$L$72","v":0},{"$f":"округл!$M$72","v":0},{"$f":"округл!$N$72","v":0},{"$f":"округл!$O$72","v":0},{"$f":"округл!$P$72","v":0},{"$f":"округл!$Q$72","v":0},{"$f":"округл!$R$72","v":0},{"$f":"округл!$S$72","v":0},{"$f":"округл!$T$72","v":0},{"$f":"округл!$U$72","v":0},{"$f":"округл!$V$72","v":0},{"$f":"округл!$W$72","v":0},{"$f":"округл!$X$72","v":0},{"$f":"округл!$Y$72","v":0},{"$f":"округл!$Z$72","v":0},{"$f":"округл!$AA$72","v":0},{"$f":"округл!$AB$72","v":0},{"$f":"округл!$AC$72","v":0},{"$f":"округл!$AD$72","v":0},{"$f":"округл!$AE$72","v":0},{"$f":"округл!$AF$72","v":0}]
[8,{"$f":"округл!$B$73","v":0},{"$f":"округл!$C$73","v":0},{"$f":"округл!$D$73","v":0},{"$f":"округл!$E$73","v":0},{"$f":"округл!$F$73","v":0},{"$f":"округл!$G$73","v":0},{"$f":"округл!$H$73","v":0},{"$f":"округл!$I$73","v":0},{"$f":"округл!$J$73","v":0},{"$f":"округл!$K$73","v":0},{"$f":"округл!$L$73","v":0},{"$f":"округл!$M$73","v":0},{"$f":"округл!$N$73","v":0},{"$f":"округл!$O$73","v":0},{"$f":"округл!$P$73","v":0},{"$f":"округл!$Q$73","v":0},{"$f":"округл!$R$73","v":0},{"$f":"округл!$S$73","v":0},{"$f":"округл!$T$73","v":0},{"$f":"округл!$U$73","v":0},{"$f":"округл!$V$73","v":0},{"$f":"округл!$W$73","v":0},{"$f":"округл!$X$73","v":0},{"$f":"округл!$Y$73","v":0},{"$f":"округл!$Z$73","v":0},{"$f":"округл!$AA$73","v":0},{"$f":"округл!$AB$73","v":0},{"$f":"округл!$AC$73","v":0},{"$f":"округл!$AD$73","v":0},{"$f":"округл!$AE$73","v":0},{"$f":"округл!$AF$73","v":0}]
[9,{"$f":"округл!$B$74","v":0},{"$f":"округл!$C$74","v":0},{"$f":"округл!$D$74","v":0},{"$f":"округл!$E$74","v":0},{"$f":"округл!$F$74","v":0},{"$f":"округл!$G$74","v":0},{"$f":"округл!$H$74","v":0},{"$f":"округл!$I$74","v":0},{"$f":"округл!$J$74","v":0},{"$f":"округл!$K$74","v":0},{"$f":"округл!$L$74","v":0},{"$f":"округл!$M$74","v":0},{"$f":"округл!$N$74","v":0},{"$f":"округл!$O$74","v":0},{"$f":"округл!$P$74","v":0},{"$f":"округл!$Q$74","v":0},{"$f":"округл!$R$74","v":0},{"$f":"округл!$S$74","v":0},{"$f":"округл!$T$74","v":0},{"$f":"округл!$U$74","v":0},{"$f":"округл!$V$74","v":0},{"$f":"округл!$W$74","v":0},{"$f":"округл!$X$74","v":0},{"$f":"округл!$Y$74","v":0},{"$f":"округл!$Z$74","v":0},{"$f":"округл!$AA$74","v":0},{"$f":"округл!$AB$74","v":0},{"$f":"округл!$AC$74","v":0},{"$f":"округл!$AD$74","v":0},{"$f":"округл!$AE$74","v":0},{"$f":"округл!$AF$74","v":0}]
[10,{"$f":"округл!$B$75","v":0},{"$f":"округл!$C$75","v":0},{"$f":"округл!$D$75","v":0},{"$f":"округл!$E$75","v":0},{"$f":"округл!$F$75","v":0},{"$f":"округл!$G$75","v":0},{"$f":"округл!$H$75","v":0},{"$f":"округл!$I$75","v":0},{"$f":"округл!$J$75","v":0},{"$f":"округл!$K$75","v":0},{"$f":"округл!$L$75","v":0},{"$f":"округл!$M$75","v":0},{"$f":"округл!$N$75","v":0},{"$f":"округл!$O$75","v":0},{"$f":"округл!$P$75","v":0},{"$f":"округл!$Q$75","v":0},{"$f":"округл!$R$75","v":0},{"$f":"округл!$S$75","v":0},{"$f":"округл!$T$75","v":0},{"$f":"округл!$U$75","v":0},{"$f":"округл!$V$75","v":0},{"$f":"округл!$W$75","v":0},{"$f":"округл!$X$75","v":0},{"$f":"округл!$Y$75","v":0},{"$f":"округл!$Z$75","v":0},{"$f":"округл!$AA$75","v":0},{"$f":"округл!$AB$75","v":0},{"$f":"округл!$AC$75","v":0},{"$f":"округл!$AD$75","v":0},{"$f":"округл!$AE$75","v":0},{"$f":"округл!$AF$75","v":0}]
[11,{"$f":"округл!$B$76","v":0},{"$f":"округл!$C$76","v":0},{"$f":"округл!$D$76","v":0},{"$f":"округл!$E$76","v":0},{"$f":"округл!$F$76","v":0},{"$f":"округл!$G$76","v":0},{"$f":"округл!$H$76","v":0},{"$f":"округл!$I$76","v":0},{"$f":"округл!$J$76","v":0},{"$f":"округл!$K$76","v":0},{"$f":"округл!$L$76","v":0},{"$f":"округл!$M$76","v":0},{"$f":"округл!$N$76","v":0},{"$f":"округл!$O$76","v":0},{"$f":"округл!$P$76","v":0},{"$f":"округл!$Q$76","v":0},{"$f":"округл!$R$76","v":0},{"$f":"округл!$S$76","v":0},{"$f":"округл!$T$76","v":0},{"$f":"округл!$U$76","v":0},{"$f":"округл!$V$76","v":0},{"$f":"округл!$W$76","v":0},{"$f":"округл!$X$76","v":0},{"$f":"округл!$Y$76","v":0},{"$f":"округл!$Z$76","v":0},{"$f":"округл!$AA$76","v":0},{"$f":"округл!$AB$76","v":0},{"$f":"округл!$AC$76","v":0},{"$f":"округл!$AD$76","v":0},{"$f":"округл!$AE$76","v":0},{"$f":"округл!$AF$76","v":0}]
[12,{"$f":"округл!$B$77","v":0},{"$f":"округл!$C$77","v":0},{"$f":"округл!$D$77","v":0},{"$f":"округл!$E$77","v":0},{"$f":"округл!$F$77","v":0},{"$f":"округл!$G$77","v":0},{"$f":"округл!$H$77","v":0},{"$f":"округл!$I$77","v":0},{"$f":"округл!$J$77","v":0},{"$f":"округл!$K$77","v":0},{"$f":"округл!$L$77","v":0},{"$f":"округл!$M$77","v":0},{"$f":"округл!$N$77","v":0},{"$f":"округл!$O$77","v":0},{"$f":"округл!$P$77","v":0},{"$f":"округл!$Q$77","v":0},{"$f":"округл!$R$77","v":0},{"$f":"округл!$S$77","v":0},{"$f":"округл!$T$77","v":0},{"$f":"округл!$U$77","v":0},{"$f":"округл!$V$77","v":0},{"$f":"округл!$W$77","v":0},{"$f":"округл!$X$77","v":0},{"$f":"округл!$Y$77","v":0},{"$f":"округл!$Z$77","v":0},{"$f":"округл!$AA$77","v":0},{"$f":"округл!$AB$77","v":0},{"$f":"округл!$AC$77","v":0},{"$f":"округл!$AD$77","v":0},{"$f":"округл!$AE$77","v":0},{"$f":"округл!$AF$77","v":0}]
[13,{"$f":"округл!$B$78","v":0},{"$f":"округл!$C$78","v":0},{"$f":"округл!$D$78","v":0},{"$f":"округл!$E$78","v":0},{"$f":"округл!$F$78","v":0},{"$f":"округл!$G$78","v":0},{"$f":"округл!$H$78","v":0},{"$f":"округл!$I$78","v":0},{"$f":"округл!$J$78","v":0},{"$f":"округл!$K$78","v":0},{"$f":"округл!$L$78","v":0},{"$f":"округл!$M$78","v":0},{"$f":"округл!$N$78","v":0},{"$f":"округл!$O$78","v":0},{"$f":"округл!$P$78","v":0},{"$f":"округл!$Q$78","v":0},{"$f":"округл!$R$78","v":0},{"$f":"округл!$S$78","v":0},{"$f":"округл!$T$78","v":0},{"$f":"округл!$U$78","v":0},{"$f":"округл!$V$78","v":0},{"$f":"округл!$W$78","v":0},{"$f":"округл!$X$78","v":0},{"$f":"округл!$Y$78","v":0},{"$f":"округл!$Z$78","v":0},{"$f":"округл!$AA$78","v":0},{"$f":"округл!$AB$78","v":0},{"$f":"округл!$AC$78","v":0},{"$f":"округл!$AD$78","v":0},{"$f":"округл!$AE$78","v":0},{"$f":"округл!$AF$78","v":0}]
[14,{"$f":"округл!$B$79","v":0},{"$f":"округл!$C$79","v":0},{"$f":"округл!$D$79","v":0},{"$f":"округл!$E$79","v":0},{"$f":"округл!$F$79","v":0},{"$f":"округл!$G$79","v":0},{"$f":"округл!$H$79","v":0},{"$f":"округл!$I$79","v":0},{"$f":"округл!$J$79","v":0},{"$f":"округл!$K$79","v":0},{"$f":"округл!$L$79","v":0},{"$f":"округл!$M$79","v":0},{"$f":"округл!$N$79","v":0},{"$f":"округл!$O$79","v":0},{"$f":"округл!$P$79","v":0},{"$f":"округл!$Q$79","v":0},{"$f":"округл!$R$79","v":0},{"$f":"округл!$S$79","v":0},{"$f":"округл!$T$79","v":0},{"$f":"округл!$U$79","v":0},{"$f":"округл!$V$79","v":0},{"$f":"округл!$W$79","v":0},{"$f":"округл!$X$79","v":0},{"$f":"округл!$Y$79","v":0},{"$f":"округл!$Z$79","v":0},{"$f":"округл!$AA$79","v":0},{"$f":"округл!$AB$79","v":0},{"$f":"округл!$AC$79","v":0},{"$f":"округл!$AD$79","v":0},{"$f":"округл!$AE$79","v":0},{"$f":"округл!$AF$79","v":0}]
[15,{"$f":"округл!$B$80","v":0},{"$f":"округл!$C$80","v":0},{"$f":"округл!$D$80","v":0},{"$f":"округл!$E$80","v":0},{"$f":"округл!$F$80","v":0},{"$f":"округл!$G$80","v":0},{"$f":"округл!$H$80","v":0},{"$f":"округл!$I$80","v":0},{"$f":"округл!$J$80","v":0},{"$f":"округл!$K$80","v":0},{"$f":"округл!$L$80","v":0},{"$f":"округл!$M$80","v":0},{"$f":"округл!$N$80","v":0},{"$f":"округл!$O$80","v":0},{"$f":"округл!$P$80","v":0},{"$f":"округл!$Q$80","v":0},{"$f":"округл!$R$80","v":0},{"$f":"округл!$S$80","v":0},{"$f":"округл!$T$80","v":0},{"$f":"округл!$U$80","v":0},{"$f":"округл!$V$80","v":0},{"$f":"округл!$W$80","v":0},{"$f":"округл!$X$80","v":0},{"$f":"округл!$Y$80","v":0},{"$f":"округл!$Z$80","v":0},{"$f":"округл!$AA$80","v":0},{"$f":"округл!$AB$80","v":0},{"$f":"округл!$AC$80","v":0},{"$f":"округл!$AD$80","v":0},{"$f":"округл!$AE$80","v":0},{"$f":"округл!$AF$80","v":0}]
[16,{"$f":"округл!$B$81","v":0},{"$f":"округл!$C$81","v":0},{"$f":"округл!$D$81","v":0},{"$f":"округл!$E$81","v":0},{"$f":"округл!$F$81","v":0},{"$f":"округл!$G$81","v":0},{"$f":"округл!$H$81","v":0},{"$f":"округл!$I$81","v":0},{"$f":"округл!$J$81","v":0},{"$f":"округл!$K$81","v":0},{"$f":"округл!$L$81","v":0},{"$f":"округл!$M$81","v":0},{"$f":"округл!$N$81","v":0},{"$f":"округл!$O$81","v":0},{"$f":"округл!$P$81","v":0},{"$f":"округл!$Q$81","v":0},{"$f":"округл!$R$81","v":0},{"$f":"округл!$S$81","v":0},{"$f":"округл!$T$81","v":0},{"$f":"округл!$U$81","v":0},{"$f":"округл!$V$81","v":0},{"$f":"округл!$W$81","v":0},{"$f":"округл!$X$81","v":0},{"$f":"округл!$Y$81","v":0},{"$f":"округл!$Z$81","v":0},{"$f":"округл!$AA$81","v":0},{"$f":"округл!$AB$81","v":0},{"$f":"округл!$AC$81","v":0},{"$f":"округл!$AD$81","v":0},{"$f":"округл!$AE$81","v":0},{"$f":"округл!$AF$81","v":0}]
[17,{"$f":"округл!$B$82","v":0},{"$f":"округл!$C$82","v":0},{"$f":"округл!$D$82","v":0},{"$f":"округл!$E$82","v":0},{"$f":"округл!$F$82","v":0},{"$f":"округл!$G$82","v":0},{"$f":"округл!$H$82","v":0},{"$f":"округл!$I$82","v":0},{"$f":"округл!$J$82","v":0},{"$f":"округл!$K$82","v":0},{"$f":"округл!$L$82","v":0},{"$f":"округл!$M$82","v":0},{"$f":"округл!$N$82","v":0},{"$f":"округл!$O$82","v":0},{"$f":"округл!$P$82","v":0},{"$f":"округл!$Q$82","v":0},{"$f":"округл!$R$82","v":0},{"$f":"округл!$S$82","v":0},{"$f":"округл!$T$82","v":0},{"$f":"округл!$U$82","v":0},{"$f":"округл!$V$82","v":0},{"$f":"округл!$W$82","v":0},{"$f":"округл!$X$82","v":0},{"$f":"округл!$Y$82","v":0},{"$f":"округл!$Z$82","v":0},{"$f":"округл!$AA$82","v":0},{"$f":"округл!$AB$82","v":0},{"$f":"округл!$AC$82","v":0},{"$f":"округл!$AD$82","v":0},{"$f":"округл!$AE$82","v":0},{"$f":"округл!$AF$82","v":0}]
[18,{"$f":"округл!$B$83","v":0},{"$f":"округл!$C$83","v":0},{"$f":"округл!$D$83","v":0},{"$f":"округл!$E$83","v":0},{"$f":"округл!$F$83","v":0},{"$f":"округл!$G$83","v":0},{"$f":"округл!$H$83","v":0},{"$f":"округл!$I$83","v":0},{"$f":"округл!$J$83","v":0},{"$f":"округл!$K$83","v":0},{"$f":"округл!$L$83","v":0},{"$f":"округл!$M$83","v":0},{"$f":"округл!$N$83","v":0},{"$f":"округл!$O$83","v":0},{"$f":"округл!$P$83","v":0},{"$f":"округл!$Q$83","v":0},{"$f":"округл!$R$83","v":0},{"$f":"округл!$S$83","v":0},{"$f":"округл!$T$83","v":0},{"$f":"округл!$U$83","v":0},{"$f":"округл!$V$83","v":0},{"$f":"округл!$W$83","v":0},{"$f":"округл!$X$83","v":0},{"$f":"округл!$Y$83","v":0},{"$f":"округл!$Z$83","v":0},{"$f":"округл!$AA$83","v":0},{"$f":"округл!$AB$83","v":0},{"$f":"округл!$AC$83","v":0},{"$f":"округл!$AD$83","v":0},{"$f":"округл!$AE$83","v":0},{"$f":"округл!$AF$83","v":0}]
[19,{"$f":"округл!$B$84","v":0},{"$f":"округл!$C$84","v":0},{"$f":"округл!$D$84","v":0},{"$f":"округл!$E$84","v":0},{"$f":"округл!$F$84","v":0},{"$f":"округл!$G$84","v":0},{"$f":"округл!$H$84","v":0},{"$f":"округл!$I$84","v":0},{"$f":"округл!$J$84","v":0},{"$f":"округл!$K$84","v":0},{"$f":"округл!$L$84","v":0},{"$f":"округл!$M$84","v":0},{"$f":"округл!$N$84","v":0},{"$f":"округл!$O$84","v":0},{"$f":"округл!$P$84","v":0},{"$f":"округл!$Q$84","v":0},{"$f":"округл!$R$84","v":0},{"$f":"округл!$S$84","v":0},{"$f":"округл!$T$84","v":0},{"$f":"округл!$U$84","v":0},{"$f":"округл!$V$84","v":0},{"$f":"округл!$W$84","v":0},{"$f":"округл!$X$84","v":0},{"$f":"округл!$Y$84","v":0},{"$f":"округл!$Z$84","v":0},{"$f":"округл!$AA$84","v":0},{"$f":"округл!$AB$84","v":0},{"$f":"округл!$AC$84","v":0},{"$f":"округл!$AD$84","v":0},{"$f":"округл!$AE$84","v":0},{"$f":"округл!$AF$84","v":0}]
[20,{"$f":"округл!$B$85","v":0},{"$f":"округл!$C$85","v":0},{"$f":"округл!$D$85","v":0},{"$f":"округл!$E$85","v":0},{"$f":"округл!$F$85","v":0},{"$f":"округл!$G$85","v":0},{"$f":"округл!$H$85","v":0},{"$f":"округл!$I$85","v":0},{"$f":"округл!$J$85","v":0},{"$f":"округл!$K$85","v":0},{"$f":"округл!$L$85","v":0},{"$f":"округл!$M$85","v":0},{"$f":"округл!$N$85","v":0},{"$f":"округл!$O$85","v":0},{"$f":"округл!$P$85","v":0},{"$f":"округл!$Q$85","v":0},{"$f":"округл!$R$85","v":0},{"$f":"округл!$S$85","v":0},{"$f":"округл!$T$85","v":0},{"$f":"округл!$U$85","v":0},{"$f":"округл!$V$85","v":0},{"$f":"округл!$W$85","v":0},{"$f":"округл!$X$85","v":0},{"$f":"округл!$Y$85","v":0},{"$f":"округл!$Z$85","v":0},{"$f":"округл!$AA$85","v":0},{"$f":"округл!$AB$85","v":0},{"$f":"округл!$AC$85","v":0},{"$f":"округл!$AD$85","v":0},{"$f":"округл!$AE$85","v":0},{"$f":"округл!$AF$85","v":0}]
[21,{"$f":"округл!$B$86","v":0},{"$f":"округл!$C$86","v":0},{"$f":"округл!$D$86","v":0},{"$f":"округл!$E$86","v":0},{"$f":"округл!$F$86","v":0},{"$f":"округл!$G$86","v":0},{"$f":"округл!$H$86","v":0},{"$f":"округл!$I$86","v":0},{"$f":"округл!$J$86","v":0},{"$f":"округл!$K$86","v":0},{"$f":"округл!$L$86","v":0},{"$f":"округл!$M$86","v":0},{"$f":"округл!$N$86","v":0},{"$f":"округл!$O$86","v":0},{"$f":"округл!$P$86","v":0},{"$f":"округл!$Q$86","v":0},{"$f":"округл!$R$86","v":0},{"$f":"округл!$S$86","v":0},{"$f":"округл!$T$86","v":0},{"$f":"округл!$U$86","v":0},{"$f":"округл!$V$86","v":0},{"$f":"округл!$W$86","v":0},{"$f":"округл!$X$86","v":0},{"$f":"округл!$Y$86","v":0},{"$f":"округл!$Z$86","v":0},{"$f":"округл!$AA$86","v":0},{"$f":"округл!$AB$86","v":0},{"$f":"округл!$AC$86","v":0},{"$f":"округл!$AD$86","v":0},{"$f":"округл!$AE$86","v":0},{"$f":"округл!$AF$86","v":0}]
[22,{"$f":"округл!$B$87","v":0},{"$f":"округл!$C$87","v":0},{"$f":"округл!$D$87","v":0},{"$f":"округл!$E$87","v":0},{"$f":"округл!$F$87","v":0},{"$f":"округл!$G$87","v":0},{"$f":"округл!$H$87","v":0},{"$f":"округл!$I$87","v":0},{"$f":"округл!$J$87","v":0},{"$f":"округл!$K$87","v":0},{"$f":"округл!$L$87","v":0},{"$f":"округл!$M$87","v":0},{"$f":"округл!$N$87","v":0},{"$f":"округл!$O$87","v":0},{"$f":"округл!$P$87","v":0},{"$f":"округл!$Q$87","v":0},{"$f":"округл!$R$87","v":0},{"$f":"округл!$S$87","v":0},{"$f":"округл!$T$87","v":0},{"$f":"округл!$U$87","v":0},{"$f":"округл!$V$87","v":0},{"$f":"округл!$W$87","v":0},{"$f":"округл!$X$87","v":0},{"$f":"округл!$Y$87","v":0},{"$f":"округл!$Z$87","v":0},{"$f":"округл!$AA$87","v":0},{"$f":"округл!$AB$87","v":0},{"$f":"округл!$AC$87","v":0},{"$f":"округл!$AD$87","v":0},{"$f":"округл!$AE$87","v":0},{"$f":"округл!$AF$87","v":0}]
[23,{"$f":"округл!$B$88","v":0},{"$f":"округл!$C$88","v":0},{"$f":"округл!$D$88","v":0},{"$f":"округл!$E$88","v":0},{"$f":"округл!$F$88","v":0},{"$f":"округл!$G$88","v":0},{"$f":"округл!$H$88","v":0},{"$f":"округл!$I$88","v":0},{"$f":"округл!$J$88","v":0},{"$f":"округл!$K$88","v":0},{"$f":"округл!$L$88","v":0},{"$f":"округл!$M$88","v":0},{"$f":"округл!$N$88","v":0},{"$f":"округл!$O$88","v":0},{"$f":"округл!$P$88","v":0},{"$f":"округл!$Q$88","v":0},{"$f":"округл!$R$88","v":0},{"$f":"округл!$S$88","v":0},{"$f":"округл!$T$88","v":0},{"$f":"округл!$U$88","v":0},{"$f":"округл!$V$88","v":0},{"$f":"округл!$W$88","v":0},{"$f":"округл!$X$88","v":0},{"$f":"округл!$Y$88","v":0},{"$f":"округл!$Z$88","v":0},{"$f":"округл!$AA$88","v":0},{"$f":"округл!$AB$88","v":0},{"$f":"округл!$AC$88","v":0},{"$f":"округл!$AD$88","v":0},{"$f":"округл!$AE$88","v":0},{"$f":"округл!$AF$88","v":0}]
[24,{"$f":"округл!$B$89","v":0},{"$f":"округл!$C$89","v":0},{"$f":"округл!$D$89","v":0},{"$f":"округл!$E$89","v":0},{"$f":"округл!$F$89","v":0},{"$f":"округл!$G$89","v":0},{"$f":"округл!$H$89","v":0},{"$f":"округл!$I$89","v":0},{"$f":"округл!$J$89","v":0},{"$f":"округл!$K$89","v":0},{"$f":"округл!$L$89","v":0},{"$f":"округл!$M$89","v":0},{"$f":"округл!$N$89","v":0},{"$f":"округл!$O$89","v":0},{"$f":"округл!$P$89","v":0},{"$f":"округл!$Q$89","v":0},{"$f":"округл!$R$89","v":0},{"$f":"округл!$S$89","v":0},{"$f":"округл!$T$89","v":0},{"$f":"округл!$U$89","v":0},{"$f":"округл!$V$89","v":0},{"$f":"округл!$W$89","v":0},{"$f":"округл!$X$89","v":0},{"$f":"округл!$Y$89","v":0},{"$f":"округл!$Z$89","v":0},{"$f":"округл!$AA$89","v":0},{"$f":"округл!$AB$89","v":0},{"$f":"округл!$AC$89","v":0},{"$f":"округл!$AD$89","v":0},{"$f":"округл!$AE$89","v":0},{"$f":"округл!$AF$89","v":0}]